BEGIN:VCALENDAR
VERSION:2.0
PRODID:-//Universal Truth Center - ECPv6.15.17//NONSGML v1.0//EN
CALSCALE:GREGORIAN
METHOD:PUBLISH
X-ORIGINAL-URL:https://utruthcenter.org
X-WR-CALDESC:Events for Universal Truth Center
REFRESH-INTERVAL;VALUE=DURATION:PT1H
X-Robots-Tag:noindex
X-PUBLISHED-TTL:PT1H
BEGIN:VTIMEZONE
TZID:America/New_York
BEGIN:DAYLIGHT
TZOFFSETFROM:-0500
TZOFFSETTO:-0400
TZNAME:EDT
DTSTART:20220313T070000
END:DAYLIGHT
BEGIN:STANDARD
TZOFFSETFROM:-0400
TZOFFSETTO:-0500
TZNAME:EST
DTSTART:20221106T060000
END:STANDARD
BEGIN:DAYLIGHT
TZOFFSETFROM:-0500
TZOFFSETTO:-0400
TZNAME:EDT
DTSTART:20230312T070000
END:DAYLIGHT
BEGIN:STANDARD
TZOFFSETFROM:-0400
TZOFFSETTO:-0500
TZNAME:EST
DTSTART:20231105T060000
END:STANDARD
BEGIN:DAYLIGHT
TZOFFSETFROM:-0500
TZOFFSETTO:-0400
TZNAME:EDT
DTSTART:20240310T070000
END:DAYLIGHT
BEGIN:STANDARD
TZOFFSETFROM:-0400
TZOFFSETTO:-0500
TZNAME:EST
DTSTART:20241103T060000
END:STANDARD
END:VTIMEZONE
BEGIN:VEVENT
DTSTART;TZID=America/New_York:20230916T100000
DTEND;TZID=America/New_York:20230916T140000
DTSTAMP:20260422T051627
CREATED:20230911T012507Z
LAST-MODIFIED:20230911T012507Z
UID:10000891-1694858400-1694872800@utruthcenter.org
SUMMARY:MENTAL HEALTH CHECK-IN
DESCRIPTION:Service Ministry Presents:\nMENTAL HEALTH CHECK-IN\nIt is time for a mental health check-in! Self-discover\, know the signs/symptoms\, determine how\, and gain a better understanding through your God-given gifts\, skills\, and talents that will expand\, support\, and manage your mental health and emotional capacities. \n\n  \n \nGuileine F. Kraft\, PhD\, LCSW-C\nLicensed Clinician & President\, \nVuTech Online – Therapy\nP:  413:216.9683\nE:  therapy@vutech.world
URL:https://utruthcenter.org/event/mental-health-check-in/
LOCATION:Online and/or In-person event\, 11380 NW 37th Avenue\, Miami Gardens\, FL\, 33056\, United States
CATEGORIES:Events,Workshop
ATTACH;FMTTYPE=image/jpeg:https://utruthcenter.org/wp-content/uploads/2023/09/UTC-MentalHealth_Checkin-CalArt.jpg
END:VEVENT
END:VCALENDAR