BEGIN:VCALENDAR
VERSION:2.0
PRODID:-//Universal Truth Center - ECPv6.15.17//NONSGML v1.0//EN
CALSCALE:GREGORIAN
METHOD:PUBLISH
X-WR-CALNAME:Universal Truth Center
X-ORIGINAL-URL:https://utruthcenter.org
X-WR-CALDESC:Events for Universal Truth Center
REFRESH-INTERVAL;VALUE=DURATION:PT1H
X-Robots-Tag:noindex
X-PUBLISHED-TTL:PT1H
BEGIN:VTIMEZONE
TZID:America/New_York
BEGIN:DAYLIGHT
TZOFFSETFROM:-0500
TZOFFSETTO:-0400
TZNAME:EDT
DTSTART:20200308T070000
END:DAYLIGHT
BEGIN:STANDARD
TZOFFSETFROM:-0400
TZOFFSETTO:-0500
TZNAME:EST
DTSTART:20201101T060000
END:STANDARD
BEGIN:DAYLIGHT
TZOFFSETFROM:-0500
TZOFFSETTO:-0400
TZNAME:EDT
DTSTART:20210314T070000
END:DAYLIGHT
BEGIN:STANDARD
TZOFFSETFROM:-0400
TZOFFSETTO:-0500
TZNAME:EST
DTSTART:20211107T060000
END:STANDARD
BEGIN:DAYLIGHT
TZOFFSETFROM:-0500
TZOFFSETTO:-0400
TZNAME:EDT
DTSTART:20220313T070000
END:DAYLIGHT
BEGIN:STANDARD
TZOFFSETFROM:-0400
TZOFFSETTO:-0500
TZNAME:EST
DTSTART:20221106T060000
END:STANDARD
END:VTIMEZONE
BEGIN:VEVENT
DTSTART;TZID=America/New_York:20211212T100000
DTEND;TZID=America/New_York:20211212T123000
DTSTAMP:20260422T220307
CREATED:20211201T191252Z
LAST-MODIFIED:20211201T191320Z
UID:10000595-1639303200-1639312200@utruthcenter.org
SUMMARY:The Sounds of Peace
DESCRIPTION:THEME: Level Up The Sounds of Christmas \n\nLESSON TITLE: \nThe Sounds of Peace\n\nTEACHER: \n \nRev. Charles M. Taylor\n\nRESPONSIVE READING: \nDaily Inspiration Pg. 00 \n\nSCRIPTURE: \nLuke 2:14 \n\nColor: Red\nPower: Life\nDisciple: Judas\nWomen of the Chalice: Rahab\nPhysical Location: Generative Function\nMinistry: Universal Academy \n\n 
URL:https://utruthcenter.org/event/the-sounds-of-peace/
LOCATION:UTC\, 21310 NW 37th Avenue\, Miami Gardens\, FL\, 33056
CATEGORIES:Events,Worship
ATTACH;FMTTYPE=image/jpeg:https://utruthcenter.org/wp-content/uploads/2021/12/UTC_Dec2021_lesson-CalArt.jpg
GEO:25.9696213;-80.2633696
X-APPLE-STRUCTURED-LOCATION;VALUE=URI;X-ADDRESS=UTC 21310 NW 37th Avenue Miami Gardens FL 33056;X-APPLE-RADIUS=500;X-TITLE=21310 NW 37th Avenue:geo:-80.2633696,25.9696213
END:VEVENT
BEGIN:VEVENT
DTSTART;TZID=America/New_York:20211205T100000
DTEND;TZID=America/New_York:20211205T123000
DTSTAMP:20260422T220307
CREATED:20211201T191050Z
LAST-MODIFIED:20211201T191050Z
UID:10000594-1638698400-1638707400@utruthcenter.org
SUMMARY:The Sounds of Joy
DESCRIPTION:THEME: Level Up The Sounds of Christmas \n\nLESSON TITLE: \nThe Sounds of Joy\n\nTEACHER: \n \nRev. Charles M. Taylor\n\nRESPONSIVE READING: \nDaily Inspiration Pg. 00 \n\nSCRIPTURE: \nLuke 2:9-10 \n\nColor: Red\nPower: Life\nDisciple: Judas\nWomen of the Chalice: Rahab\nPhysical Location: Generative Function\nMinistry: Universal Academy \n\n 
URL:https://utruthcenter.org/event/the-sounds-of-joy/
LOCATION:UTC\, 21310 NW 37th Avenue\, Miami Gardens\, FL\, 33056
CATEGORIES:Events,Worship
ATTACH;FMTTYPE=image/jpeg:https://utruthcenter.org/wp-content/uploads/2021/12/UTC_Dec2021_lesson-CalArt.jpg
GEO:25.9696213;-80.2633696
X-APPLE-STRUCTURED-LOCATION;VALUE=URI;X-ADDRESS=UTC 21310 NW 37th Avenue Miami Gardens FL 33056;X-APPLE-RADIUS=500;X-TITLE=21310 NW 37th Avenue:geo:-80.2633696,25.9696213
END:VEVENT
END:VCALENDAR