BEGIN:VCALENDAR
VERSION:2.0
PRODID:-//Universal Truth Center - ECPv6.15.17//NONSGML v1.0//EN
CALSCALE:GREGORIAN
METHOD:PUBLISH
X-ORIGINAL-URL:https://utruthcenter.org
X-WR-CALDESC:Events for Universal Truth Center
REFRESH-INTERVAL;VALUE=DURATION:PT1H
X-Robots-Tag:noindex
X-PUBLISHED-TTL:PT1H
BEGIN:VTIMEZONE
TZID:America/New_York
BEGIN:DAYLIGHT
TZOFFSETFROM:-0500
TZOFFSETTO:-0400
TZNAME:EDT
DTSTART:20200308T070000
END:DAYLIGHT
BEGIN:STANDARD
TZOFFSETFROM:-0400
TZOFFSETTO:-0500
TZNAME:EST
DTSTART:20201101T060000
END:STANDARD
BEGIN:DAYLIGHT
TZOFFSETFROM:-0500
TZOFFSETTO:-0400
TZNAME:EDT
DTSTART:20210314T070000
END:DAYLIGHT
BEGIN:STANDARD
TZOFFSETFROM:-0400
TZOFFSETTO:-0500
TZNAME:EST
DTSTART:20211107T060000
END:STANDARD
BEGIN:DAYLIGHT
TZOFFSETFROM:-0500
TZOFFSETTO:-0400
TZNAME:EDT
DTSTART:20220313T070000
END:DAYLIGHT
BEGIN:STANDARD
TZOFFSETFROM:-0400
TZOFFSETTO:-0500
TZNAME:EST
DTSTART:20221106T060000
END:STANDARD
BEGIN:DAYLIGHT
TZOFFSETFROM:-0500
TZOFFSETTO:-0400
TZNAME:EDT
DTSTART:20230312T070000
END:DAYLIGHT
BEGIN:STANDARD
TZOFFSETFROM:-0400
TZOFFSETTO:-0500
TZNAME:EST
DTSTART:20231105T060000
END:STANDARD
BEGIN:DAYLIGHT
TZOFFSETFROM:-0500
TZOFFSETTO:-0400
TZNAME:EDT
DTSTART:20240310T070000
END:DAYLIGHT
BEGIN:STANDARD
TZOFFSETFROM:-0400
TZOFFSETTO:-0500
TZNAME:EST
DTSTART:20241103T060000
END:STANDARD
BEGIN:DAYLIGHT
TZOFFSETFROM:-0500
TZOFFSETTO:-0400
TZNAME:EDT
DTSTART:20250309T070000
END:DAYLIGHT
BEGIN:STANDARD
TZOFFSETFROM:-0400
TZOFFSETTO:-0500
TZNAME:EST
DTSTART:20251102T060000
END:STANDARD
BEGIN:DAYLIGHT
TZOFFSETFROM:-0500
TZOFFSETTO:-0400
TZNAME:EDT
DTSTART:20260308T070000
END:DAYLIGHT
BEGIN:STANDARD
TZOFFSETFROM:-0400
TZOFFSETTO:-0500
TZNAME:EST
DTSTART:20261101T060000
END:STANDARD
END:VTIMEZONE
BEGIN:VEVENT
DTSTART;TZID=America/New_York:20251228T100000
DTEND;TZID=America/New_York:20251228T123000
DTSTAMP:20260422T182635
CREATED:20251129T160537Z
LAST-MODIFIED:20251129T160537Z
UID:10001276-1766916000-1766925000@utruthcenter.org
SUMMARY:Birthing Love
DESCRIPTION:THEME: Birthing the Soul of Christmas\n\nLESSON TITLE:\nBirthing Love\n\nTEACHER: \n \nRev. Charles Taylor\n\nRESPONSIVE READING: page 84 \n\nSCRIPTURE: \nMark 12:30-31 \n\nColor: Red\nPower: Life\nDisciple: Judas\nWomen of the Chalice: Rahab\nPhysical Location: Generative Function\nMinistry: Universal Academy
URL:https://utruthcenter.org/event/birthing-love/
LOCATION:UTC\, 21310 NW 37th Avenue\, Miami Gardens\, FL\, 33056
CATEGORIES:Events,Worship
ATTACH;FMTTYPE=image/jpeg:https://utruthcenter.org/wp-content/uploads/2025/11/DEC-2025-UTC-CalArt.jpg
GEO:25.9696213;-80.2633696
X-APPLE-STRUCTURED-LOCATION;VALUE=URI;X-ADDRESS=UTC 21310 NW 37th Avenue Miami Gardens FL 33056;X-APPLE-RADIUS=500;X-TITLE=21310 NW 37th Avenue:geo:-80.2633696,25.9696213
END:VEVENT
BEGIN:VEVENT
DTSTART;TZID=America/New_York:20251221T100000
DTEND;TZID=America/New_York:20251221T123000
DTSTAMP:20260422T182635
CREATED:20251129T160758Z
LAST-MODIFIED:20251129T160758Z
UID:10001277-1766311200-1766320200@utruthcenter.org
SUMMARY:Birthing the Music in Your Heart
DESCRIPTION:THEME: Birthing the Soul of Christmas\n\nLESSON TITLE:\nBirthing the Music in Your Heart\n\nTEACHER: \n \nRev. Tawnicia Rowan\n\nRESPONSIVE READING: page 82 \n\nSCRIPTURE: \nLuke 2:8-14 \n\nColor: Red\nPower: Life\nDisciple: Judas\nWomen of the Chalice: Rahab\nPhysical Location: Generative Function\nMinistry: Universal Academy
URL:https://utruthcenter.org/event/birthing-the-music-in-your-heart/
LOCATION:UTC\, 21310 NW 37th Avenue\, Miami Gardens\, FL\, 33056
CATEGORIES:Events,Worship
ATTACH;FMTTYPE=image/jpeg:https://utruthcenter.org/wp-content/uploads/2025/11/DEC-2025-UTC-CalArt.jpg
GEO:25.9696213;-80.2633696
X-APPLE-STRUCTURED-LOCATION;VALUE=URI;X-ADDRESS=UTC 21310 NW 37th Avenue Miami Gardens FL 33056;X-APPLE-RADIUS=500;X-TITLE=21310 NW 37th Avenue:geo:-80.2633696,25.9696213
END:VEVENT
BEGIN:VEVENT
DTSTART;TZID=America/New_York:20251214T100000
DTEND;TZID=America/New_York:20251214T123000
DTSTAMP:20260422T182635
CREATED:20251129T160135Z
LAST-MODIFIED:20251129T160135Z
UID:10001275-1765706400-1765715400@utruthcenter.org
SUMMARY:Birthing Mastery & Transformation
DESCRIPTION:THEME: Birthing the Soul of Christmas\n\nLESSON TITLE:\nBirthing Mastery & Transformation\n\nTEACHER: \n \nRev. Charles Taylor\n\nRESPONSIVE READING: page 81 \n\nSCRIPTURE: \nRomans 12:2 \n\nColor: Red\nPower: Life\nDisciple: Judas\nWomen of the Chalice: Rahab\nPhysical Location: Generative Function\nMinistry: Universal Academy
URL:https://utruthcenter.org/event/birthing-mastery-transformation/
LOCATION:UTC\, 21310 NW 37th Avenue\, Miami Gardens\, FL\, 33056
CATEGORIES:Events,Worship
ATTACH;FMTTYPE=image/jpeg:https://utruthcenter.org/wp-content/uploads/2025/11/DEC-2025-UTC-CalArt.jpg
GEO:25.9696213;-80.2633696
X-APPLE-STRUCTURED-LOCATION;VALUE=URI;X-ADDRESS=UTC 21310 NW 37th Avenue Miami Gardens FL 33056;X-APPLE-RADIUS=500;X-TITLE=21310 NW 37th Avenue:geo:-80.2633696,25.9696213
END:VEVENT
BEGIN:VEVENT
DTSTART;TZID=America/New_York:20251207T100000
DTEND;TZID=America/New_York:20251207T123000
DTSTAMP:20260422T182635
CREATED:20251129T155659Z
LAST-MODIFIED:20251129T155913Z
UID:10001273-1765101600-1765110600@utruthcenter.org
SUMMARY:Birthing Jesus: Do You Recognize Jesus?
DESCRIPTION:THEME: Birthing the Soul of Christmas\n\nLESSON TITLE:\nBirthing Jesus: Do You Recognize Jesus?\n\nTEACHER: \n \nRev. Charles Taylor\n\nRESPONSIVE READING: page 86 \n\nSCRIPTURE: \nJohn 14:9 \n\nColor: Red\nPower: Life\nDisciple: Judas\nWomen of the Chalice: Rahab\nPhysical Location: Generative Function\nMinistry: Universal Academy
URL:https://utruthcenter.org/event/birthing-jesus-do-you-recognize-jesus/
LOCATION:UTC\, 21310 NW 37th Avenue\, Miami Gardens\, FL\, 33056
CATEGORIES:Events,Worship
ATTACH;FMTTYPE=image/jpeg:https://utruthcenter.org/wp-content/uploads/2025/11/DEC-2025-UTC-CalArt.jpg
GEO:25.9696213;-80.2633696
X-APPLE-STRUCTURED-LOCATION;VALUE=URI;X-ADDRESS=UTC 21310 NW 37th Avenue Miami Gardens FL 33056;X-APPLE-RADIUS=500;X-TITLE=21310 NW 37th Avenue:geo:-80.2633696,25.9696213
END:VEVENT
BEGIN:VEVENT
DTSTART;TZID=America/New_York:20241229T100000
DTEND;TZID=America/New_York:20241229T123000
DTSTAMP:20260422T182635
CREATED:20241126T183332Z
LAST-MODIFIED:20241126T183332Z
UID:10001155-1735466400-1735475400@utruthcenter.org
SUMMARY:The Gift of Life
DESCRIPTION:THEME: The Gift of Awakening\n\nLESSON TITLE:\nThe Gift of Life\n\nTEACHER: \n \nRev. Charles M. Taylor\n\nRESPONSIVE READING: \nDaily Inspiration Pg. x \n\nSCRIPTURE: \nJohn 10:10 \n\nColor: Red\nPower: Life\nDisciple: Judas\nWomen of the Chalice: Rahab\nPhysical Location: Generative Function\nMinistry: Universal Academy
URL:https://utruthcenter.org/event/the-gift-of-life/
LOCATION:UTC\, 21310 NW 37th Avenue\, Miami Gardens\, FL\, 33056
CATEGORIES:Events,Worship
ATTACH;FMTTYPE=image/jpeg:https://utruthcenter.org/wp-content/uploads/2024/11/Dec2024-final-UTC-CalArt.jpg
GEO:25.9696213;-80.2633696
X-APPLE-STRUCTURED-LOCATION;VALUE=URI;X-ADDRESS=UTC 21310 NW 37th Avenue Miami Gardens FL 33056;X-APPLE-RADIUS=500;X-TITLE=21310 NW 37th Avenue:geo:-80.2633696,25.9696213
END:VEVENT
BEGIN:VEVENT
DTSTART;TZID=America/New_York:20241222T100000
DTEND;TZID=America/New_York:20241222T123000
DTSTAMP:20260422T182635
CREATED:20241126T182726Z
LAST-MODIFIED:20241126T182726Z
UID:10001154-1734861600-1734870600@utruthcenter.org
SUMMARY:The Gift of Music
DESCRIPTION:THEME: The Gift of Awakening\nYOUTH SUNDAY\n\n\nLESSON TITLE: \nThe Gift of Music\n\nTEACHER: \n \nMitchell Walthour\n\nRESPONSIVE READING: \nDaily Inspiration Pg. x \n\nSCRIPTURE: \nPsalm 100:1-2 \n\nColor: Red\nPower: Life\nDisciple: Judas\nWomen of the Chalice: Rahab\nPhysical Location: Generative Function\nMinistry: Universal Academy
URL:https://utruthcenter.org/event/the-gift-of-music/
LOCATION:UTC\, 21310 NW 37th Avenue\, Miami Gardens\, FL\, 33056
CATEGORIES:Events,Worship
ATTACH;FMTTYPE=image/jpeg:https://utruthcenter.org/wp-content/uploads/2024/11/Dec2024-final-UTC-CalArt.jpg
GEO:25.9696213;-80.2633696
X-APPLE-STRUCTURED-LOCATION;VALUE=URI;X-ADDRESS=UTC 21310 NW 37th Avenue Miami Gardens FL 33056;X-APPLE-RADIUS=500;X-TITLE=21310 NW 37th Avenue:geo:-80.2633696,25.9696213
END:VEVENT
BEGIN:VEVENT
DTSTART;TZID=America/New_York:20241215T100000
DTEND;TZID=America/New_York:20241215T123000
DTSTAMP:20260422T182635
CREATED:20241126T180131Z
LAST-MODIFIED:20241126T180131Z
UID:10001153-1734256800-1734265800@utruthcenter.org
SUMMARY:The Gift of Love
DESCRIPTION:THEME: The Gift of Awakening\n\nLESSON TITLE: \nThe Gift of Love\n\nTEACHER: \n \nRev. Shakira Taylor\n\nRESPONSIVE READING: \nDaily Inspiration Pg. x \n\nSCRIPTURE: \n1 John 4:16 \n\nColor: Red\nPower: Life\nDisciple: Judas\nWomen of the Chalice: Rahab\nPhysical Location: Generative Function\nMinistry: Universal Academy
URL:https://utruthcenter.org/event/the-gift-of-love/
LOCATION:UTC\, 21310 NW 37th Avenue\, Miami Gardens\, FL\, 33056
CATEGORIES:Events,Worship
ATTACH;FMTTYPE=image/jpeg:https://utruthcenter.org/wp-content/uploads/2024/11/Dec2024-final-UTC-CalArt.jpg
GEO:25.9696213;-80.2633696
X-APPLE-STRUCTURED-LOCATION;VALUE=URI;X-ADDRESS=UTC 21310 NW 37th Avenue Miami Gardens FL 33056;X-APPLE-RADIUS=500;X-TITLE=21310 NW 37th Avenue:geo:-80.2633696,25.9696213
END:VEVENT
BEGIN:VEVENT
DTSTART;TZID=America/New_York:20241208T100000
DTEND;TZID=America/New_York:20241208T123000
DTSTAMP:20260422T182636
CREATED:20241126T175817Z
LAST-MODIFIED:20241126T180220Z
UID:10001152-1733652000-1733661000@utruthcenter.org
SUMMARY:The Gift of Joy
DESCRIPTION:THEME: The Gift of Awakening\n\nLESSON TITLE: \nThe Gift of Joy\n\nTEACHER: \n \nMichelle Washington\n\nRESPONSIVE READING: \nDaily Inspiration Pg. x \n\nSCRIPTURE: \nPsalm 16:11 \n\nColor: Red\nPower: Life\nDisciple: Judas\nWomen of the Chalice: Rahab\nPhysical Location: Generative Function\nMinistry: Universal Academy
URL:https://utruthcenter.org/event/the-gift-ofjoy/
LOCATION:UTC\, 21310 NW 37th Avenue\, Miami Gardens\, FL\, 33056
CATEGORIES:Events,Worship
ATTACH;FMTTYPE=image/jpeg:https://utruthcenter.org/wp-content/uploads/2024/11/Dec2024-final-UTC-CalArt.jpg
GEO:25.9696213;-80.2633696
X-APPLE-STRUCTURED-LOCATION;VALUE=URI;X-ADDRESS=UTC 21310 NW 37th Avenue Miami Gardens FL 33056;X-APPLE-RADIUS=500;X-TITLE=21310 NW 37th Avenue:geo:-80.2633696,25.9696213
END:VEVENT
BEGIN:VEVENT
DTSTART;TZID=America/New_York:20241201T100000
DTEND;TZID=America/New_York:20241201T123000
DTSTAMP:20260422T182636
CREATED:20241126T175625Z
LAST-MODIFIED:20241126T175625Z
UID:10001151-1733047200-1733056200@utruthcenter.org
SUMMARY:The Gift of Peace
DESCRIPTION:THEME: The Gift of Awakening\n\nLESSON TITLE: \nThe Gift of Peace\n\nTEACHER: \n \nRev. Tawnicia Rowan\n\nRESPONSIVE READING: \nDaily Inspiration Pg. x \n\nSCRIPTURE: \nIsaiah 9:6 \n\nColor: Red\nPower: Life\nDisciple: Judas\nWomen of the Chalice: Rahab\nPhysical Location: Generative Function\nMinistry: Universal Academy
URL:https://utruthcenter.org/event/the-gift-of-peace-2/
LOCATION:UTC\, 21310 NW 37th Avenue\, Miami Gardens\, FL\, 33056
CATEGORIES:Events,Worship
ATTACH;FMTTYPE=image/jpeg:https://utruthcenter.org/wp-content/uploads/2024/11/Dec2024-final-UTC-CalArt.jpg
GEO:25.9696213;-80.2633696
X-APPLE-STRUCTURED-LOCATION;VALUE=URI;X-ADDRESS=UTC 21310 NW 37th Avenue Miami Gardens FL 33056;X-APPLE-RADIUS=500;X-TITLE=21310 NW 37th Avenue:geo:-80.2633696,25.9696213
END:VEVENT
BEGIN:VEVENT
DTSTART;TZID=America/New_York:20231231T100000
DTEND;TZID=America/New_York:20231231T123000
DTSTAMP:20260422T182636
CREATED:20231029T210148Z
LAST-MODIFIED:20231211T013812Z
UID:10000900-1704016800-1704025800@utruthcenter.org
SUMMARY:Let It Flow
DESCRIPTION:THEME: The Spirit of Christmas: Let It Flow\n\nHAPPY NEW YEARS EVE!\n\nLESSON TITLE: \nLet It Flow\n\nTEACHER: \n \nRev. Charles Taylor\n\nRESPONSIVE READING: \nDaily Inspiration Pg. 77 \n\nSCRIPTURE: \nMatthew 6:1-4 \n\nColor: Red\nPower: Life\nDisciple: Judas\nWomen of the Chalice: Rahab\nPhysical Location: Generative Function\nMinistry: Universal Academy \n\n 
URL:https://utruthcenter.org/event/let-it-flow/
LOCATION:UTC\, 21310 NW 37th Avenue\, Miami Gardens\, FL\, 33056
CATEGORIES:Events,Worship
ATTACH;FMTTYPE=image/jpeg:https://utruthcenter.org/wp-content/uploads/2023/10/December2023_final-UTC-CalArt.jpg
GEO:25.9696213;-80.2633696
X-APPLE-STRUCTURED-LOCATION;VALUE=URI;X-ADDRESS=UTC 21310 NW 37th Avenue Miami Gardens FL 33056;X-APPLE-RADIUS=500;X-TITLE=21310 NW 37th Avenue:geo:-80.2633696,25.9696213
END:VEVENT
BEGIN:VEVENT
DTSTART;TZID=America/New_York:20231224T100000
DTEND;TZID=America/New_York:20231224T123000
DTSTAMP:20260422T182636
CREATED:20231029T205741Z
LAST-MODIFIED:20231211T013647Z
UID:10000898-1703412000-1703421000@utruthcenter.org
SUMMARY:Let Peace Flow
DESCRIPTION:THEME: The Spirit of Christmas: Let It Flow\nChristmas Eve Candlelight Service \n& Youth Sunday\n\nLESSON TITLE: \nLet Peace Flow\n\nTEACHER: \n \nRev. Tawnicia Rowan\n\nRESPONSIVE READING: \nDaily Inspiration Pg. 67 \n\nSCRIPTURE: \nIsaiah 9:6 \n\nColor: Red\nPower: Life\nDisciple: Judas\nWomen of the Chalice: Rahab\nPhysical Location: Generative Function\nMinistry: Universal Academy \n\n 
URL:https://utruthcenter.org/event/let-peace-flow-2/
LOCATION:UTC\, 21310 NW 37th Avenue\, Miami Gardens\, FL\, 33056
CATEGORIES:Events,Worship
ATTACH;FMTTYPE=image/jpeg:https://utruthcenter.org/wp-content/uploads/2023/10/UTC_CHRISTMAS_CONCERT2023-CalArt.jpg
GEO:25.9696213;-80.2633696
X-APPLE-STRUCTURED-LOCATION;VALUE=URI;X-ADDRESS=UTC 21310 NW 37th Avenue Miami Gardens FL 33056;X-APPLE-RADIUS=500;X-TITLE=21310 NW 37th Avenue:geo:-80.2633696,25.9696213
END:VEVENT
BEGIN:VEVENT
DTSTART;TZID=America/New_York:20231217T100000
DTEND;TZID=America/New_York:20231217T123000
DTSTAMP:20260422T182636
CREATED:20231029T210022Z
LAST-MODIFIED:20231117T225134Z
UID:10000899-1702807200-1702816200@utruthcenter.org
SUMMARY:Let Music Flow
DESCRIPTION:THEME: The Spirit of Christmas: Let It Flow\nCHRISTMAS CONCERT\n\nLESSON TITLE: \nLet Music Flow\n\nTEACHER: \n \nRev. Charles Taylor\n\nRESPONSIVE READING: \nDaily Inspiration Pg. 67 \n\nSCRIPTURE: \nPsalm 104:33 \n\nColor: Red\nPower: Life\nDisciple: Judas\nWomen of the Chalice: Rahab\nPhysical Location: Generative Function\nMinistry: Universal Academy \n\n 
URL:https://utruthcenter.org/event/let-music-flow/
LOCATION:UTC\, 21310 NW 37th Avenue\, Miami Gardens\, FL\, 33056
CATEGORIES:Events,Worship
ATTACH;FMTTYPE=image/jpeg:https://utruthcenter.org/wp-content/uploads/2023/10/xmas_concert2023-CalArt.jpg
GEO:25.9696213;-80.2633696
X-APPLE-STRUCTURED-LOCATION;VALUE=URI;X-ADDRESS=UTC 21310 NW 37th Avenue Miami Gardens FL 33056;X-APPLE-RADIUS=500;X-TITLE=21310 NW 37th Avenue:geo:-80.2633696,25.9696213
END:VEVENT
BEGIN:VEVENT
DTSTART;TZID=America/New_York:20231210T100000
DTEND;TZID=America/New_York:20231210T123000
DTSTAMP:20260422T182636
CREATED:20231029T205555Z
LAST-MODIFIED:20231110T152518Z
UID:10000897-1702202400-1702211400@utruthcenter.org
SUMMARY:Let Joy Flow
DESCRIPTION:THEME: The Spirit of Christmas: Let It Flow\n\nLESSON TITLE: \nLet Joy Flow\n\nTEACHER: \n \nMitchell Walthour\n\nRESPONSIVE READING: \nDaily Inspiration Pg. 72 \n\nSCRIPTURE: \nGalatians 5:22-23 \n\nColor: Red\nPower: Life\nDisciple: Judas\nWomen of the Chalice: Rahab\nPhysical Location: Generative Function\nMinistry: Universal Academy \n\n 
URL:https://utruthcenter.org/event/let-joy-flow-2/
LOCATION:UTC\, 21310 NW 37th Avenue\, Miami Gardens\, FL\, 33056
CATEGORIES:Events,Worship
ATTACH;FMTTYPE=image/jpeg:https://utruthcenter.org/wp-content/uploads/2023/10/December2023_final-UTC-CalArt.jpg
GEO:25.9696213;-80.2633696
X-APPLE-STRUCTURED-LOCATION;VALUE=URI;X-ADDRESS=UTC 21310 NW 37th Avenue Miami Gardens FL 33056;X-APPLE-RADIUS=500;X-TITLE=21310 NW 37th Avenue:geo:-80.2633696,25.9696213
END:VEVENT
BEGIN:VEVENT
DTSTART;TZID=America/New_York:20231203T100000
DTEND;TZID=America/New_York:20231203T123000
DTSTAMP:20260422T182636
CREATED:20231029T200307Z
LAST-MODIFIED:20231110T152425Z
UID:10000896-1701597600-1701606600@utruthcenter.org
SUMMARY:Let Love Flow
DESCRIPTION:THEME: The Spirit of Christmas: Let It Flow\n\nLESSON TITLE: \nLet Love Flow\n\nTEACHER: \n \nShakira Taylor\n\nRESPONSIVE READING: \nDaily Inspiration Pg. 68 \n\nSCRIPTURE: \n1 Corinthians 13:13 \n\nColor: Red\nPower: Life\nDisciple: Judas\nWomen of the Chalice: Rahab\nPhysical Location: Generative Function\nMinistry: Universal Academy \n\n 
URL:https://utruthcenter.org/event/let-love-flow/
LOCATION:UTC\, 21310 NW 37th Avenue\, Miami Gardens\, FL\, 33056
CATEGORIES:Events,Worship
ATTACH;FMTTYPE=image/jpeg:https://utruthcenter.org/wp-content/uploads/2023/10/December2023_final-UTC-CalArt.jpg
GEO:25.9696213;-80.2633696
X-APPLE-STRUCTURED-LOCATION;VALUE=URI;X-ADDRESS=UTC 21310 NW 37th Avenue Miami Gardens FL 33056;X-APPLE-RADIUS=500;X-TITLE=21310 NW 37th Avenue:geo:-80.2633696,25.9696213
END:VEVENT
BEGIN:VEVENT
DTSTART;TZID=America/New_York:20221225T083000
DTEND;TZID=America/New_York:20221225T103000
DTSTAMP:20260422T182636
CREATED:20221030T151037Z
LAST-MODIFIED:20221108T174005Z
UID:10000745-1671957000-1671964200@utruthcenter.org
SUMMARY:The Gift of Light
DESCRIPTION:THEME: You Are The Gift\n\n  \n\n8:30am Candlelight Service • Christmas Day • Youth Sunday\n\nLESSON TITLE: \nThe Gift of Light\n\nTEACHER: \n \nRev. Charles M. Taylor\n\nRESPONSIVE READING: \nDaily Inspiration Pg. 64 \n\nSCRIPTURE: \nJohn 1:1-9 \n\nColor: Red\nPower: Life\nDisciple: Judas\nWomen of the Chalice: Rahab\nPhysical Location: Generative Function\nMinistry: Universal Academy \n\n 
URL:https://utruthcenter.org/event/let-your-light-shine/
LOCATION:UTC\, 21310 NW 37th Avenue\, Miami Gardens\, FL\, 33056
CATEGORIES:Events,Worship
ATTACH;FMTTYPE=image/jpeg:https://utruthcenter.org/wp-content/uploads/2022/10/UTC_xmas_candlelightService_CalArt.jpg
GEO:25.9696213;-80.2633696
X-APPLE-STRUCTURED-LOCATION;VALUE=URI;X-ADDRESS=UTC 21310 NW 37th Avenue Miami Gardens FL 33056;X-APPLE-RADIUS=500;X-TITLE=21310 NW 37th Avenue:geo:-80.2633696,25.9696213
END:VEVENT
BEGIN:VEVENT
DTSTART;TZID=America/New_York:20221218T100000
DTEND;TZID=America/New_York:20221218T123000
DTSTAMP:20260422T182636
CREATED:20221030T144418Z
LAST-MODIFIED:20221108T173846Z
UID:10000743-1671357600-1671366600@utruthcenter.org
SUMMARY:The Gift of Song
DESCRIPTION:THEME: You Are The Gift\n\n\nLESSON TITLE: \nThe Gift of Song\n\nTEACHER: \n \nRev. Charles M. Taylor\n\nRESPONSIVE READING: \nDaily Inspiration Pg. 61 \n\nSCRIPTURE: \nPsalm 96:1-2 \n\nColor: Red\nPower: Life\nDisciple: Judas\nWomen of the Chalice: Rahab\nPhysical Location: Generative Function\nMinistry: Universal Academy \n\n 
URL:https://utruthcenter.org/event/sing-the-song-in-your-heart/
LOCATION:UTC\, 21310 NW 37th Avenue\, Miami Gardens\, FL\, 33056
CATEGORIES:Events,Worship
ATTACH;FMTTYPE=image/jpeg:https://utruthcenter.org/wp-content/uploads/2022/11/UTC_Decx2022_CalArt.jpg
GEO:25.9696213;-80.2633696
X-APPLE-STRUCTURED-LOCATION;VALUE=URI;X-ADDRESS=UTC 21310 NW 37th Avenue Miami Gardens FL 33056;X-APPLE-RADIUS=500;X-TITLE=21310 NW 37th Avenue:geo:-80.2633696,25.9696213
END:VEVENT
BEGIN:VEVENT
DTSTART;TZID=America/New_York:20221211T100000
DTEND;TZID=America/New_York:20221211T123000
DTSTAMP:20260422T182636
CREATED:20221030T144108Z
LAST-MODIFIED:20221104T232130Z
UID:10000742-1670752800-1670761800@utruthcenter.org
SUMMARY:The Gift of Joy
DESCRIPTION:THEME: You Are The Gift\n\n\nLESSON TITLE: \nThe Gift of Joy\n\nTEACHER: \n \nMyra Terrelonge\n\nRESPONSIVE READING: \nDaily Inspiration Pg. 75 \n\nSCRIPTURE: \nLuke 1:39-45 \n\nColor: Red\nPower: Life\nDisciple: Judas\nWomen of the Chalice: Rahab\nPhysical Location: Generative Function\nMinistry: Universal Academy \n\n 
URL:https://utruthcenter.org/event/the-gift-of-joy/
LOCATION:UTC\, 21310 NW 37th Avenue\, Miami Gardens\, FL\, 33056
CATEGORIES:Events,Worship
ATTACH;FMTTYPE=image/jpeg:https://utruthcenter.org/wp-content/uploads/2022/11/UTC_Decx2022_CalArt.jpg
GEO:25.9696213;-80.2633696
X-APPLE-STRUCTURED-LOCATION;VALUE=URI;X-ADDRESS=UTC 21310 NW 37th Avenue Miami Gardens FL 33056;X-APPLE-RADIUS=500;X-TITLE=21310 NW 37th Avenue:geo:-80.2633696,25.9696213
END:VEVENT
BEGIN:VEVENT
DTSTART;TZID=America/New_York:20221204T100000
DTEND;TZID=America/New_York:20221204T123000
DTSTAMP:20260422T182636
CREATED:20221030T143620Z
LAST-MODIFIED:20221104T232159Z
UID:10000741-1670148000-1670157000@utruthcenter.org
SUMMARY:The Gift of Peace
DESCRIPTION:THEME: You Are The Gift\n\n\nLESSON TITLE: \nThe Gift of Peace\n\nTEACHER: \n \nRev. Jacqueline Hazel\n\nRESPONSIVE READING: \nDaily Inspiration Pg. 72 \n\nSCRIPTURE: \nLuke 2:1-14 \n\nColor: Red\nPower: Life\nDisciple: Judas\nWomen of the Chalice: Rahab\nPhysical Location: Generative Function\nMinistry: Universal Academy \n\n 
URL:https://utruthcenter.org/event/the-gift-of-peace/
LOCATION:UTC\, 21310 NW 37th Avenue\, Miami Gardens\, FL\, 33056
CATEGORIES:Events,Worship
ATTACH;FMTTYPE=image/jpeg:https://utruthcenter.org/wp-content/uploads/2022/11/UTC_Decx2022_CalArt.jpg
GEO:25.9696213;-80.2633696
X-APPLE-STRUCTURED-LOCATION;VALUE=URI;X-ADDRESS=UTC 21310 NW 37th Avenue Miami Gardens FL 33056;X-APPLE-RADIUS=500;X-TITLE=21310 NW 37th Avenue:geo:-80.2633696,25.9696213
END:VEVENT
BEGIN:VEVENT
DTSTART;TZID=America/New_York:20211226T100000
DTEND;TZID=America/New_York:20211226T123000
DTSTAMP:20260422T182636
CREATED:20211201T191518Z
LAST-MODIFIED:20211201T191518Z
UID:10000596-1640512800-1640521800@utruthcenter.org
SUMMARY:The Sounds of Possibilities
DESCRIPTION:THEME: Level Up The Sounds of Christmas\nYOUTH SUNDAY\n\nLESSON TITLE: \nThe Sounds of Possibilities\n\nTEACHER: \n \nRev. Charles M. Taylor\n\nRESPONSIVE READING: \nDaily Inspiration Pg. 00 \n\nSCRIPTURE: \nLuke 1:26-38 \n\nColor: Red\nPower: Life\nDisciple: Judas\nWomen of the Chalice: Rahab\nPhysical Location: Generative Function\nMinistry: Universal Academy \n\n 
URL:https://utruthcenter.org/event/the-sounds-of-possibilities/
LOCATION:UTC\, 21310 NW 37th Avenue\, Miami Gardens\, FL\, 33056
CATEGORIES:Events,Worship
ATTACH;FMTTYPE=image/jpeg:https://utruthcenter.org/wp-content/uploads/2021/12/UTC_Dec2021_lesson-CalArt.jpg
GEO:25.9696213;-80.2633696
X-APPLE-STRUCTURED-LOCATION;VALUE=URI;X-ADDRESS=UTC 21310 NW 37th Avenue Miami Gardens FL 33056;X-APPLE-RADIUS=500;X-TITLE=21310 NW 37th Avenue:geo:-80.2633696,25.9696213
END:VEVENT
BEGIN:VEVENT
DTSTART;TZID=America/New_York:20211219T100000
DTEND;TZID=America/New_York:20211219T123000
DTSTAMP:20260422T182636
CREATED:20211201T192151Z
LAST-MODIFIED:20211201T192406Z
UID:10000597-1639908000-1639917000@utruthcenter.org
SUMMARY:The Sounds of Christmas
DESCRIPTION:THEME: Level Up The Sounds of Christmas\n\n\nLESSON TITLE: \nThe Sounds of Christmas\n\nPLATFORM CHAIRPERSONS: \n \nRev. Charles M. Taylor\n \nShakira Taylor\n \nStephanie Major\n\nRESPONSIVE READING: \nDaily Inspiration Pg. 00 \n\nSCRIPTURE: \nTBD \n\nColor: Red\nPower: Life\nDisciple: Judas\nWomen of the Chalice: Rahab\nPhysical Location: Generative Function\nMinistry: Universal Academy \n\n 
URL:https://utruthcenter.org/event/the-sounds-of-christmas/
LOCATION:UTC\, 21310 NW 37th Avenue\, Miami Gardens\, FL\, 33056
CATEGORIES:Events,Worship
ATTACH;FMTTYPE=image/jpeg:https://utruthcenter.org/wp-content/uploads/2021/12/UTC_Dec2021_lesson-CalArt.jpg
GEO:25.9696213;-80.2633696
X-APPLE-STRUCTURED-LOCATION;VALUE=URI;X-ADDRESS=UTC 21310 NW 37th Avenue Miami Gardens FL 33056;X-APPLE-RADIUS=500;X-TITLE=21310 NW 37th Avenue:geo:-80.2633696,25.9696213
END:VEVENT
BEGIN:VEVENT
DTSTART;TZID=America/New_York:20211212T100000
DTEND;TZID=America/New_York:20211212T123000
DTSTAMP:20260422T182636
CREATED:20211201T191252Z
LAST-MODIFIED:20211201T191320Z
UID:10000595-1639303200-1639312200@utruthcenter.org
SUMMARY:The Sounds of Peace
DESCRIPTION:THEME: Level Up The Sounds of Christmas \n\nLESSON TITLE: \nThe Sounds of Peace\n\nTEACHER: \n \nRev. Charles M. Taylor\n\nRESPONSIVE READING: \nDaily Inspiration Pg. 00 \n\nSCRIPTURE: \nLuke 2:14 \n\nColor: Red\nPower: Life\nDisciple: Judas\nWomen of the Chalice: Rahab\nPhysical Location: Generative Function\nMinistry: Universal Academy \n\n 
URL:https://utruthcenter.org/event/the-sounds-of-peace/
LOCATION:UTC\, 21310 NW 37th Avenue\, Miami Gardens\, FL\, 33056
CATEGORIES:Events,Worship
ATTACH;FMTTYPE=image/jpeg:https://utruthcenter.org/wp-content/uploads/2021/12/UTC_Dec2021_lesson-CalArt.jpg
GEO:25.9696213;-80.2633696
X-APPLE-STRUCTURED-LOCATION;VALUE=URI;X-ADDRESS=UTC 21310 NW 37th Avenue Miami Gardens FL 33056;X-APPLE-RADIUS=500;X-TITLE=21310 NW 37th Avenue:geo:-80.2633696,25.9696213
END:VEVENT
BEGIN:VEVENT
DTSTART;TZID=America/New_York:20211205T100000
DTEND;TZID=America/New_York:20211205T123000
DTSTAMP:20260422T182636
CREATED:20211201T191050Z
LAST-MODIFIED:20211201T191050Z
UID:10000594-1638698400-1638707400@utruthcenter.org
SUMMARY:The Sounds of Joy
DESCRIPTION:THEME: Level Up The Sounds of Christmas \n\nLESSON TITLE: \nThe Sounds of Joy\n\nTEACHER: \n \nRev. Charles M. Taylor\n\nRESPONSIVE READING: \nDaily Inspiration Pg. 00 \n\nSCRIPTURE: \nLuke 2:9-10 \n\nColor: Red\nPower: Life\nDisciple: Judas\nWomen of the Chalice: Rahab\nPhysical Location: Generative Function\nMinistry: Universal Academy \n\n 
URL:https://utruthcenter.org/event/the-sounds-of-joy/
LOCATION:UTC\, 21310 NW 37th Avenue\, Miami Gardens\, FL\, 33056
CATEGORIES:Events,Worship
ATTACH;FMTTYPE=image/jpeg:https://utruthcenter.org/wp-content/uploads/2021/12/UTC_Dec2021_lesson-CalArt.jpg
GEO:25.9696213;-80.2633696
X-APPLE-STRUCTURED-LOCATION;VALUE=URI;X-ADDRESS=UTC 21310 NW 37th Avenue Miami Gardens FL 33056;X-APPLE-RADIUS=500;X-TITLE=21310 NW 37th Avenue:geo:-80.2633696,25.9696213
END:VEVENT
END:VCALENDAR