BEGIN:VCALENDAR
VERSION:2.0
PRODID:-//Universal Truth Center - ECPv6.15.17//NONSGML v1.0//EN
CALSCALE:GREGORIAN
METHOD:PUBLISH
X-WR-CALNAME:Universal Truth Center
X-ORIGINAL-URL:https://utruthcenter.org
X-WR-CALDESC:Events for Universal Truth Center
REFRESH-INTERVAL;VALUE=DURATION:PT1H
X-Robots-Tag:noindex
X-PUBLISHED-TTL:PT1H
BEGIN:VTIMEZONE
TZID:America/New_York
BEGIN:DAYLIGHT
TZOFFSETFROM:-0500
TZOFFSETTO:-0400
TZNAME:EDT
DTSTART:20230312T070000
END:DAYLIGHT
BEGIN:STANDARD
TZOFFSETFROM:-0400
TZOFFSETTO:-0500
TZNAME:EST
DTSTART:20231105T060000
END:STANDARD
BEGIN:DAYLIGHT
TZOFFSETFROM:-0500
TZOFFSETTO:-0400
TZNAME:EDT
DTSTART:20240310T070000
END:DAYLIGHT
BEGIN:STANDARD
TZOFFSETFROM:-0400
TZOFFSETTO:-0500
TZNAME:EST
DTSTART:20241103T060000
END:STANDARD
BEGIN:DAYLIGHT
TZOFFSETFROM:-0500
TZOFFSETTO:-0400
TZNAME:EDT
DTSTART:20250309T070000
END:DAYLIGHT
BEGIN:STANDARD
TZOFFSETFROM:-0400
TZOFFSETTO:-0500
TZNAME:EST
DTSTART:20251102T060000
END:STANDARD
END:VTIMEZONE
BEGIN:VEVENT
DTSTART;TZID=America/New_York:20241010T190000
DTEND;TZID=America/New_York:20241019T201500
DTSTAMP:20260422T103435
CREATED:20240909T183442Z
LAST-MODIFIED:20240910T163549Z
UID:10001143-1728586800-1729368900@utruthcenter.org
SUMMARY:Soulmates: Navigating Multifaith relationship / marriage
DESCRIPTION:Soulmates\n\n\nJoin Soulful Fellowship sip & tell exclusive event where James and Tawnicia Rowan will share heartfelt and lived tips on how they successfully blended their spiritual lives over the years. This event offers practical tips and proven strategies for creating harmony and mutual respect in a multifaith relationship. \nParticipants will learn how to honor each other’s beliefs\, create shared rituals\, and foster open communication\, all while maintaining a strong and unified partnership. Whether you’re single and seeking\, newly married\, or have been together for years\, this Sip & Tell event provides insights needed to build a thriving\, faith-respecting marriage that stands the test of time. Come prepared to be inspired\, empowered\, and equipped to embrace the richness of your unique spiritual journey together. \n  \nClick Here to Register \nSecure your spot by registering today!!!\nAll are invited to attend.
URL:https://utruthcenter.org/event/soulmates-navigating-multifaith-relationship-marriage/
LOCATION:Online Event
ATTACH;FMTTYPE=image/jpeg:https://utruthcenter.org/wp-content/uploads/2024/09/SipandTell_Soulmates-CalArt.jpg
END:VEVENT
END:VCALENDAR