BEGIN:VCALENDAR
VERSION:2.0
PRODID:-//Universal Truth Center - ECPv6.15.17//NONSGML v1.0//EN
CALSCALE:GREGORIAN
METHOD:PUBLISH
X-WR-CALNAME:Universal Truth Center
X-ORIGINAL-URL:https://utruthcenter.org
X-WR-CALDESC:Events for Universal Truth Center
REFRESH-INTERVAL;VALUE=DURATION:PT1H
X-Robots-Tag:noindex
X-PUBLISHED-TTL:PT1H
BEGIN:VTIMEZONE
TZID:America/New_York
BEGIN:DAYLIGHT
TZOFFSETFROM:-0500
TZOFFSETTO:-0400
TZNAME:EDT
DTSTART:20230312T070000
END:DAYLIGHT
BEGIN:STANDARD
TZOFFSETFROM:-0400
TZOFFSETTO:-0500
TZNAME:EST
DTSTART:20231105T060000
END:STANDARD
BEGIN:DAYLIGHT
TZOFFSETFROM:-0500
TZOFFSETTO:-0400
TZNAME:EDT
DTSTART:20240310T070000
END:DAYLIGHT
BEGIN:STANDARD
TZOFFSETFROM:-0400
TZOFFSETTO:-0500
TZNAME:EST
DTSTART:20241103T060000
END:STANDARD
BEGIN:DAYLIGHT
TZOFFSETFROM:-0500
TZOFFSETTO:-0400
TZNAME:EDT
DTSTART:20250309T070000
END:DAYLIGHT
BEGIN:STANDARD
TZOFFSETFROM:-0400
TZOFFSETTO:-0500
TZNAME:EST
DTSTART:20251102T060000
END:STANDARD
BEGIN:DAYLIGHT
TZOFFSETFROM:-0500
TZOFFSETTO:-0400
TZNAME:EDT
DTSTART:20260308T070000
END:DAYLIGHT
BEGIN:STANDARD
TZOFFSETFROM:-0400
TZOFFSETTO:-0500
TZNAME:EST
DTSTART:20261101T060000
END:STANDARD
END:VTIMEZONE
BEGIN:VEVENT
DTSTART;TZID=America/New_York:20250218T180000
DTEND;TZID=America/New_York:20250218T190000
DTSTAMP:20260423T192546
CREATED:20241229T144456Z
LAST-MODIFIED:20241229T144457Z
UID:10001171-1739901600-1739905200@utruthcenter.org
SUMMARY:UTC Tuesday Night Prayer Meeting
DESCRIPTION:Join us for a TUESDAY NIGHT PRAYER MEETING!\nEvery Tuesday from 6:00pm to 7:00pm \nThe dial-in number is: 267-930-4000 \nThe pin is: 533 150 819 \nBE THERE! \n 
URL:https://utruthcenter.org/event/utc-tuesday-night-prayer-meeting-3-2-2/2025-02-18/
LOCATION:THIS IS AN ONLINE ONLY WORSHIP EXPERIENCE.\, THIS IS AN ONLINE ONLY WORSHIP EXPERIENCE.\, FL\, 33056\, United States
CATEGORIES:Worship
ATTACH;FMTTYPE=image/jpeg:https://utruthcenter.org/wp-content/uploads/2022/12/UTC-TuesPrayerMTG-2023-CalArt.jpg
END:VEVENT
BEGIN:VEVENT
DTSTART;TZID=America/New_York:20250211T180000
DTEND;TZID=America/New_York:20250211T190000
DTSTAMP:20260423T192546
CREATED:20241229T144456Z
LAST-MODIFIED:20241229T144457Z
UID:10001170-1739296800-1739300400@utruthcenter.org
SUMMARY:UTC Tuesday Night Prayer Meeting
DESCRIPTION:Join us for a TUESDAY NIGHT PRAYER MEETING!\nEvery Tuesday from 6:00pm to 7:00pm \nThe dial-in number is: 267-930-4000 \nThe pin is: 533 150 819 \nBE THERE! \n 
URL:https://utruthcenter.org/event/utc-tuesday-night-prayer-meeting-3-2-2/2025-02-11/
LOCATION:THIS IS AN ONLINE ONLY WORSHIP EXPERIENCE.\, THIS IS AN ONLINE ONLY WORSHIP EXPERIENCE.\, FL\, 33056\, United States
CATEGORIES:Worship
ATTACH;FMTTYPE=image/jpeg:https://utruthcenter.org/wp-content/uploads/2022/12/UTC-TuesPrayerMTG-2023-CalArt.jpg
END:VEVENT
BEGIN:VEVENT
DTSTART;TZID=America/New_York:20250204T180000
DTEND;TZID=America/New_York:20250204T190000
DTSTAMP:20260423T192546
CREATED:20241229T144456Z
LAST-MODIFIED:20241229T144457Z
UID:10001169-1738692000-1738695600@utruthcenter.org
SUMMARY:UTC Tuesday Night Prayer Meeting
DESCRIPTION:Join us for a TUESDAY NIGHT PRAYER MEETING!\nEvery Tuesday from 6:00pm to 7:00pm \nThe dial-in number is: 267-930-4000 \nThe pin is: 533 150 819 \nBE THERE! \n 
URL:https://utruthcenter.org/event/utc-tuesday-night-prayer-meeting-3-2-2/2025-02-04/
LOCATION:THIS IS AN ONLINE ONLY WORSHIP EXPERIENCE.\, THIS IS AN ONLINE ONLY WORSHIP EXPERIENCE.\, FL\, 33056\, United States
CATEGORIES:Worship
ATTACH;FMTTYPE=image/jpeg:https://utruthcenter.org/wp-content/uploads/2022/12/UTC-TuesPrayerMTG-2023-CalArt.jpg
END:VEVENT
BEGIN:VEVENT
DTSTART;TZID=America/New_York:20250128T180000
DTEND;TZID=America/New_York:20250128T190000
DTSTAMP:20260423T192547
CREATED:20241229T144456Z
LAST-MODIFIED:20241229T144457Z
UID:10001168-1738087200-1738090800@utruthcenter.org
SUMMARY:UTC Tuesday Night Prayer Meeting
DESCRIPTION:Join us for a TUESDAY NIGHT PRAYER MEETING!\nEvery Tuesday from 6:00pm to 7:00pm \nThe dial-in number is: 267-930-4000 \nThe pin is: 533 150 819 \nBE THERE! \n 
URL:https://utruthcenter.org/event/utc-tuesday-night-prayer-meeting-3-2-2/2025-01-28/
LOCATION:THIS IS AN ONLINE ONLY WORSHIP EXPERIENCE.\, THIS IS AN ONLINE ONLY WORSHIP EXPERIENCE.\, FL\, 33056\, United States
CATEGORIES:Worship
ATTACH;FMTTYPE=image/jpeg:https://utruthcenter.org/wp-content/uploads/2022/12/UTC-TuesPrayerMTG-2023-CalArt.jpg
END:VEVENT
BEGIN:VEVENT
DTSTART;TZID=America/New_York:20250126T100000
DTEND;TZID=America/New_York:20250126T123000
DTSTAMP:20260423T192547
CREATED:20241224T210921Z
LAST-MODIFIED:20241224T210921Z
UID:10001163-1737885600-1737894600@utruthcenter.org
SUMMARY:Overcoming the Barriers to Living Your Best Life
DESCRIPTION:THEME: Boldly Come Alive in 25: Live Your Best Life Now\n\nLESSON TITLE:\nOvercoming the Barriers to Living Your Best Life\n\nTEACHER: \n \nRev. Charles M. Taylor\n\nRESPONSIVE READING: \nDaily Inspiration Pg. 37 \n\nSCRIPTURE: \nMatthew 3:10 \n\nColor: Blue\nPower: Faith\nDisciple: Peter\nWomen of the Chalice: Elizabeth\nPhysical Location: Pineal Glandn\nMinistry: Prayer and Healing
URL:https://utruthcenter.org/event/overcoming-the-barriers-to-living-your-best-life/
LOCATION:UTC\, 21310 NW 37th Avenue\, Miami Gardens\, FL\, 33056
CATEGORIES:Events,Worship
ATTACH;FMTTYPE=image/jpeg:https://utruthcenter.org/wp-content/uploads/2024/12/JANFEB-2025-UTC-CalArt.jpg
GEO:25.9696213;-80.2633696
X-APPLE-STRUCTURED-LOCATION;VALUE=URI;X-ADDRESS=UTC 21310 NW 37th Avenue Miami Gardens FL 33056;X-APPLE-RADIUS=500;X-TITLE=21310 NW 37th Avenue:geo:-80.2633696,25.9696213
END:VEVENT
BEGIN:VEVENT
DTSTART;TZID=America/New_York:20250121T180000
DTEND;TZID=America/New_York:20250121T190000
DTSTAMP:20260423T192547
CREATED:20241229T144456Z
LAST-MODIFIED:20241229T144457Z
UID:10001167-1737482400-1737486000@utruthcenter.org
SUMMARY:UTC Tuesday Night Prayer Meeting
DESCRIPTION:Join us for a TUESDAY NIGHT PRAYER MEETING!\nEvery Tuesday from 6:00pm to 7:00pm \nThe dial-in number is: 267-930-4000 \nThe pin is: 533 150 819 \nBE THERE! \n 
URL:https://utruthcenter.org/event/utc-tuesday-night-prayer-meeting-3-2-2/2025-01-21/
LOCATION:THIS IS AN ONLINE ONLY WORSHIP EXPERIENCE.\, THIS IS AN ONLINE ONLY WORSHIP EXPERIENCE.\, FL\, 33056\, United States
CATEGORIES:Worship
ATTACH;FMTTYPE=image/jpeg:https://utruthcenter.org/wp-content/uploads/2022/12/UTC-TuesPrayerMTG-2023-CalArt.jpg
END:VEVENT
BEGIN:VEVENT
DTSTART;TZID=America/New_York:20250119T100000
DTEND;TZID=America/New_York:20250119T123000
DTSTAMP:20260423T192547
CREATED:20241224T210044Z
LAST-MODIFIED:20241224T211008Z
UID:10001162-1737280800-1737289800@utruthcenter.org
SUMMARY:You Must Risk to Live Your Best Life
DESCRIPTION:THEME: Boldly Come Alive in 25: Live Your Best Life Now\n\nLESSON TITLE:\nYou Must Risk to Live Your Best Life\n\nTEACHER: \n \nRev. Charles M. Taylor\n\nRESPONSIVE READING: \nDaily Inspiration Pg. 29 \n\nSCRIPTURE: \nEcclesiastes 11:4-6 \n\nColor: Blue\nPower: Faith\nDisciple: Peter\nWomen of the Chalice: Elizabeth\nPhysical Location: Pineal Glandn\nMinistry: Prayer and Healing
URL:https://utruthcenter.org/event/you-must-risk-to-live-your-best-life/
LOCATION:UTC\, 21310 NW 37th Avenue\, Miami Gardens\, FL\, 33056
CATEGORIES:Events,Worship
ATTACH;FMTTYPE=image/jpeg:https://utruthcenter.org/wp-content/uploads/2024/12/JANFEB-2025-UTC-CalArt.jpg
GEO:25.9696213;-80.2633696
X-APPLE-STRUCTURED-LOCATION;VALUE=URI;X-ADDRESS=UTC 21310 NW 37th Avenue Miami Gardens FL 33056;X-APPLE-RADIUS=500;X-TITLE=21310 NW 37th Avenue:geo:-80.2633696,25.9696213
END:VEVENT
BEGIN:VEVENT
DTSTART;TZID=America/New_York:20250118T090000
DTEND;TZID=America/New_York:20250118T100000
DTSTAMP:20260423T192547
CREATED:20250114T202059Z
LAST-MODIFIED:20250114T202059Z
UID:10001220-1737190800-1737194400@utruthcenter.org
SUMMARY:MLK Peace Prayer Vigil
DESCRIPTION:Join us online for the 2025 Martin Luther King Peace Prayer Vigil on Saturday\, January 18th! \n\nHere’s how to log in:\nZoom times: 9:00am & 10:00am\nMeeting ID: 892 4567 7417\nPasscode: 948098 (305) 624-4991 \n\nNeed more info? Reach out to us at:\n(305) 624-4991
URL:https://utruthcenter.org/event/mlk-peace-prayer-vigil/2025-01-18/
LOCATION:Online Event
CATEGORIES:Holidays
ATTACH;FMTTYPE=image/jpeg:https://utruthcenter.org/wp-content/uploads/2025/01/MLK-prayervigil-2025-UTC-CalArt.jpg
END:VEVENT
BEGIN:VEVENT
DTSTART;TZID=America/New_York:20250114T180000
DTEND;TZID=America/New_York:20250114T190000
DTSTAMP:20260423T192547
CREATED:20241229T144456Z
LAST-MODIFIED:20241229T144457Z
UID:10001166-1736877600-1736881200@utruthcenter.org
SUMMARY:UTC Tuesday Night Prayer Meeting
DESCRIPTION:Join us for a TUESDAY NIGHT PRAYER MEETING!\nEvery Tuesday from 6:00pm to 7:00pm \nThe dial-in number is: 267-930-4000 \nThe pin is: 533 150 819 \nBE THERE! \n 
URL:https://utruthcenter.org/event/utc-tuesday-night-prayer-meeting-3-2-2/2025-01-14/
LOCATION:THIS IS AN ONLINE ONLY WORSHIP EXPERIENCE.\, THIS IS AN ONLINE ONLY WORSHIP EXPERIENCE.\, FL\, 33056\, United States
CATEGORIES:Worship
ATTACH;FMTTYPE=image/jpeg:https://utruthcenter.org/wp-content/uploads/2022/12/UTC-TuesPrayerMTG-2023-CalArt.jpg
END:VEVENT
BEGIN:VEVENT
DTSTART;TZID=America/New_York:20250112T100000
DTEND;TZID=America/New_York:20250112T123000
DTSTAMP:20260423T192547
CREATED:20241224T205855Z
LAST-MODIFIED:20241224T205855Z
UID:10001161-1736676000-1736685000@utruthcenter.org
SUMMARY:Choose to Live Your Best Life
DESCRIPTION:THEME: Boldly Come Alive in 25: Live Your Best Life Now\n\nLESSON TITLE:\nChoose to Live Your Best Life\n\nTEACHER: \n \nRev. Shakira Taylor\n\nRESPONSIVE READING: \nDaily Inspiration Pg. 9 \n\nSCRIPTURE: \nJohn 10:10 \n\nColor: Blue\nPower: Faith\nDisciple: Peter\nWomen of the Chalice: Elizabeth\nPhysical Location: Pineal Glandn\nMinistry: Prayer and Healing
URL:https://utruthcenter.org/event/choose-to-live-your-best-life/
LOCATION:UTC\, 21310 NW 37th Avenue\, Miami Gardens\, FL\, 33056
CATEGORIES:Events,Worship
ATTACH;FMTTYPE=image/jpeg:https://utruthcenter.org/wp-content/uploads/2024/12/JANFEB-2025-UTC-CalArt.jpg
GEO:25.9696213;-80.2633696
X-APPLE-STRUCTURED-LOCATION;VALUE=URI;X-ADDRESS=UTC 21310 NW 37th Avenue Miami Gardens FL 33056;X-APPLE-RADIUS=500;X-TITLE=21310 NW 37th Avenue:geo:-80.2633696,25.9696213
END:VEVENT
BEGIN:VEVENT
DTSTART;TZID=America/New_York:20250107T180000
DTEND;TZID=America/New_York:20250107T190000
DTSTAMP:20260423T192547
CREATED:20241229T144456Z
LAST-MODIFIED:20241229T144457Z
UID:10001165-1736272800-1736276400@utruthcenter.org
SUMMARY:UTC Tuesday Night Prayer Meeting
DESCRIPTION:Join us for a TUESDAY NIGHT PRAYER MEETING!\nEvery Tuesday from 6:00pm to 7:00pm \nThe dial-in number is: 267-930-4000 \nThe pin is: 533 150 819 \nBE THERE! \n 
URL:https://utruthcenter.org/event/utc-tuesday-night-prayer-meeting-3-2-2/2025-01-07/
LOCATION:THIS IS AN ONLINE ONLY WORSHIP EXPERIENCE.\, THIS IS AN ONLINE ONLY WORSHIP EXPERIENCE.\, FL\, 33056\, United States
CATEGORIES:Worship
ATTACH;FMTTYPE=image/jpeg:https://utruthcenter.org/wp-content/uploads/2022/12/UTC-TuesPrayerMTG-2023-CalArt.jpg
END:VEVENT
BEGIN:VEVENT
DTSTART;TZID=America/New_York:20250105T100000
DTEND;TZID=America/New_York:20250105T123000
DTSTAMP:20260423T192547
CREATED:20241224T205631Z
LAST-MODIFIED:20241224T225541Z
UID:10001159-1736071200-1736080200@utruthcenter.org
SUMMARY:Heal Your Past
DESCRIPTION:THEME: Boldly Come Alive in 25: Live Your Best Life Now\n\nLESSON TITLE:\nHeal Your Past\n\nTEACHER: \n \nPeggy Carter\n\nRESPONSIVE READING: \nDaily Inspiration Pg. 27 \n\nSCRIPTURE: \nJohn 1:3 \n\nColor: Blue\nPower: Faith\nDisciple: Peter\nWomen of the Chalice: Elizabeth\nPhysical Location: Pineal Glandn\nMinistry: Prayer and Healing
URL:https://utruthcenter.org/event/heal-your-past/
LOCATION:UTC\, 21310 NW 37th Avenue\, Miami Gardens\, FL\, 33056
CATEGORIES:Events,Worship
ATTACH;FMTTYPE=image/jpeg:https://utruthcenter.org/wp-content/uploads/2024/12/JANFEB-2025-UTC-CalArt.jpg
GEO:25.9696213;-80.2633696
X-APPLE-STRUCTURED-LOCATION;VALUE=URI;X-ADDRESS=UTC 21310 NW 37th Avenue Miami Gardens FL 33056;X-APPLE-RADIUS=500;X-TITLE=21310 NW 37th Avenue:geo:-80.2633696,25.9696213
END:VEVENT
BEGIN:VEVENT
DTSTART;TZID=America/New_York:20241231T180000
DTEND;TZID=America/New_York:20241231T190000
DTSTAMP:20260423T192547
CREATED:20241229T144456Z
LAST-MODIFIED:20241229T144457Z
UID:10001164-1735668000-1735671600@utruthcenter.org
SUMMARY:UTC Tuesday Night Prayer Meeting
DESCRIPTION:Join us for a TUESDAY NIGHT PRAYER MEETING!\nEvery Tuesday from 6:00pm to 7:00pm \nThe dial-in number is: 267-930-4000 \nThe pin is: 533 150 819 \nBE THERE! \n 
URL:https://utruthcenter.org/event/utc-tuesday-night-prayer-meeting-3-2-2/2024-12-31/
LOCATION:THIS IS AN ONLINE ONLY WORSHIP EXPERIENCE.\, THIS IS AN ONLINE ONLY WORSHIP EXPERIENCE.\, FL\, 33056\, United States
CATEGORIES:Worship
ATTACH;FMTTYPE=image/jpeg:https://utruthcenter.org/wp-content/uploads/2022/12/UTC-TuesPrayerMTG-2023-CalArt.jpg
END:VEVENT
BEGIN:VEVENT
DTSTART;TZID=America/New_York:20241126T180000
DTEND;TZID=America/New_York:20241126T190000
DTSTAMP:20260423T192547
CREATED:20240318T204808Z
LAST-MODIFIED:20240419T173046Z
UID:10001006-1732644000-1732647600@utruthcenter.org
SUMMARY:UTC Tuesday Night Prayer Meeting
DESCRIPTION:Join us for a TUESDAY NIGHT PRAYER MEETING!\nEvery Tuesday from 6:00pm to 7:00pm \nThe dial-in number is: 267-930-4000 \nThe pin is: 533 150 819 \nBE THERE! \n 
URL:https://utruthcenter.org/event/utc-tuesday-night-prayer-meeting-3-2/2024-11-26/
LOCATION:THIS IS AN ONLINE ONLY WORSHIP EXPERIENCE.\, THIS IS AN ONLINE ONLY WORSHIP EXPERIENCE.\, FL\, 33056\, United States
CATEGORIES:Worship
ATTACH;FMTTYPE=image/jpeg:https://utruthcenter.org/wp-content/uploads/2022/12/UTC-TuesPrayerMTG-2023-CalArt.jpg
END:VEVENT
BEGIN:VEVENT
DTSTART;TZID=America/New_York:20241119T180000
DTEND;TZID=America/New_York:20241119T190000
DTSTAMP:20260423T192547
CREATED:20240318T204808Z
LAST-MODIFIED:20240419T173046Z
UID:10001005-1732039200-1732042800@utruthcenter.org
SUMMARY:UTC Tuesday Night Prayer Meeting
DESCRIPTION:Join us for a TUESDAY NIGHT PRAYER MEETING!\nEvery Tuesday from 6:00pm to 7:00pm \nThe dial-in number is: 267-930-4000 \nThe pin is: 533 150 819 \nBE THERE! \n 
URL:https://utruthcenter.org/event/utc-tuesday-night-prayer-meeting-3-2/2024-11-19/
LOCATION:THIS IS AN ONLINE ONLY WORSHIP EXPERIENCE.\, THIS IS AN ONLINE ONLY WORSHIP EXPERIENCE.\, FL\, 33056\, United States
CATEGORIES:Worship
ATTACH;FMTTYPE=image/jpeg:https://utruthcenter.org/wp-content/uploads/2022/12/UTC-TuesPrayerMTG-2023-CalArt.jpg
END:VEVENT
BEGIN:VEVENT
DTSTART;TZID=America/New_York:20241112T180000
DTEND;TZID=America/New_York:20241112T190000
DTSTAMP:20260423T192547
CREATED:20240318T204808Z
LAST-MODIFIED:20240419T173046Z
UID:10001004-1731434400-1731438000@utruthcenter.org
SUMMARY:UTC Tuesday Night Prayer Meeting
DESCRIPTION:Join us for a TUESDAY NIGHT PRAYER MEETING!\nEvery Tuesday from 6:00pm to 7:00pm \nThe dial-in number is: 267-930-4000 \nThe pin is: 533 150 819 \nBE THERE! \n 
URL:https://utruthcenter.org/event/utc-tuesday-night-prayer-meeting-3-2/2024-11-12/
LOCATION:THIS IS AN ONLINE ONLY WORSHIP EXPERIENCE.\, THIS IS AN ONLINE ONLY WORSHIP EXPERIENCE.\, FL\, 33056\, United States
CATEGORIES:Worship
ATTACH;FMTTYPE=image/jpeg:https://utruthcenter.org/wp-content/uploads/2022/12/UTC-TuesPrayerMTG-2023-CalArt.jpg
END:VEVENT
BEGIN:VEVENT
DTSTART;TZID=America/New_York:20241105T180000
DTEND;TZID=America/New_York:20241105T190000
DTSTAMP:20260423T192547
CREATED:20240318T204808Z
LAST-MODIFIED:20240419T173046Z
UID:10001003-1730829600-1730833200@utruthcenter.org
SUMMARY:UTC Tuesday Night Prayer Meeting
DESCRIPTION:Join us for a TUESDAY NIGHT PRAYER MEETING!\nEvery Tuesday from 6:00pm to 7:00pm \nThe dial-in number is: 267-930-4000 \nThe pin is: 533 150 819 \nBE THERE! \n 
URL:https://utruthcenter.org/event/utc-tuesday-night-prayer-meeting-3-2/2024-11-05/
LOCATION:THIS IS AN ONLINE ONLY WORSHIP EXPERIENCE.\, THIS IS AN ONLINE ONLY WORSHIP EXPERIENCE.\, FL\, 33056\, United States
CATEGORIES:Worship
ATTACH;FMTTYPE=image/jpeg:https://utruthcenter.org/wp-content/uploads/2022/12/UTC-TuesPrayerMTG-2023-CalArt.jpg
END:VEVENT
BEGIN:VEVENT
DTSTART;TZID=America/New_York:20241029T180000
DTEND;TZID=America/New_York:20241029T190000
DTSTAMP:20260423T192547
CREATED:20240318T204808Z
LAST-MODIFIED:20240419T173046Z
UID:10001002-1730224800-1730228400@utruthcenter.org
SUMMARY:UTC Tuesday Night Prayer Meeting
DESCRIPTION:Join us for a TUESDAY NIGHT PRAYER MEETING!\nEvery Tuesday from 6:00pm to 7:00pm \nThe dial-in number is: 267-930-4000 \nThe pin is: 533 150 819 \nBE THERE! \n 
URL:https://utruthcenter.org/event/utc-tuesday-night-prayer-meeting-3-2/2024-10-29/
LOCATION:THIS IS AN ONLINE ONLY WORSHIP EXPERIENCE.\, THIS IS AN ONLINE ONLY WORSHIP EXPERIENCE.\, FL\, 33056\, United States
CATEGORIES:Worship
ATTACH;FMTTYPE=image/jpeg:https://utruthcenter.org/wp-content/uploads/2022/12/UTC-TuesPrayerMTG-2023-CalArt.jpg
END:VEVENT
BEGIN:VEVENT
DTSTART;TZID=America/New_York:20241022T180000
DTEND;TZID=America/New_York:20241022T190000
DTSTAMP:20260423T192547
CREATED:20240318T204808Z
LAST-MODIFIED:20240419T173046Z
UID:10001001-1729620000-1729623600@utruthcenter.org
SUMMARY:UTC Tuesday Night Prayer Meeting
DESCRIPTION:Join us for a TUESDAY NIGHT PRAYER MEETING!\nEvery Tuesday from 6:00pm to 7:00pm \nThe dial-in number is: 267-930-4000 \nThe pin is: 533 150 819 \nBE THERE! \n 
URL:https://utruthcenter.org/event/utc-tuesday-night-prayer-meeting-3-2/2024-10-22/
LOCATION:THIS IS AN ONLINE ONLY WORSHIP EXPERIENCE.\, THIS IS AN ONLINE ONLY WORSHIP EXPERIENCE.\, FL\, 33056\, United States
CATEGORIES:Worship
ATTACH;FMTTYPE=image/jpeg:https://utruthcenter.org/wp-content/uploads/2022/12/UTC-TuesPrayerMTG-2023-CalArt.jpg
END:VEVENT
BEGIN:VEVENT
DTSTART;TZID=America/New_York:20241015T180000
DTEND;TZID=America/New_York:20241015T190000
DTSTAMP:20260423T192547
CREATED:20240318T204808Z
LAST-MODIFIED:20240419T173046Z
UID:10001000-1729015200-1729018800@utruthcenter.org
SUMMARY:UTC Tuesday Night Prayer Meeting
DESCRIPTION:Join us for a TUESDAY NIGHT PRAYER MEETING!\nEvery Tuesday from 6:00pm to 7:00pm \nThe dial-in number is: 267-930-4000 \nThe pin is: 533 150 819 \nBE THERE! \n 
URL:https://utruthcenter.org/event/utc-tuesday-night-prayer-meeting-3-2/2024-10-15/
LOCATION:THIS IS AN ONLINE ONLY WORSHIP EXPERIENCE.\, THIS IS AN ONLINE ONLY WORSHIP EXPERIENCE.\, FL\, 33056\, United States
CATEGORIES:Worship
ATTACH;FMTTYPE=image/jpeg:https://utruthcenter.org/wp-content/uploads/2022/12/UTC-TuesPrayerMTG-2023-CalArt.jpg
END:VEVENT
BEGIN:VEVENT
DTSTART;TZID=America/New_York:20241008T180000
DTEND;TZID=America/New_York:20241008T190000
DTSTAMP:20260423T192547
CREATED:20240318T204808Z
LAST-MODIFIED:20240419T173046Z
UID:10000999-1728410400-1728414000@utruthcenter.org
SUMMARY:UTC Tuesday Night Prayer Meeting
DESCRIPTION:Join us for a TUESDAY NIGHT PRAYER MEETING!\nEvery Tuesday from 6:00pm to 7:00pm \nThe dial-in number is: 267-930-4000 \nThe pin is: 533 150 819 \nBE THERE! \n 
URL:https://utruthcenter.org/event/utc-tuesday-night-prayer-meeting-3-2/2024-10-08/
LOCATION:THIS IS AN ONLINE ONLY WORSHIP EXPERIENCE.\, THIS IS AN ONLINE ONLY WORSHIP EXPERIENCE.\, FL\, 33056\, United States
CATEGORIES:Worship
ATTACH;FMTTYPE=image/jpeg:https://utruthcenter.org/wp-content/uploads/2022/12/UTC-TuesPrayerMTG-2023-CalArt.jpg
END:VEVENT
BEGIN:VEVENT
DTSTART;TZID=America/New_York:20241001T180000
DTEND;TZID=America/New_York:20241001T190000
DTSTAMP:20260423T192547
CREATED:20240318T204808Z
LAST-MODIFIED:20240419T173046Z
UID:10000998-1727805600-1727809200@utruthcenter.org
SUMMARY:UTC Tuesday Night Prayer Meeting
DESCRIPTION:Join us for a TUESDAY NIGHT PRAYER MEETING!\nEvery Tuesday from 6:00pm to 7:00pm \nThe dial-in number is: 267-930-4000 \nThe pin is: 533 150 819 \nBE THERE! \n 
URL:https://utruthcenter.org/event/utc-tuesday-night-prayer-meeting-3-2/2024-10-01/
LOCATION:THIS IS AN ONLINE ONLY WORSHIP EXPERIENCE.\, THIS IS AN ONLINE ONLY WORSHIP EXPERIENCE.\, FL\, 33056\, United States
CATEGORIES:Worship
ATTACH;FMTTYPE=image/jpeg:https://utruthcenter.org/wp-content/uploads/2022/12/UTC-TuesPrayerMTG-2023-CalArt.jpg
END:VEVENT
BEGIN:VEVENT
DTSTART;TZID=America/New_York:20240924T180000
DTEND;TZID=America/New_York:20240924T190000
DTSTAMP:20260423T192547
CREATED:20240318T204808Z
LAST-MODIFIED:20240419T173046Z
UID:10000997-1727200800-1727204400@utruthcenter.org
SUMMARY:UTC Tuesday Night Prayer Meeting
DESCRIPTION:Join us for a TUESDAY NIGHT PRAYER MEETING!\nEvery Tuesday from 6:00pm to 7:00pm \nThe dial-in number is: 267-930-4000 \nThe pin is: 533 150 819 \nBE THERE! \n 
URL:https://utruthcenter.org/event/utc-tuesday-night-prayer-meeting-3-2/2024-09-24/
LOCATION:THIS IS AN ONLINE ONLY WORSHIP EXPERIENCE.\, THIS IS AN ONLINE ONLY WORSHIP EXPERIENCE.\, FL\, 33056\, United States
CATEGORIES:Worship
ATTACH;FMTTYPE=image/jpeg:https://utruthcenter.org/wp-content/uploads/2022/12/UTC-TuesPrayerMTG-2023-CalArt.jpg
END:VEVENT
BEGIN:VEVENT
DTSTART;TZID=America/New_York:20240917T180000
DTEND;TZID=America/New_York:20240917T190000
DTSTAMP:20260423T192547
CREATED:20240318T204808Z
LAST-MODIFIED:20240419T173046Z
UID:10000996-1726596000-1726599600@utruthcenter.org
SUMMARY:UTC Tuesday Night Prayer Meeting
DESCRIPTION:Join us for a TUESDAY NIGHT PRAYER MEETING!\nEvery Tuesday from 6:00pm to 7:00pm \nThe dial-in number is: 267-930-4000 \nThe pin is: 533 150 819 \nBE THERE! \n 
URL:https://utruthcenter.org/event/utc-tuesday-night-prayer-meeting-3-2/2024-09-17/
LOCATION:THIS IS AN ONLINE ONLY WORSHIP EXPERIENCE.\, THIS IS AN ONLINE ONLY WORSHIP EXPERIENCE.\, FL\, 33056\, United States
CATEGORIES:Worship
ATTACH;FMTTYPE=image/jpeg:https://utruthcenter.org/wp-content/uploads/2022/12/UTC-TuesPrayerMTG-2023-CalArt.jpg
END:VEVENT
BEGIN:VEVENT
DTSTART;TZID=America/New_York:20240910T180000
DTEND;TZID=America/New_York:20240910T190000
DTSTAMP:20260423T192547
CREATED:20240318T204808Z
LAST-MODIFIED:20240419T173046Z
UID:10000995-1725991200-1725994800@utruthcenter.org
SUMMARY:UTC Tuesday Night Prayer Meeting
DESCRIPTION:Join us for a TUESDAY NIGHT PRAYER MEETING!\nEvery Tuesday from 6:00pm to 7:00pm \nThe dial-in number is: 267-930-4000 \nThe pin is: 533 150 819 \nBE THERE! \n 
URL:https://utruthcenter.org/event/utc-tuesday-night-prayer-meeting-3-2/2024-09-10/
LOCATION:THIS IS AN ONLINE ONLY WORSHIP EXPERIENCE.\, THIS IS AN ONLINE ONLY WORSHIP EXPERIENCE.\, FL\, 33056\, United States
CATEGORIES:Worship
ATTACH;FMTTYPE=image/jpeg:https://utruthcenter.org/wp-content/uploads/2022/12/UTC-TuesPrayerMTG-2023-CalArt.jpg
END:VEVENT
BEGIN:VEVENT
DTSTART;TZID=America/New_York:20240903T180000
DTEND;TZID=America/New_York:20240903T190000
DTSTAMP:20260423T192547
CREATED:20240318T204808Z
LAST-MODIFIED:20240419T173046Z
UID:10000994-1725386400-1725390000@utruthcenter.org
SUMMARY:UTC Tuesday Night Prayer Meeting
DESCRIPTION:Join us for a TUESDAY NIGHT PRAYER MEETING!\nEvery Tuesday from 6:00pm to 7:00pm \nThe dial-in number is: 267-930-4000 \nThe pin is: 533 150 819 \nBE THERE! \n 
URL:https://utruthcenter.org/event/utc-tuesday-night-prayer-meeting-3-2/2024-09-03/
LOCATION:THIS IS AN ONLINE ONLY WORSHIP EXPERIENCE.\, THIS IS AN ONLINE ONLY WORSHIP EXPERIENCE.\, FL\, 33056\, United States
CATEGORIES:Worship
ATTACH;FMTTYPE=image/jpeg:https://utruthcenter.org/wp-content/uploads/2022/12/UTC-TuesPrayerMTG-2023-CalArt.jpg
END:VEVENT
BEGIN:VEVENT
DTSTART;TZID=America/New_York:20240827T180000
DTEND;TZID=America/New_York:20240827T190000
DTSTAMP:20260423T192547
CREATED:20240318T204808Z
LAST-MODIFIED:20240419T173046Z
UID:10000993-1724781600-1724785200@utruthcenter.org
SUMMARY:UTC Tuesday Night Prayer Meeting
DESCRIPTION:Join us for a TUESDAY NIGHT PRAYER MEETING!\nEvery Tuesday from 6:00pm to 7:00pm \nThe dial-in number is: 267-930-4000 \nThe pin is: 533 150 819 \nBE THERE! \n 
URL:https://utruthcenter.org/event/utc-tuesday-night-prayer-meeting-3-2/2024-08-27/
LOCATION:THIS IS AN ONLINE ONLY WORSHIP EXPERIENCE.\, THIS IS AN ONLINE ONLY WORSHIP EXPERIENCE.\, FL\, 33056\, United States
CATEGORIES:Worship
ATTACH;FMTTYPE=image/jpeg:https://utruthcenter.org/wp-content/uploads/2022/12/UTC-TuesPrayerMTG-2023-CalArt.jpg
END:VEVENT
BEGIN:VEVENT
DTSTART;TZID=America/New_York:20240820T180000
DTEND;TZID=America/New_York:20240820T190000
DTSTAMP:20260423T192547
CREATED:20240318T204808Z
LAST-MODIFIED:20240419T173046Z
UID:10000992-1724176800-1724180400@utruthcenter.org
SUMMARY:UTC Tuesday Night Prayer Meeting
DESCRIPTION:Join us for a TUESDAY NIGHT PRAYER MEETING!\nEvery Tuesday from 6:00pm to 7:00pm \nThe dial-in number is: 267-930-4000 \nThe pin is: 533 150 819 \nBE THERE! \n 
URL:https://utruthcenter.org/event/utc-tuesday-night-prayer-meeting-3-2/2024-08-20/
LOCATION:THIS IS AN ONLINE ONLY WORSHIP EXPERIENCE.\, THIS IS AN ONLINE ONLY WORSHIP EXPERIENCE.\, FL\, 33056\, United States
CATEGORIES:Worship
ATTACH;FMTTYPE=image/jpeg:https://utruthcenter.org/wp-content/uploads/2022/12/UTC-TuesPrayerMTG-2023-CalArt.jpg
END:VEVENT
BEGIN:VEVENT
DTSTART;TZID=America/New_York:20240813T180000
DTEND;TZID=America/New_York:20240813T190000
DTSTAMP:20260423T192547
CREATED:20240318T204808Z
LAST-MODIFIED:20240419T173046Z
UID:10000991-1723572000-1723575600@utruthcenter.org
SUMMARY:UTC Tuesday Night Prayer Meeting
DESCRIPTION:Join us for a TUESDAY NIGHT PRAYER MEETING!\nEvery Tuesday from 6:00pm to 7:00pm \nThe dial-in number is: 267-930-4000 \nThe pin is: 533 150 819 \nBE THERE! \n 
URL:https://utruthcenter.org/event/utc-tuesday-night-prayer-meeting-3-2/2024-08-13/
LOCATION:THIS IS AN ONLINE ONLY WORSHIP EXPERIENCE.\, THIS IS AN ONLINE ONLY WORSHIP EXPERIENCE.\, FL\, 33056\, United States
CATEGORIES:Worship
ATTACH;FMTTYPE=image/jpeg:https://utruthcenter.org/wp-content/uploads/2022/12/UTC-TuesPrayerMTG-2023-CalArt.jpg
END:VEVENT
BEGIN:VEVENT
DTSTART;TZID=America/New_York:20240806T180000
DTEND;TZID=America/New_York:20240806T190000
DTSTAMP:20260423T192547
CREATED:20240318T204808Z
LAST-MODIFIED:20240419T173046Z
UID:10000990-1722967200-1722970800@utruthcenter.org
SUMMARY:UTC Tuesday Night Prayer Meeting
DESCRIPTION:Join us for a TUESDAY NIGHT PRAYER MEETING!\nEvery Tuesday from 6:00pm to 7:00pm \nThe dial-in number is: 267-930-4000 \nThe pin is: 533 150 819 \nBE THERE! \n 
URL:https://utruthcenter.org/event/utc-tuesday-night-prayer-meeting-3-2/2024-08-06/
LOCATION:THIS IS AN ONLINE ONLY WORSHIP EXPERIENCE.\, THIS IS AN ONLINE ONLY WORSHIP EXPERIENCE.\, FL\, 33056\, United States
CATEGORIES:Worship
ATTACH;FMTTYPE=image/jpeg:https://utruthcenter.org/wp-content/uploads/2022/12/UTC-TuesPrayerMTG-2023-CalArt.jpg
END:VEVENT
END:VCALENDAR