BEGIN:VCALENDAR
VERSION:2.0
PRODID:-//Universal Truth Center - ECPv6.15.17//NONSGML v1.0//EN
CALSCALE:GREGORIAN
METHOD:PUBLISH
X-WR-CALNAME:Universal Truth Center
X-ORIGINAL-URL:https://utruthcenter.org
X-WR-CALDESC:Events for Universal Truth Center
REFRESH-INTERVAL;VALUE=DURATION:PT1H
X-Robots-Tag:noindex
X-PUBLISHED-TTL:PT1H
BEGIN:VTIMEZONE
TZID:America/New_York
BEGIN:DAYLIGHT
TZOFFSETFROM:-0500
TZOFFSETTO:-0400
TZNAME:EDT
DTSTART:20240310T070000
END:DAYLIGHT
BEGIN:STANDARD
TZOFFSETFROM:-0400
TZOFFSETTO:-0500
TZNAME:EST
DTSTART:20241103T060000
END:STANDARD
BEGIN:DAYLIGHT
TZOFFSETFROM:-0500
TZOFFSETTO:-0400
TZNAME:EDT
DTSTART:20250309T070000
END:DAYLIGHT
BEGIN:STANDARD
TZOFFSETFROM:-0400
TZOFFSETTO:-0500
TZNAME:EST
DTSTART:20251102T060000
END:STANDARD
BEGIN:DAYLIGHT
TZOFFSETFROM:-0500
TZOFFSETTO:-0400
TZNAME:EDT
DTSTART:20260308T070000
END:DAYLIGHT
BEGIN:STANDARD
TZOFFSETFROM:-0400
TZOFFSETTO:-0500
TZNAME:EST
DTSTART:20261101T060000
END:STANDARD
END:VTIMEZONE
BEGIN:VEVENT
DTSTART;TZID=America/New_York:20250610T180000
DTEND;TZID=America/New_York:20250610T190000
DTSTAMP:20260423T155401
CREATED:20241229T144456Z
LAST-MODIFIED:20241229T144457Z
UID:10001187-1749578400-1749582000@utruthcenter.org
SUMMARY:UTC Tuesday Night Prayer Meeting
DESCRIPTION:Join us for a TUESDAY NIGHT PRAYER MEETING!\nEvery Tuesday from 6:00pm to 7:00pm \nThe dial-in number is: 267-930-4000 \nThe pin is: 533 150 819 \nBE THERE! \n 
URL:https://utruthcenter.org/event/utc-tuesday-night-prayer-meeting-3-2-2/2025-06-10/
LOCATION:THIS IS AN ONLINE ONLY WORSHIP EXPERIENCE.\, THIS IS AN ONLINE ONLY WORSHIP EXPERIENCE.\, FL\, 33056\, United States
CATEGORIES:Worship
ATTACH;FMTTYPE=image/jpeg:https://utruthcenter.org/wp-content/uploads/2022/12/UTC-TuesPrayerMTG-2023-CalArt.jpg
END:VEVENT
BEGIN:VEVENT
DTSTART;TZID=America/New_York:20250603T180000
DTEND;TZID=America/New_York:20250603T190000
DTSTAMP:20260423T155401
CREATED:20241229T144456Z
LAST-MODIFIED:20241229T144457Z
UID:10001186-1748973600-1748977200@utruthcenter.org
SUMMARY:UTC Tuesday Night Prayer Meeting
DESCRIPTION:Join us for a TUESDAY NIGHT PRAYER MEETING!\nEvery Tuesday from 6:00pm to 7:00pm \nThe dial-in number is: 267-930-4000 \nThe pin is: 533 150 819 \nBE THERE! \n 
URL:https://utruthcenter.org/event/utc-tuesday-night-prayer-meeting-3-2-2/2025-06-03/
LOCATION:THIS IS AN ONLINE ONLY WORSHIP EXPERIENCE.\, THIS IS AN ONLINE ONLY WORSHIP EXPERIENCE.\, FL\, 33056\, United States
CATEGORIES:Worship
ATTACH;FMTTYPE=image/jpeg:https://utruthcenter.org/wp-content/uploads/2022/12/UTC-TuesPrayerMTG-2023-CalArt.jpg
END:VEVENT
BEGIN:VEVENT
DTSTART;TZID=America/New_York:20250527T180000
DTEND;TZID=America/New_York:20250527T190000
DTSTAMP:20260423T155401
CREATED:20241229T144456Z
LAST-MODIFIED:20241229T144457Z
UID:10001185-1748368800-1748372400@utruthcenter.org
SUMMARY:UTC Tuesday Night Prayer Meeting
DESCRIPTION:Join us for a TUESDAY NIGHT PRAYER MEETING!\nEvery Tuesday from 6:00pm to 7:00pm \nThe dial-in number is: 267-930-4000 \nThe pin is: 533 150 819 \nBE THERE! \n 
URL:https://utruthcenter.org/event/utc-tuesday-night-prayer-meeting-3-2-2/2025-05-27/
LOCATION:THIS IS AN ONLINE ONLY WORSHIP EXPERIENCE.\, THIS IS AN ONLINE ONLY WORSHIP EXPERIENCE.\, FL\, 33056\, United States
CATEGORIES:Worship
ATTACH;FMTTYPE=image/jpeg:https://utruthcenter.org/wp-content/uploads/2022/12/UTC-TuesPrayerMTG-2023-CalArt.jpg
END:VEVENT
BEGIN:VEVENT
DTSTART;TZID=America/New_York:20250520T180000
DTEND;TZID=America/New_York:20250520T190000
DTSTAMP:20260423T155401
CREATED:20241229T144456Z
LAST-MODIFIED:20241229T144457Z
UID:10001184-1747764000-1747767600@utruthcenter.org
SUMMARY:UTC Tuesday Night Prayer Meeting
DESCRIPTION:Join us for a TUESDAY NIGHT PRAYER MEETING!\nEvery Tuesday from 6:00pm to 7:00pm \nThe dial-in number is: 267-930-4000 \nThe pin is: 533 150 819 \nBE THERE! \n 
URL:https://utruthcenter.org/event/utc-tuesday-night-prayer-meeting-3-2-2/2025-05-20/
LOCATION:THIS IS AN ONLINE ONLY WORSHIP EXPERIENCE.\, THIS IS AN ONLINE ONLY WORSHIP EXPERIENCE.\, FL\, 33056\, United States
CATEGORIES:Worship
ATTACH;FMTTYPE=image/jpeg:https://utruthcenter.org/wp-content/uploads/2022/12/UTC-TuesPrayerMTG-2023-CalArt.jpg
END:VEVENT
BEGIN:VEVENT
DTSTART;TZID=America/New_York:20250513T180000
DTEND;TZID=America/New_York:20250513T190000
DTSTAMP:20260423T155401
CREATED:20241229T144456Z
LAST-MODIFIED:20241229T144457Z
UID:10001183-1747159200-1747162800@utruthcenter.org
SUMMARY:UTC Tuesday Night Prayer Meeting
DESCRIPTION:Join us for a TUESDAY NIGHT PRAYER MEETING!\nEvery Tuesday from 6:00pm to 7:00pm \nThe dial-in number is: 267-930-4000 \nThe pin is: 533 150 819 \nBE THERE! \n 
URL:https://utruthcenter.org/event/utc-tuesday-night-prayer-meeting-3-2-2/2025-05-13/
LOCATION:THIS IS AN ONLINE ONLY WORSHIP EXPERIENCE.\, THIS IS AN ONLINE ONLY WORSHIP EXPERIENCE.\, FL\, 33056\, United States
CATEGORIES:Worship
ATTACH;FMTTYPE=image/jpeg:https://utruthcenter.org/wp-content/uploads/2022/12/UTC-TuesPrayerMTG-2023-CalArt.jpg
END:VEVENT
BEGIN:VEVENT
DTSTART;TZID=America/New_York:20250506T180000
DTEND;TZID=America/New_York:20250506T190000
DTSTAMP:20260423T155401
CREATED:20241229T144456Z
LAST-MODIFIED:20241229T144457Z
UID:10001182-1746554400-1746558000@utruthcenter.org
SUMMARY:UTC Tuesday Night Prayer Meeting
DESCRIPTION:Join us for a TUESDAY NIGHT PRAYER MEETING!\nEvery Tuesday from 6:00pm to 7:00pm \nThe dial-in number is: 267-930-4000 \nThe pin is: 533 150 819 \nBE THERE! \n 
URL:https://utruthcenter.org/event/utc-tuesday-night-prayer-meeting-3-2-2/2025-05-06/
LOCATION:THIS IS AN ONLINE ONLY WORSHIP EXPERIENCE.\, THIS IS AN ONLINE ONLY WORSHIP EXPERIENCE.\, FL\, 33056\, United States
CATEGORIES:Worship
ATTACH;FMTTYPE=image/jpeg:https://utruthcenter.org/wp-content/uploads/2022/12/UTC-TuesPrayerMTG-2023-CalArt.jpg
END:VEVENT
BEGIN:VEVENT
DTSTART;TZID=America/New_York:20250429T180000
DTEND;TZID=America/New_York:20250429T190000
DTSTAMP:20260423T155401
CREATED:20241229T144456Z
LAST-MODIFIED:20241229T144457Z
UID:10001181-1745949600-1745953200@utruthcenter.org
SUMMARY:UTC Tuesday Night Prayer Meeting
DESCRIPTION:Join us for a TUESDAY NIGHT PRAYER MEETING!\nEvery Tuesday from 6:00pm to 7:00pm \nThe dial-in number is: 267-930-4000 \nThe pin is: 533 150 819 \nBE THERE! \n 
URL:https://utruthcenter.org/event/utc-tuesday-night-prayer-meeting-3-2-2/2025-04-29/
LOCATION:THIS IS AN ONLINE ONLY WORSHIP EXPERIENCE.\, THIS IS AN ONLINE ONLY WORSHIP EXPERIENCE.\, FL\, 33056\, United States
CATEGORIES:Worship
ATTACH;FMTTYPE=image/jpeg:https://utruthcenter.org/wp-content/uploads/2022/12/UTC-TuesPrayerMTG-2023-CalArt.jpg
END:VEVENT
BEGIN:VEVENT
DTSTART;TZID=America/New_York:20250427T100000
DTEND;TZID=America/New_York:20250427T123000
DTSTAMP:20260423T155401
CREATED:20250414T163208Z
LAST-MODIFIED:20250414T163208Z
UID:10001231-1745748000-1745757000@utruthcenter.org
SUMMARY:A Culture of Right Action
DESCRIPTION:THEME: LENT 2025 – Boldly Come Alive for the Culture: ‘Do You Want a Revolution’?\n\nLESSON TITLE:\nA Culture of Right Action\n\nTEACHER: \n \nRev. Shakira Taylor\n\nRESPONSIVE READING: \n  \n\nSCRIPTURE: \nJames 2:26\n \n\nColor: Yellow\nPower: Wisdom\nDisciple: James Son of Zebedee\nWomen of the Chalice: Salome\nPhysical Location: Pit of Stomach\nMinistry: Prayer & Healing
URL:https://utruthcenter.org/event/a-culture-of-right-action/
LOCATION:UTC\, 21310 NW 37th Avenue\, Miami Gardens\, FL\, 33056
CATEGORIES:Events,Worship
ATTACH;FMTTYPE=image/jpeg:https://utruthcenter.org/wp-content/uploads/2025/02/LENT-2025-UTC-CalArt.jpg
GEO:25.9696213;-80.2633696
X-APPLE-STRUCTURED-LOCATION;VALUE=URI;X-ADDRESS=UTC 21310 NW 37th Avenue Miami Gardens FL 33056;X-APPLE-RADIUS=500;X-TITLE=21310 NW 37th Avenue:geo:-80.2633696,25.9696213
END:VEVENT
BEGIN:VEVENT
DTSTART;TZID=America/New_York:20250422T180000
DTEND;TZID=America/New_York:20250422T190000
DTSTAMP:20260423T155401
CREATED:20241229T144456Z
LAST-MODIFIED:20241229T144457Z
UID:10001180-1745344800-1745348400@utruthcenter.org
SUMMARY:UTC Tuesday Night Prayer Meeting
DESCRIPTION:Join us for a TUESDAY NIGHT PRAYER MEETING!\nEvery Tuesday from 6:00pm to 7:00pm \nThe dial-in number is: 267-930-4000 \nThe pin is: 533 150 819 \nBE THERE! \n 
URL:https://utruthcenter.org/event/utc-tuesday-night-prayer-meeting-3-2-2/2025-04-22/
LOCATION:THIS IS AN ONLINE ONLY WORSHIP EXPERIENCE.\, THIS IS AN ONLINE ONLY WORSHIP EXPERIENCE.\, FL\, 33056\, United States
CATEGORIES:Worship
ATTACH;FMTTYPE=image/jpeg:https://utruthcenter.org/wp-content/uploads/2022/12/UTC-TuesPrayerMTG-2023-CalArt.jpg
END:VEVENT
BEGIN:VEVENT
DTSTART;TZID=America/New_York:20250420T100000
DTEND;TZID=America/New_York:20250420T123000
DTSTAMP:20260423T155401
CREATED:20250414T162908Z
LAST-MODIFIED:20250414T162908Z
UID:10001230-1745143200-1745152200@utruthcenter.org
SUMMARY:A Culture of Freedom - I AM the Revolution
DESCRIPTION:THEME: LENT 2025 – Boldly Come Alive for the Culture: ‘Do You Want a Revolution’?\n\nLESSON TITLE:\nA Culture of Freedom – I AM the Revolution\n\nTEACHER: \n \nRev. Mitchell Walthour\n\nRESPONSIVE READING: \n  \n\nSCRIPTURE: \nMatthew 28:5-7\nLuke 4:18-19\n \n\nColor: Yellow\nPower: Wisdom\nDisciple: James Son of Zebedee\nWomen of the Chalice: Salome\nPhysical Location: Pit of Stomach\nMinistry: Prayer & Healing
URL:https://utruthcenter.org/event/a-culture-of-freedom-i-am-the-revolution/
LOCATION:UTC\, 21310 NW 37th Avenue\, Miami Gardens\, FL\, 33056
CATEGORIES:Events,Worship
ATTACH;FMTTYPE=image/jpeg:https://utruthcenter.org/wp-content/uploads/2025/02/LENT-2025-UTC-CalArt.jpg
GEO:25.9696213;-80.2633696
X-APPLE-STRUCTURED-LOCATION;VALUE=URI;X-ADDRESS=UTC 21310 NW 37th Avenue Miami Gardens FL 33056;X-APPLE-RADIUS=500;X-TITLE=21310 NW 37th Avenue:geo:-80.2633696,25.9696213
END:VEVENT
BEGIN:VEVENT
DTSTART;TZID=America/New_York:20250415T180000
DTEND;TZID=America/New_York:20250415T190000
DTSTAMP:20260423T155401
CREATED:20241229T144456Z
LAST-MODIFIED:20241229T144457Z
UID:10001179-1744740000-1744743600@utruthcenter.org
SUMMARY:UTC Tuesday Night Prayer Meeting
DESCRIPTION:Join us for a TUESDAY NIGHT PRAYER MEETING!\nEvery Tuesday from 6:00pm to 7:00pm \nThe dial-in number is: 267-930-4000 \nThe pin is: 533 150 819 \nBE THERE! \n 
URL:https://utruthcenter.org/event/utc-tuesday-night-prayer-meeting-3-2-2/2025-04-15/
LOCATION:THIS IS AN ONLINE ONLY WORSHIP EXPERIENCE.\, THIS IS AN ONLINE ONLY WORSHIP EXPERIENCE.\, FL\, 33056\, United States
CATEGORIES:Worship
ATTACH;FMTTYPE=image/jpeg:https://utruthcenter.org/wp-content/uploads/2022/12/UTC-TuesPrayerMTG-2023-CalArt.jpg
END:VEVENT
BEGIN:VEVENT
DTSTART;TZID=America/New_York:20250413T100000
DTEND;TZID=America/New_York:20250413T123000
DTSTAMP:20260423T155401
CREATED:20250414T155112Z
LAST-MODIFIED:20250414T155112Z
UID:10001229-1744538400-1744547400@utruthcenter.org
SUMMARY:A Culture of Accountability – I Forgive You
DESCRIPTION:THEME: LENT 2025 – Boldly Come Alive for the Culture: ‘Do You Want a Revolution’?\n\nLESSON TITLE:\nA Culture of Accountability – I Forgive You\n\nTEACHER: \n \nRev. Tawnicia Rowan\n\nRESPONSIVE READING: \n  \n\nSCRIPTURE: \nMatthew 26:20-25\nGalatians 6:1\n \n\nColor: Yellow\nPower: Wisdom\nDisciple: James Son of Zebedee\nWomen of the Chalice: Salome\nPhysical Location: Pit of Stomach\nMinistry: Prayer & Healing
URL:https://utruthcenter.org/event/a-culture-of-accountability-i-forgive-you/
LOCATION:UTC\, 21310 NW 37th Avenue\, Miami Gardens\, FL\, 33056
CATEGORIES:Events,Worship
ATTACH;FMTTYPE=image/jpeg:https://utruthcenter.org/wp-content/uploads/2025/02/LENT-2025-UTC-CalArt.jpg
GEO:25.9696213;-80.2633696
X-APPLE-STRUCTURED-LOCATION;VALUE=URI;X-ADDRESS=UTC 21310 NW 37th Avenue Miami Gardens FL 33056;X-APPLE-RADIUS=500;X-TITLE=21310 NW 37th Avenue:geo:-80.2633696,25.9696213
END:VEVENT
BEGIN:VEVENT
DTSTART;TZID=America/New_York:20250408T180000
DTEND;TZID=America/New_York:20250408T190000
DTSTAMP:20260423T155401
CREATED:20241229T144456Z
LAST-MODIFIED:20241229T144457Z
UID:10001178-1744135200-1744138800@utruthcenter.org
SUMMARY:UTC Tuesday Night Prayer Meeting
DESCRIPTION:Join us for a TUESDAY NIGHT PRAYER MEETING!\nEvery Tuesday from 6:00pm to 7:00pm \nThe dial-in number is: 267-930-4000 \nThe pin is: 533 150 819 \nBE THERE! \n 
URL:https://utruthcenter.org/event/utc-tuesday-night-prayer-meeting-3-2-2/2025-04-08/
LOCATION:THIS IS AN ONLINE ONLY WORSHIP EXPERIENCE.\, THIS IS AN ONLINE ONLY WORSHIP EXPERIENCE.\, FL\, 33056\, United States
CATEGORIES:Worship
ATTACH;FMTTYPE=image/jpeg:https://utruthcenter.org/wp-content/uploads/2022/12/UTC-TuesPrayerMTG-2023-CalArt.jpg
END:VEVENT
BEGIN:VEVENT
DTSTART;TZID=America/New_York:20250406T100000
DTEND;TZID=America/New_York:20250406T123000
DTSTAMP:20260423T155401
CREATED:20250414T154813Z
LAST-MODIFIED:20250414T154813Z
UID:10001228-1743933600-1743942600@utruthcenter.org
SUMMARY:A Culture of Peace – I Am One With You
DESCRIPTION:THEME: LENT 2025 – Boldly Come Alive for the Culture: ‘Do You Want a Revolution’?\n\nLESSON TITLE:\nA Culture of Peace – I Am One With You\n\nTEACHER: \n \nRev. Charles M. Taylor\n\nRESPONSIVE READING: \n  \n\nSCRIPTURE: \nRomans 12:16 \n\nColor: Yellow\nPower: Wisdom\nDisciple: James Son of Zebedee\nWomen of the Chalice: Salome\nPhysical Location: Pit of Stomach\nMinistry: Prayer & Healing
URL:https://utruthcenter.org/event/a-culture-of-peace-i-am-one-with-you/
LOCATION:UTC\, 21310 NW 37th Avenue\, Miami Gardens\, FL\, 33056
CATEGORIES:Events,Worship
ATTACH;FMTTYPE=image/jpeg:https://utruthcenter.org/wp-content/uploads/2025/02/LENT-2025-UTC-CalArt.jpg
GEO:25.9696213;-80.2633696
X-APPLE-STRUCTURED-LOCATION;VALUE=URI;X-ADDRESS=UTC 21310 NW 37th Avenue Miami Gardens FL 33056;X-APPLE-RADIUS=500;X-TITLE=21310 NW 37th Avenue:geo:-80.2633696,25.9696213
END:VEVENT
BEGIN:VEVENT
DTSTART;TZID=America/New_York:20250401T180000
DTEND;TZID=America/New_York:20250401T190000
DTSTAMP:20260423T155401
CREATED:20241229T144456Z
LAST-MODIFIED:20241229T144457Z
UID:10001177-1743530400-1743534000@utruthcenter.org
SUMMARY:UTC Tuesday Night Prayer Meeting
DESCRIPTION:Join us for a TUESDAY NIGHT PRAYER MEETING!\nEvery Tuesday from 6:00pm to 7:00pm \nThe dial-in number is: 267-930-4000 \nThe pin is: 533 150 819 \nBE THERE! \n 
URL:https://utruthcenter.org/event/utc-tuesday-night-prayer-meeting-3-2-2/2025-04-01/
LOCATION:THIS IS AN ONLINE ONLY WORSHIP EXPERIENCE.\, THIS IS AN ONLINE ONLY WORSHIP EXPERIENCE.\, FL\, 33056\, United States
CATEGORIES:Worship
ATTACH;FMTTYPE=image/jpeg:https://utruthcenter.org/wp-content/uploads/2022/12/UTC-TuesPrayerMTG-2023-CalArt.jpg
END:VEVENT
BEGIN:VEVENT
DTSTART;TZID=America/New_York:20250325T180000
DTEND;TZID=America/New_York:20250325T190000
DTSTAMP:20260423T155401
CREATED:20241229T144456Z
LAST-MODIFIED:20241229T144457Z
UID:10001176-1742925600-1742929200@utruthcenter.org
SUMMARY:UTC Tuesday Night Prayer Meeting
DESCRIPTION:Join us for a TUESDAY NIGHT PRAYER MEETING!\nEvery Tuesday from 6:00pm to 7:00pm \nThe dial-in number is: 267-930-4000 \nThe pin is: 533 150 819 \nBE THERE! \n 
URL:https://utruthcenter.org/event/utc-tuesday-night-prayer-meeting-3-2-2/2025-03-25/
LOCATION:THIS IS AN ONLINE ONLY WORSHIP EXPERIENCE.\, THIS IS AN ONLINE ONLY WORSHIP EXPERIENCE.\, FL\, 33056\, United States
CATEGORIES:Worship
ATTACH;FMTTYPE=image/jpeg:https://utruthcenter.org/wp-content/uploads/2022/12/UTC-TuesPrayerMTG-2023-CalArt.jpg
END:VEVENT
BEGIN:VEVENT
DTSTART;TZID=America/New_York:20250318T180000
DTEND;TZID=America/New_York:20250318T190000
DTSTAMP:20260423T155401
CREATED:20241229T144456Z
LAST-MODIFIED:20241229T144457Z
UID:10001175-1742320800-1742324400@utruthcenter.org
SUMMARY:UTC Tuesday Night Prayer Meeting
DESCRIPTION:Join us for a TUESDAY NIGHT PRAYER MEETING!\nEvery Tuesday from 6:00pm to 7:00pm \nThe dial-in number is: 267-930-4000 \nThe pin is: 533 150 819 \nBE THERE! \n 
URL:https://utruthcenter.org/event/utc-tuesday-night-prayer-meeting-3-2-2/2025-03-18/
LOCATION:THIS IS AN ONLINE ONLY WORSHIP EXPERIENCE.\, THIS IS AN ONLINE ONLY WORSHIP EXPERIENCE.\, FL\, 33056\, United States
CATEGORIES:Worship
ATTACH;FMTTYPE=image/jpeg:https://utruthcenter.org/wp-content/uploads/2022/12/UTC-TuesPrayerMTG-2023-CalArt.jpg
END:VEVENT
BEGIN:VEVENT
DTSTART;TZID=America/New_York:20250311T180000
DTEND;TZID=America/New_York:20250311T190000
DTSTAMP:20260423T155401
CREATED:20241229T144456Z
LAST-MODIFIED:20241229T144457Z
UID:10001174-1741716000-1741719600@utruthcenter.org
SUMMARY:UTC Tuesday Night Prayer Meeting
DESCRIPTION:Join us for a TUESDAY NIGHT PRAYER MEETING!\nEvery Tuesday from 6:00pm to 7:00pm \nThe dial-in number is: 267-930-4000 \nThe pin is: 533 150 819 \nBE THERE! \n 
URL:https://utruthcenter.org/event/utc-tuesday-night-prayer-meeting-3-2-2/2025-03-11/
LOCATION:THIS IS AN ONLINE ONLY WORSHIP EXPERIENCE.\, THIS IS AN ONLINE ONLY WORSHIP EXPERIENCE.\, FL\, 33056\, United States
CATEGORIES:Worship
ATTACH;FMTTYPE=image/jpeg:https://utruthcenter.org/wp-content/uploads/2022/12/UTC-TuesPrayerMTG-2023-CalArt.jpg
END:VEVENT
BEGIN:VEVENT
DTSTART;TZID=America/New_York:20250304T180000
DTEND;TZID=America/New_York:20250304T190000
DTSTAMP:20260423T155401
CREATED:20241229T144456Z
LAST-MODIFIED:20241229T144457Z
UID:10001173-1741111200-1741114800@utruthcenter.org
SUMMARY:UTC Tuesday Night Prayer Meeting
DESCRIPTION:Join us for a TUESDAY NIGHT PRAYER MEETING!\nEvery Tuesday from 6:00pm to 7:00pm \nThe dial-in number is: 267-930-4000 \nThe pin is: 533 150 819 \nBE THERE! \n 
URL:https://utruthcenter.org/event/utc-tuesday-night-prayer-meeting-3-2-2/2025-03-04/
LOCATION:THIS IS AN ONLINE ONLY WORSHIP EXPERIENCE.\, THIS IS AN ONLINE ONLY WORSHIP EXPERIENCE.\, FL\, 33056\, United States
CATEGORIES:Worship
ATTACH;FMTTYPE=image/jpeg:https://utruthcenter.org/wp-content/uploads/2022/12/UTC-TuesPrayerMTG-2023-CalArt.jpg
END:VEVENT
BEGIN:VEVENT
DTSTART;TZID=America/New_York:20250225T180000
DTEND;TZID=America/New_York:20250225T190000
DTSTAMP:20260423T155401
CREATED:20241229T144456Z
LAST-MODIFIED:20241229T144457Z
UID:10001172-1740506400-1740510000@utruthcenter.org
SUMMARY:UTC Tuesday Night Prayer Meeting
DESCRIPTION:Join us for a TUESDAY NIGHT PRAYER MEETING!\nEvery Tuesday from 6:00pm to 7:00pm \nThe dial-in number is: 267-930-4000 \nThe pin is: 533 150 819 \nBE THERE! \n 
URL:https://utruthcenter.org/event/utc-tuesday-night-prayer-meeting-3-2-2/2025-02-25/
LOCATION:THIS IS AN ONLINE ONLY WORSHIP EXPERIENCE.\, THIS IS AN ONLINE ONLY WORSHIP EXPERIENCE.\, FL\, 33056\, United States
CATEGORIES:Worship
ATTACH;FMTTYPE=image/jpeg:https://utruthcenter.org/wp-content/uploads/2022/12/UTC-TuesPrayerMTG-2023-CalArt.jpg
END:VEVENT
BEGIN:VEVENT
DTSTART;TZID=America/New_York:20250218T180000
DTEND;TZID=America/New_York:20250218T190000
DTSTAMP:20260423T155401
CREATED:20241229T144456Z
LAST-MODIFIED:20241229T144457Z
UID:10001171-1739901600-1739905200@utruthcenter.org
SUMMARY:UTC Tuesday Night Prayer Meeting
DESCRIPTION:Join us for a TUESDAY NIGHT PRAYER MEETING!\nEvery Tuesday from 6:00pm to 7:00pm \nThe dial-in number is: 267-930-4000 \nThe pin is: 533 150 819 \nBE THERE! \n 
URL:https://utruthcenter.org/event/utc-tuesday-night-prayer-meeting-3-2-2/2025-02-18/
LOCATION:THIS IS AN ONLINE ONLY WORSHIP EXPERIENCE.\, THIS IS AN ONLINE ONLY WORSHIP EXPERIENCE.\, FL\, 33056\, United States
CATEGORIES:Worship
ATTACH;FMTTYPE=image/jpeg:https://utruthcenter.org/wp-content/uploads/2022/12/UTC-TuesPrayerMTG-2023-CalArt.jpg
END:VEVENT
BEGIN:VEVENT
DTSTART;TZID=America/New_York:20250211T180000
DTEND;TZID=America/New_York:20250211T190000
DTSTAMP:20260423T155401
CREATED:20241229T144456Z
LAST-MODIFIED:20241229T144457Z
UID:10001170-1739296800-1739300400@utruthcenter.org
SUMMARY:UTC Tuesday Night Prayer Meeting
DESCRIPTION:Join us for a TUESDAY NIGHT PRAYER MEETING!\nEvery Tuesday from 6:00pm to 7:00pm \nThe dial-in number is: 267-930-4000 \nThe pin is: 533 150 819 \nBE THERE! \n 
URL:https://utruthcenter.org/event/utc-tuesday-night-prayer-meeting-3-2-2/2025-02-11/
LOCATION:THIS IS AN ONLINE ONLY WORSHIP EXPERIENCE.\, THIS IS AN ONLINE ONLY WORSHIP EXPERIENCE.\, FL\, 33056\, United States
CATEGORIES:Worship
ATTACH;FMTTYPE=image/jpeg:https://utruthcenter.org/wp-content/uploads/2022/12/UTC-TuesPrayerMTG-2023-CalArt.jpg
END:VEVENT
BEGIN:VEVENT
DTSTART;TZID=America/New_York:20250204T180000
DTEND;TZID=America/New_York:20250204T190000
DTSTAMP:20260423T155401
CREATED:20241229T144456Z
LAST-MODIFIED:20241229T144457Z
UID:10001169-1738692000-1738695600@utruthcenter.org
SUMMARY:UTC Tuesday Night Prayer Meeting
DESCRIPTION:Join us for a TUESDAY NIGHT PRAYER MEETING!\nEvery Tuesday from 6:00pm to 7:00pm \nThe dial-in number is: 267-930-4000 \nThe pin is: 533 150 819 \nBE THERE! \n 
URL:https://utruthcenter.org/event/utc-tuesday-night-prayer-meeting-3-2-2/2025-02-04/
LOCATION:THIS IS AN ONLINE ONLY WORSHIP EXPERIENCE.\, THIS IS AN ONLINE ONLY WORSHIP EXPERIENCE.\, FL\, 33056\, United States
CATEGORIES:Worship
ATTACH;FMTTYPE=image/jpeg:https://utruthcenter.org/wp-content/uploads/2022/12/UTC-TuesPrayerMTG-2023-CalArt.jpg
END:VEVENT
BEGIN:VEVENT
DTSTART;TZID=America/New_York:20250128T180000
DTEND;TZID=America/New_York:20250128T190000
DTSTAMP:20260423T155401
CREATED:20241229T144456Z
LAST-MODIFIED:20241229T144457Z
UID:10001168-1738087200-1738090800@utruthcenter.org
SUMMARY:UTC Tuesday Night Prayer Meeting
DESCRIPTION:Join us for a TUESDAY NIGHT PRAYER MEETING!\nEvery Tuesday from 6:00pm to 7:00pm \nThe dial-in number is: 267-930-4000 \nThe pin is: 533 150 819 \nBE THERE! \n 
URL:https://utruthcenter.org/event/utc-tuesday-night-prayer-meeting-3-2-2/2025-01-28/
LOCATION:THIS IS AN ONLINE ONLY WORSHIP EXPERIENCE.\, THIS IS AN ONLINE ONLY WORSHIP EXPERIENCE.\, FL\, 33056\, United States
CATEGORIES:Worship
ATTACH;FMTTYPE=image/jpeg:https://utruthcenter.org/wp-content/uploads/2022/12/UTC-TuesPrayerMTG-2023-CalArt.jpg
END:VEVENT
BEGIN:VEVENT
DTSTART;TZID=America/New_York:20250126T100000
DTEND;TZID=America/New_York:20250126T123000
DTSTAMP:20260423T155401
CREATED:20241224T210921Z
LAST-MODIFIED:20241224T210921Z
UID:10001163-1737885600-1737894600@utruthcenter.org
SUMMARY:Overcoming the Barriers to Living Your Best Life
DESCRIPTION:THEME: Boldly Come Alive in 25: Live Your Best Life Now\n\nLESSON TITLE:\nOvercoming the Barriers to Living Your Best Life\n\nTEACHER: \n \nRev. Charles M. Taylor\n\nRESPONSIVE READING: \nDaily Inspiration Pg. 37 \n\nSCRIPTURE: \nMatthew 3:10 \n\nColor: Blue\nPower: Faith\nDisciple: Peter\nWomen of the Chalice: Elizabeth\nPhysical Location: Pineal Glandn\nMinistry: Prayer and Healing
URL:https://utruthcenter.org/event/overcoming-the-barriers-to-living-your-best-life/
LOCATION:UTC\, 21310 NW 37th Avenue\, Miami Gardens\, FL\, 33056
CATEGORIES:Events,Worship
ATTACH;FMTTYPE=image/jpeg:https://utruthcenter.org/wp-content/uploads/2024/12/JANFEB-2025-UTC-CalArt.jpg
GEO:25.9696213;-80.2633696
X-APPLE-STRUCTURED-LOCATION;VALUE=URI;X-ADDRESS=UTC 21310 NW 37th Avenue Miami Gardens FL 33056;X-APPLE-RADIUS=500;X-TITLE=21310 NW 37th Avenue:geo:-80.2633696,25.9696213
END:VEVENT
BEGIN:VEVENT
DTSTART;TZID=America/New_York:20250121T180000
DTEND;TZID=America/New_York:20250121T190000
DTSTAMP:20260423T155401
CREATED:20241229T144456Z
LAST-MODIFIED:20241229T144457Z
UID:10001167-1737482400-1737486000@utruthcenter.org
SUMMARY:UTC Tuesday Night Prayer Meeting
DESCRIPTION:Join us for a TUESDAY NIGHT PRAYER MEETING!\nEvery Tuesday from 6:00pm to 7:00pm \nThe dial-in number is: 267-930-4000 \nThe pin is: 533 150 819 \nBE THERE! \n 
URL:https://utruthcenter.org/event/utc-tuesday-night-prayer-meeting-3-2-2/2025-01-21/
LOCATION:THIS IS AN ONLINE ONLY WORSHIP EXPERIENCE.\, THIS IS AN ONLINE ONLY WORSHIP EXPERIENCE.\, FL\, 33056\, United States
CATEGORIES:Worship
ATTACH;FMTTYPE=image/jpeg:https://utruthcenter.org/wp-content/uploads/2022/12/UTC-TuesPrayerMTG-2023-CalArt.jpg
END:VEVENT
BEGIN:VEVENT
DTSTART;TZID=America/New_York:20250119T100000
DTEND;TZID=America/New_York:20250119T123000
DTSTAMP:20260423T155401
CREATED:20241224T210044Z
LAST-MODIFIED:20241224T211008Z
UID:10001162-1737280800-1737289800@utruthcenter.org
SUMMARY:You Must Risk to Live Your Best Life
DESCRIPTION:THEME: Boldly Come Alive in 25: Live Your Best Life Now\n\nLESSON TITLE:\nYou Must Risk to Live Your Best Life\n\nTEACHER: \n \nRev. Charles M. Taylor\n\nRESPONSIVE READING: \nDaily Inspiration Pg. 29 \n\nSCRIPTURE: \nEcclesiastes 11:4-6 \n\nColor: Blue\nPower: Faith\nDisciple: Peter\nWomen of the Chalice: Elizabeth\nPhysical Location: Pineal Glandn\nMinistry: Prayer and Healing
URL:https://utruthcenter.org/event/you-must-risk-to-live-your-best-life/
LOCATION:UTC\, 21310 NW 37th Avenue\, Miami Gardens\, FL\, 33056
CATEGORIES:Events,Worship
ATTACH;FMTTYPE=image/jpeg:https://utruthcenter.org/wp-content/uploads/2024/12/JANFEB-2025-UTC-CalArt.jpg
GEO:25.9696213;-80.2633696
X-APPLE-STRUCTURED-LOCATION;VALUE=URI;X-ADDRESS=UTC 21310 NW 37th Avenue Miami Gardens FL 33056;X-APPLE-RADIUS=500;X-TITLE=21310 NW 37th Avenue:geo:-80.2633696,25.9696213
END:VEVENT
BEGIN:VEVENT
DTSTART;TZID=America/New_York:20250118T090000
DTEND;TZID=America/New_York:20250118T100000
DTSTAMP:20260423T155401
CREATED:20250114T202059Z
LAST-MODIFIED:20250114T202059Z
UID:10001220-1737190800-1737194400@utruthcenter.org
SUMMARY:MLK Peace Prayer Vigil
DESCRIPTION:Join us online for the 2025 Martin Luther King Peace Prayer Vigil on Saturday\, January 18th! \n\nHere’s how to log in:\nZoom times: 9:00am & 10:00am\nMeeting ID: 892 4567 7417\nPasscode: 948098 (305) 624-4991 \n\nNeed more info? Reach out to us at:\n(305) 624-4991
URL:https://utruthcenter.org/event/mlk-peace-prayer-vigil/2025-01-18/
LOCATION:Online Event
CATEGORIES:Holidays
ATTACH;FMTTYPE=image/jpeg:https://utruthcenter.org/wp-content/uploads/2025/01/MLK-prayervigil-2025-UTC-CalArt.jpg
END:VEVENT
BEGIN:VEVENT
DTSTART;TZID=America/New_York:20250114T180000
DTEND;TZID=America/New_York:20250114T190000
DTSTAMP:20260423T155401
CREATED:20241229T144456Z
LAST-MODIFIED:20241229T144457Z
UID:10001166-1736877600-1736881200@utruthcenter.org
SUMMARY:UTC Tuesday Night Prayer Meeting
DESCRIPTION:Join us for a TUESDAY NIGHT PRAYER MEETING!\nEvery Tuesday from 6:00pm to 7:00pm \nThe dial-in number is: 267-930-4000 \nThe pin is: 533 150 819 \nBE THERE! \n 
URL:https://utruthcenter.org/event/utc-tuesday-night-prayer-meeting-3-2-2/2025-01-14/
LOCATION:THIS IS AN ONLINE ONLY WORSHIP EXPERIENCE.\, THIS IS AN ONLINE ONLY WORSHIP EXPERIENCE.\, FL\, 33056\, United States
CATEGORIES:Worship
ATTACH;FMTTYPE=image/jpeg:https://utruthcenter.org/wp-content/uploads/2022/12/UTC-TuesPrayerMTG-2023-CalArt.jpg
END:VEVENT
BEGIN:VEVENT
DTSTART;TZID=America/New_York:20250112T100000
DTEND;TZID=America/New_York:20250112T123000
DTSTAMP:20260423T155401
CREATED:20241224T205855Z
LAST-MODIFIED:20241224T205855Z
UID:10001161-1736676000-1736685000@utruthcenter.org
SUMMARY:Choose to Live Your Best Life
DESCRIPTION:THEME: Boldly Come Alive in 25: Live Your Best Life Now\n\nLESSON TITLE:\nChoose to Live Your Best Life\n\nTEACHER: \n \nRev. Shakira Taylor\n\nRESPONSIVE READING: \nDaily Inspiration Pg. 9 \n\nSCRIPTURE: \nJohn 10:10 \n\nColor: Blue\nPower: Faith\nDisciple: Peter\nWomen of the Chalice: Elizabeth\nPhysical Location: Pineal Glandn\nMinistry: Prayer and Healing
URL:https://utruthcenter.org/event/choose-to-live-your-best-life/
LOCATION:UTC\, 21310 NW 37th Avenue\, Miami Gardens\, FL\, 33056
CATEGORIES:Events,Worship
ATTACH;FMTTYPE=image/jpeg:https://utruthcenter.org/wp-content/uploads/2024/12/JANFEB-2025-UTC-CalArt.jpg
GEO:25.9696213;-80.2633696
X-APPLE-STRUCTURED-LOCATION;VALUE=URI;X-ADDRESS=UTC 21310 NW 37th Avenue Miami Gardens FL 33056;X-APPLE-RADIUS=500;X-TITLE=21310 NW 37th Avenue:geo:-80.2633696,25.9696213
END:VEVENT
END:VCALENDAR