BEGIN:VCALENDAR
VERSION:2.0
PRODID:-//Universal Truth Center - ECPv6.15.17//NONSGML v1.0//EN
CALSCALE:GREGORIAN
METHOD:PUBLISH
X-ORIGINAL-URL:https://utruthcenter.org
X-WR-CALDESC:Events for Universal Truth Center
REFRESH-INTERVAL;VALUE=DURATION:PT1H
X-Robots-Tag:noindex
X-PUBLISHED-TTL:PT1H
BEGIN:VTIMEZONE
TZID:America/New_York
BEGIN:DAYLIGHT
TZOFFSETFROM:-0500
TZOFFSETTO:-0400
TZNAME:EDT
DTSTART:20200308T070000
END:DAYLIGHT
BEGIN:STANDARD
TZOFFSETFROM:-0400
TZOFFSETTO:-0500
TZNAME:EST
DTSTART:20201101T060000
END:STANDARD
BEGIN:DAYLIGHT
TZOFFSETFROM:-0500
TZOFFSETTO:-0400
TZNAME:EDT
DTSTART:20210314T070000
END:DAYLIGHT
BEGIN:STANDARD
TZOFFSETFROM:-0400
TZOFFSETTO:-0500
TZNAME:EST
DTSTART:20211107T060000
END:STANDARD
BEGIN:DAYLIGHT
TZOFFSETFROM:-0500
TZOFFSETTO:-0400
TZNAME:EDT
DTSTART:20220313T070000
END:DAYLIGHT
BEGIN:STANDARD
TZOFFSETFROM:-0400
TZOFFSETTO:-0500
TZNAME:EST
DTSTART:20221106T060000
END:STANDARD
END:VTIMEZONE
BEGIN:VEVENT
DTSTART;TZID=America/New_York:20211019T180000
DTEND;TZID=America/New_York:20211019T200000
DTSTAMP:20260424T132608
CREATED:20201212T174501Z
LAST-MODIFIED:20210501T175633Z
UID:10000080-1634666400-1634673600@utruthcenter.org
SUMMARY:Tuesday Prayer Meeting
DESCRIPTION:Join us for a TUESDAY NIGHT PRAYER MEETING!\nThe dial-in number is: 712-451-0011 \nThe pin is: 457533# \nBE THERE!
URL:https://utruthcenter.org/event/tuesday-prayer-meeting-2/2021-10-19/
LOCATION:THIS IS AN ONLINE ONLY WORSHIP EXPERIENCE.\, THIS IS AN ONLINE ONLY WORSHIP EXPERIENCE.\, FL\, 33056\, United States
CATEGORIES:Meetings,Worship
ATTACH;FMTTYPE=image/jpeg:https://utruthcenter.org/wp-content/uploads/2020/12/prayerMTGs_2021-CalArt.jpg
END:VEVENT
BEGIN:VEVENT
DTSTART;TZID=America/New_York:20211018T080000
DTEND;TZID=America/New_York:20211018T090000
DTSTAMP:20260424T132608
CREATED:20210920T180022Z
LAST-MODIFIED:20210920T180838Z
UID:10000575-1634544000-1634547600@utruthcenter.org
SUMMARY:UTC Morning Prayer Line
DESCRIPTION:PRAYER LINE: 716-427-1108\nAccess Code: 457533\nCOME JOIN US EVERY MORNING @ 8AM.
URL:https://utruthcenter.org/event/utc-morning-prayer-line/2021-10-18/
LOCATION:THIS EVENT IS ONLINE ONLY.\, United States
CATEGORIES:Events,Meetings
ATTACH;FMTTYPE=image/png:https://utruthcenter.org/wp-content/uploads/2021/09/UTC-PRAYER_LINE-min-CalArt.png
END:VEVENT
BEGIN:VEVENT
DTSTART;TZID=America/New_York:20211012T180000
DTEND;TZID=America/New_York:20211012T200000
DTSTAMP:20260424T132608
CREATED:20201212T174501Z
LAST-MODIFIED:20210501T175633Z
UID:10000079-1634061600-1634068800@utruthcenter.org
SUMMARY:Tuesday Prayer Meeting
DESCRIPTION:Join us for a TUESDAY NIGHT PRAYER MEETING!\nThe dial-in number is: 712-451-0011 \nThe pin is: 457533# \nBE THERE!
URL:https://utruthcenter.org/event/tuesday-prayer-meeting-2/2021-10-12/
LOCATION:THIS IS AN ONLINE ONLY WORSHIP EXPERIENCE.\, THIS IS AN ONLINE ONLY WORSHIP EXPERIENCE.\, FL\, 33056\, United States
CATEGORIES:Meetings,Worship
ATTACH;FMTTYPE=image/jpeg:https://utruthcenter.org/wp-content/uploads/2020/12/prayerMTGs_2021-CalArt.jpg
END:VEVENT
BEGIN:VEVENT
DTSTART;TZID=America/New_York:20211011T080000
DTEND;TZID=America/New_York:20211011T090000
DTSTAMP:20260424T132608
CREATED:20210920T180022Z
LAST-MODIFIED:20210920T180838Z
UID:10000574-1633939200-1633942800@utruthcenter.org
SUMMARY:UTC Morning Prayer Line
DESCRIPTION:PRAYER LINE: 716-427-1108\nAccess Code: 457533\nCOME JOIN US EVERY MORNING @ 8AM.
URL:https://utruthcenter.org/event/utc-morning-prayer-line/2021-10-11/
LOCATION:THIS EVENT IS ONLINE ONLY.\, United States
CATEGORIES:Events,Meetings
ATTACH;FMTTYPE=image/png:https://utruthcenter.org/wp-content/uploads/2021/09/UTC-PRAYER_LINE-min-CalArt.png
END:VEVENT
BEGIN:VEVENT
DTSTART;TZID=America/New_York:20211005T180000
DTEND;TZID=America/New_York:20211005T200000
DTSTAMP:20260424T132608
CREATED:20201212T174501Z
LAST-MODIFIED:20210501T175633Z
UID:10000078-1633456800-1633464000@utruthcenter.org
SUMMARY:Tuesday Prayer Meeting
DESCRIPTION:Join us for a TUESDAY NIGHT PRAYER MEETING!\nThe dial-in number is: 712-451-0011 \nThe pin is: 457533# \nBE THERE!
URL:https://utruthcenter.org/event/tuesday-prayer-meeting-2/2021-10-05/
LOCATION:THIS IS AN ONLINE ONLY WORSHIP EXPERIENCE.\, THIS IS AN ONLINE ONLY WORSHIP EXPERIENCE.\, FL\, 33056\, United States
CATEGORIES:Meetings,Worship
ATTACH;FMTTYPE=image/jpeg:https://utruthcenter.org/wp-content/uploads/2020/12/prayerMTGs_2021-CalArt.jpg
END:VEVENT
BEGIN:VEVENT
DTSTART;TZID=America/New_York:20211004T080000
DTEND;TZID=America/New_York:20211004T090000
DTSTAMP:20260424T132608
CREATED:20210920T180022Z
LAST-MODIFIED:20210920T180838Z
UID:10000573-1633334400-1633338000@utruthcenter.org
SUMMARY:UTC Morning Prayer Line
DESCRIPTION:PRAYER LINE: 716-427-1108\nAccess Code: 457533\nCOME JOIN US EVERY MORNING @ 8AM.
URL:https://utruthcenter.org/event/utc-morning-prayer-line/2021-10-04/
LOCATION:THIS EVENT IS ONLINE ONLY.\, United States
CATEGORIES:Events,Meetings
ATTACH;FMTTYPE=image/png:https://utruthcenter.org/wp-content/uploads/2021/09/UTC-PRAYER_LINE-min-CalArt.png
END:VEVENT
BEGIN:VEVENT
DTSTART;TZID=America/New_York:20210928T180000
DTEND;TZID=America/New_York:20210928T200000
DTSTAMP:20260424T132608
CREATED:20201212T174501Z
LAST-MODIFIED:20210501T175633Z
UID:10000077-1632852000-1632859200@utruthcenter.org
SUMMARY:Tuesday Prayer Meeting
DESCRIPTION:Join us for a TUESDAY NIGHT PRAYER MEETING!\nThe dial-in number is: 712-451-0011 \nThe pin is: 457533# \nBE THERE!
URL:https://utruthcenter.org/event/tuesday-prayer-meeting-2/2021-09-28/
LOCATION:THIS IS AN ONLINE ONLY WORSHIP EXPERIENCE.\, THIS IS AN ONLINE ONLY WORSHIP EXPERIENCE.\, FL\, 33056\, United States
CATEGORIES:Meetings,Worship
ATTACH;FMTTYPE=image/jpeg:https://utruthcenter.org/wp-content/uploads/2020/12/prayerMTGs_2021-CalArt.jpg
END:VEVENT
BEGIN:VEVENT
DTSTART;TZID=America/New_York:20210927T080000
DTEND;TZID=America/New_York:20210927T090000
DTSTAMP:20260424T132608
CREATED:20210920T180022Z
LAST-MODIFIED:20210920T180838Z
UID:10000572-1632729600-1632733200@utruthcenter.org
SUMMARY:UTC Morning Prayer Line
DESCRIPTION:PRAYER LINE: 716-427-1108\nAccess Code: 457533\nCOME JOIN US EVERY MORNING @ 8AM.
URL:https://utruthcenter.org/event/utc-morning-prayer-line/2021-09-27/
LOCATION:THIS EVENT IS ONLINE ONLY.\, United States
CATEGORIES:Events,Meetings
ATTACH;FMTTYPE=image/png:https://utruthcenter.org/wp-content/uploads/2021/09/UTC-PRAYER_LINE-min-CalArt.png
END:VEVENT
BEGIN:VEVENT
DTSTART;TZID=America/New_York:20210921T180000
DTEND;TZID=America/New_York:20210921T200000
DTSTAMP:20260424T132608
CREATED:20201212T174501Z
LAST-MODIFIED:20210501T175633Z
UID:10000076-1632247200-1632254400@utruthcenter.org
SUMMARY:Tuesday Prayer Meeting
DESCRIPTION:Join us for a TUESDAY NIGHT PRAYER MEETING!\nThe dial-in number is: 712-451-0011 \nThe pin is: 457533# \nBE THERE!
URL:https://utruthcenter.org/event/tuesday-prayer-meeting-2/2021-09-21/
LOCATION:THIS IS AN ONLINE ONLY WORSHIP EXPERIENCE.\, THIS IS AN ONLINE ONLY WORSHIP EXPERIENCE.\, FL\, 33056\, United States
CATEGORIES:Meetings,Worship
ATTACH;FMTTYPE=image/jpeg:https://utruthcenter.org/wp-content/uploads/2020/12/prayerMTGs_2021-CalArt.jpg
END:VEVENT
BEGIN:VEVENT
DTSTART;TZID=America/New_York:20210920T080000
DTEND;TZID=America/New_York:20210920T090000
DTSTAMP:20260424T132608
CREATED:20210920T180022Z
LAST-MODIFIED:20210920T180838Z
UID:10000571-1632124800-1632128400@utruthcenter.org
SUMMARY:UTC Morning Prayer Line
DESCRIPTION:PRAYER LINE: 716-427-1108\nAccess Code: 457533\nCOME JOIN US EVERY MORNING @ 8AM.
URL:https://utruthcenter.org/event/utc-morning-prayer-line/2021-09-20/
LOCATION:THIS EVENT IS ONLINE ONLY.\, United States
CATEGORIES:Events,Meetings
ATTACH;FMTTYPE=image/png:https://utruthcenter.org/wp-content/uploads/2021/09/UTC-PRAYER_LINE-min-CalArt.png
END:VEVENT
BEGIN:VEVENT
DTSTART;TZID=America/New_York:20210914T180000
DTEND;TZID=America/New_York:20210914T200000
DTSTAMP:20260424T132608
CREATED:20201212T174501Z
LAST-MODIFIED:20210501T175633Z
UID:10000075-1631642400-1631649600@utruthcenter.org
SUMMARY:Tuesday Prayer Meeting
DESCRIPTION:Join us for a TUESDAY NIGHT PRAYER MEETING!\nThe dial-in number is: 712-451-0011 \nThe pin is: 457533# \nBE THERE!
URL:https://utruthcenter.org/event/tuesday-prayer-meeting-2/2021-09-14/
LOCATION:THIS IS AN ONLINE ONLY WORSHIP EXPERIENCE.\, THIS IS AN ONLINE ONLY WORSHIP EXPERIENCE.\, FL\, 33056\, United States
CATEGORIES:Meetings,Worship
ATTACH;FMTTYPE=image/jpeg:https://utruthcenter.org/wp-content/uploads/2020/12/prayerMTGs_2021-CalArt.jpg
END:VEVENT
BEGIN:VEVENT
DTSTART;TZID=America/New_York:20210907T180000
DTEND;TZID=America/New_York:20210907T200000
DTSTAMP:20260424T132608
CREATED:20201212T174501Z
LAST-MODIFIED:20210501T175633Z
UID:10000074-1631037600-1631044800@utruthcenter.org
SUMMARY:Tuesday Prayer Meeting
DESCRIPTION:Join us for a TUESDAY NIGHT PRAYER MEETING!\nThe dial-in number is: 712-451-0011 \nThe pin is: 457533# \nBE THERE!
URL:https://utruthcenter.org/event/tuesday-prayer-meeting-2/2021-09-07/
LOCATION:THIS IS AN ONLINE ONLY WORSHIP EXPERIENCE.\, THIS IS AN ONLINE ONLY WORSHIP EXPERIENCE.\, FL\, 33056\, United States
CATEGORIES:Meetings,Worship
ATTACH;FMTTYPE=image/jpeg:https://utruthcenter.org/wp-content/uploads/2020/12/prayerMTGs_2021-CalArt.jpg
END:VEVENT
BEGIN:VEVENT
DTSTART;TZID=America/New_York:20210831T180000
DTEND;TZID=America/New_York:20210831T200000
DTSTAMP:20260424T132608
CREATED:20201212T174501Z
LAST-MODIFIED:20210501T175633Z
UID:10000073-1630432800-1630440000@utruthcenter.org
SUMMARY:Tuesday Prayer Meeting
DESCRIPTION:Join us for a TUESDAY NIGHT PRAYER MEETING!\nThe dial-in number is: 712-451-0011 \nThe pin is: 457533# \nBE THERE!
URL:https://utruthcenter.org/event/tuesday-prayer-meeting-2/2021-08-31/
LOCATION:THIS IS AN ONLINE ONLY WORSHIP EXPERIENCE.\, THIS IS AN ONLINE ONLY WORSHIP EXPERIENCE.\, FL\, 33056\, United States
CATEGORIES:Meetings,Worship
ATTACH;FMTTYPE=image/jpeg:https://utruthcenter.org/wp-content/uploads/2020/12/prayerMTGs_2021-CalArt.jpg
END:VEVENT
BEGIN:VEVENT
DTSTART;TZID=America/New_York:20210824T180000
DTEND;TZID=America/New_York:20210824T200000
DTSTAMP:20260424T132608
CREATED:20201212T174501Z
LAST-MODIFIED:20210501T175633Z
UID:10000072-1629828000-1629835200@utruthcenter.org
SUMMARY:Tuesday Prayer Meeting
DESCRIPTION:Join us for a TUESDAY NIGHT PRAYER MEETING!\nThe dial-in number is: 712-451-0011 \nThe pin is: 457533# \nBE THERE!
URL:https://utruthcenter.org/event/tuesday-prayer-meeting-2/2021-08-24/
LOCATION:THIS IS AN ONLINE ONLY WORSHIP EXPERIENCE.\, THIS IS AN ONLINE ONLY WORSHIP EXPERIENCE.\, FL\, 33056\, United States
CATEGORIES:Meetings,Worship
ATTACH;FMTTYPE=image/jpeg:https://utruthcenter.org/wp-content/uploads/2020/12/prayerMTGs_2021-CalArt.jpg
END:VEVENT
BEGIN:VEVENT
DTSTART;TZID=America/New_York:20210817T180000
DTEND;TZID=America/New_York:20210817T200000
DTSTAMP:20260424T132608
CREATED:20201212T174501Z
LAST-MODIFIED:20210501T175633Z
UID:10000071-1629223200-1629230400@utruthcenter.org
SUMMARY:Tuesday Prayer Meeting
DESCRIPTION:Join us for a TUESDAY NIGHT PRAYER MEETING!\nThe dial-in number is: 712-451-0011 \nThe pin is: 457533# \nBE THERE!
URL:https://utruthcenter.org/event/tuesday-prayer-meeting-2/2021-08-17/
LOCATION:THIS IS AN ONLINE ONLY WORSHIP EXPERIENCE.\, THIS IS AN ONLINE ONLY WORSHIP EXPERIENCE.\, FL\, 33056\, United States
CATEGORIES:Meetings,Worship
ATTACH;FMTTYPE=image/jpeg:https://utruthcenter.org/wp-content/uploads/2020/12/prayerMTGs_2021-CalArt.jpg
END:VEVENT
BEGIN:VEVENT
DTSTART;TZID=America/New_York:20210810T180000
DTEND;TZID=America/New_York:20210810T200000
DTSTAMP:20260424T132608
CREATED:20201212T174501Z
LAST-MODIFIED:20210501T175633Z
UID:10000070-1628618400-1628625600@utruthcenter.org
SUMMARY:Tuesday Prayer Meeting
DESCRIPTION:Join us for a TUESDAY NIGHT PRAYER MEETING!\nThe dial-in number is: 712-451-0011 \nThe pin is: 457533# \nBE THERE!
URL:https://utruthcenter.org/event/tuesday-prayer-meeting-2/2021-08-10/
LOCATION:THIS IS AN ONLINE ONLY WORSHIP EXPERIENCE.\, THIS IS AN ONLINE ONLY WORSHIP EXPERIENCE.\, FL\, 33056\, United States
CATEGORIES:Meetings,Worship
ATTACH;FMTTYPE=image/jpeg:https://utruthcenter.org/wp-content/uploads/2020/12/prayerMTGs_2021-CalArt.jpg
END:VEVENT
BEGIN:VEVENT
DTSTART;TZID=America/New_York:20210803T180000
DTEND;TZID=America/New_York:20210803T200000
DTSTAMP:20260424T132608
CREATED:20201212T174501Z
LAST-MODIFIED:20210501T175633Z
UID:10000069-1628013600-1628020800@utruthcenter.org
SUMMARY:Tuesday Prayer Meeting
DESCRIPTION:Join us for a TUESDAY NIGHT PRAYER MEETING!\nThe dial-in number is: 712-451-0011 \nThe pin is: 457533# \nBE THERE!
URL:https://utruthcenter.org/event/tuesday-prayer-meeting-2/2021-08-03/
LOCATION:THIS IS AN ONLINE ONLY WORSHIP EXPERIENCE.\, THIS IS AN ONLINE ONLY WORSHIP EXPERIENCE.\, FL\, 33056\, United States
CATEGORIES:Meetings,Worship
ATTACH;FMTTYPE=image/jpeg:https://utruthcenter.org/wp-content/uploads/2020/12/prayerMTGs_2021-CalArt.jpg
END:VEVENT
BEGIN:VEVENT
DTSTART;TZID=America/New_York:20210727T180000
DTEND;TZID=America/New_York:20210727T200000
DTSTAMP:20260424T132608
CREATED:20201212T174501Z
LAST-MODIFIED:20210501T175633Z
UID:10000068-1627408800-1627416000@utruthcenter.org
SUMMARY:Tuesday Prayer Meeting
DESCRIPTION:Join us for a TUESDAY NIGHT PRAYER MEETING!\nThe dial-in number is: 712-451-0011 \nThe pin is: 457533# \nBE THERE!
URL:https://utruthcenter.org/event/tuesday-prayer-meeting-2/2021-07-27/
LOCATION:THIS IS AN ONLINE ONLY WORSHIP EXPERIENCE.\, THIS IS AN ONLINE ONLY WORSHIP EXPERIENCE.\, FL\, 33056\, United States
CATEGORIES:Meetings,Worship
ATTACH;FMTTYPE=image/jpeg:https://utruthcenter.org/wp-content/uploads/2020/12/prayerMTGs_2021-CalArt.jpg
END:VEVENT
BEGIN:VEVENT
DTSTART;TZID=America/New_York:20210720T180000
DTEND;TZID=America/New_York:20210720T200000
DTSTAMP:20260424T132608
CREATED:20201212T174501Z
LAST-MODIFIED:20210501T175633Z
UID:10000067-1626804000-1626811200@utruthcenter.org
SUMMARY:Tuesday Prayer Meeting
DESCRIPTION:Join us for a TUESDAY NIGHT PRAYER MEETING!\nThe dial-in number is: 712-451-0011 \nThe pin is: 457533# \nBE THERE!
URL:https://utruthcenter.org/event/tuesday-prayer-meeting-2/2021-07-20/
LOCATION:THIS IS AN ONLINE ONLY WORSHIP EXPERIENCE.\, THIS IS AN ONLINE ONLY WORSHIP EXPERIENCE.\, FL\, 33056\, United States
CATEGORIES:Meetings,Worship
ATTACH;FMTTYPE=image/jpeg:https://utruthcenter.org/wp-content/uploads/2020/12/prayerMTGs_2021-CalArt.jpg
END:VEVENT
BEGIN:VEVENT
DTSTART;TZID=America/New_York:20210713T180000
DTEND;TZID=America/New_York:20210713T200000
DTSTAMP:20260424T132608
CREATED:20201212T174501Z
LAST-MODIFIED:20210501T175633Z
UID:10000066-1626199200-1626206400@utruthcenter.org
SUMMARY:Tuesday Prayer Meeting
DESCRIPTION:Join us for a TUESDAY NIGHT PRAYER MEETING!\nThe dial-in number is: 712-451-0011 \nThe pin is: 457533# \nBE THERE!
URL:https://utruthcenter.org/event/tuesday-prayer-meeting-2/2021-07-13/
LOCATION:THIS IS AN ONLINE ONLY WORSHIP EXPERIENCE.\, THIS IS AN ONLINE ONLY WORSHIP EXPERIENCE.\, FL\, 33056\, United States
CATEGORIES:Meetings,Worship
ATTACH;FMTTYPE=image/jpeg:https://utruthcenter.org/wp-content/uploads/2020/12/prayerMTGs_2021-CalArt.jpg
END:VEVENT
BEGIN:VEVENT
DTSTART;TZID=America/New_York:20210706T180000
DTEND;TZID=America/New_York:20210706T200000
DTSTAMP:20260424T132608
CREATED:20201212T174501Z
LAST-MODIFIED:20210501T175633Z
UID:10000065-1625594400-1625601600@utruthcenter.org
SUMMARY:Tuesday Prayer Meeting
DESCRIPTION:Join us for a TUESDAY NIGHT PRAYER MEETING!\nThe dial-in number is: 712-451-0011 \nThe pin is: 457533# \nBE THERE!
URL:https://utruthcenter.org/event/tuesday-prayer-meeting-2/2021-07-06/
LOCATION:THIS IS AN ONLINE ONLY WORSHIP EXPERIENCE.\, THIS IS AN ONLINE ONLY WORSHIP EXPERIENCE.\, FL\, 33056\, United States
CATEGORIES:Meetings,Worship
ATTACH;FMTTYPE=image/jpeg:https://utruthcenter.org/wp-content/uploads/2020/12/prayerMTGs_2021-CalArt.jpg
END:VEVENT
BEGIN:VEVENT
DTSTART;TZID=America/New_York:20210629T180000
DTEND;TZID=America/New_York:20210629T200000
DTSTAMP:20260424T132608
CREATED:20201212T174501Z
LAST-MODIFIED:20210501T175633Z
UID:10000064-1624989600-1624996800@utruthcenter.org
SUMMARY:Tuesday Prayer Meeting
DESCRIPTION:Join us for a TUESDAY NIGHT PRAYER MEETING!\nThe dial-in number is: 712-451-0011 \nThe pin is: 457533# \nBE THERE!
URL:https://utruthcenter.org/event/tuesday-prayer-meeting-2/2021-06-29/
LOCATION:THIS IS AN ONLINE ONLY WORSHIP EXPERIENCE.\, THIS IS AN ONLINE ONLY WORSHIP EXPERIENCE.\, FL\, 33056\, United States
CATEGORIES:Meetings,Worship
ATTACH;FMTTYPE=image/jpeg:https://utruthcenter.org/wp-content/uploads/2020/12/prayerMTGs_2021-CalArt.jpg
END:VEVENT
BEGIN:VEVENT
DTSTART;TZID=America/New_York:20210622T180000
DTEND;TZID=America/New_York:20210622T200000
DTSTAMP:20260424T132608
CREATED:20201212T174501Z
LAST-MODIFIED:20210501T175633Z
UID:10000063-1624384800-1624392000@utruthcenter.org
SUMMARY:Tuesday Prayer Meeting
DESCRIPTION:Join us for a TUESDAY NIGHT PRAYER MEETING!\nThe dial-in number is: 712-451-0011 \nThe pin is: 457533# \nBE THERE!
URL:https://utruthcenter.org/event/tuesday-prayer-meeting-2/2021-06-22/
LOCATION:THIS IS AN ONLINE ONLY WORSHIP EXPERIENCE.\, THIS IS AN ONLINE ONLY WORSHIP EXPERIENCE.\, FL\, 33056\, United States
CATEGORIES:Meetings,Worship
ATTACH;FMTTYPE=image/jpeg:https://utruthcenter.org/wp-content/uploads/2020/12/prayerMTGs_2021-CalArt.jpg
END:VEVENT
BEGIN:VEVENT
DTSTART;TZID=America/New_York:20210615T180000
DTEND;TZID=America/New_York:20210615T200000
DTSTAMP:20260424T132608
CREATED:20201212T174501Z
LAST-MODIFIED:20210501T175633Z
UID:10000062-1623780000-1623787200@utruthcenter.org
SUMMARY:Tuesday Prayer Meeting
DESCRIPTION:Join us for a TUESDAY NIGHT PRAYER MEETING!\nThe dial-in number is: 712-451-0011 \nThe pin is: 457533# \nBE THERE!
URL:https://utruthcenter.org/event/tuesday-prayer-meeting-2/2021-06-15/
LOCATION:THIS IS AN ONLINE ONLY WORSHIP EXPERIENCE.\, THIS IS AN ONLINE ONLY WORSHIP EXPERIENCE.\, FL\, 33056\, United States
CATEGORIES:Meetings,Worship
ATTACH;FMTTYPE=image/jpeg:https://utruthcenter.org/wp-content/uploads/2020/12/prayerMTGs_2021-CalArt.jpg
END:VEVENT
BEGIN:VEVENT
DTSTART;TZID=America/New_York:20210608T180000
DTEND;TZID=America/New_York:20210608T200000
DTSTAMP:20260424T132608
CREATED:20201212T174501Z
LAST-MODIFIED:20210501T175633Z
UID:10000061-1623175200-1623182400@utruthcenter.org
SUMMARY:Tuesday Prayer Meeting
DESCRIPTION:Join us for a TUESDAY NIGHT PRAYER MEETING!\nThe dial-in number is: 712-451-0011 \nThe pin is: 457533# \nBE THERE!
URL:https://utruthcenter.org/event/tuesday-prayer-meeting-2/2021-06-08/
LOCATION:THIS IS AN ONLINE ONLY WORSHIP EXPERIENCE.\, THIS IS AN ONLINE ONLY WORSHIP EXPERIENCE.\, FL\, 33056\, United States
CATEGORIES:Meetings,Worship
ATTACH;FMTTYPE=image/jpeg:https://utruthcenter.org/wp-content/uploads/2020/12/prayerMTGs_2021-CalArt.jpg
END:VEVENT
BEGIN:VEVENT
DTSTART;TZID=America/New_York:20210601T180000
DTEND;TZID=America/New_York:20210601T200000
DTSTAMP:20260424T132608
CREATED:20201212T174501Z
LAST-MODIFIED:20210501T175633Z
UID:10000060-1622570400-1622577600@utruthcenter.org
SUMMARY:Tuesday Prayer Meeting
DESCRIPTION:Join us for a TUESDAY NIGHT PRAYER MEETING!\nThe dial-in number is: 712-451-0011 \nThe pin is: 457533# \nBE THERE!
URL:https://utruthcenter.org/event/tuesday-prayer-meeting-2/2021-06-01/
LOCATION:THIS IS AN ONLINE ONLY WORSHIP EXPERIENCE.\, THIS IS AN ONLINE ONLY WORSHIP EXPERIENCE.\, FL\, 33056\, United States
CATEGORIES:Meetings,Worship
ATTACH;FMTTYPE=image/jpeg:https://utruthcenter.org/wp-content/uploads/2020/12/prayerMTGs_2021-CalArt.jpg
END:VEVENT
BEGIN:VEVENT
DTSTART;TZID=America/New_York:20210525T180000
DTEND;TZID=America/New_York:20210525T200000
DTSTAMP:20260424T132608
CREATED:20201212T174501Z
LAST-MODIFIED:20210501T175633Z
UID:10000059-1621965600-1621972800@utruthcenter.org
SUMMARY:Tuesday Prayer Meeting
DESCRIPTION:Join us for a TUESDAY NIGHT PRAYER MEETING!\nThe dial-in number is: 712-451-0011 \nThe pin is: 457533# \nBE THERE!
URL:https://utruthcenter.org/event/tuesday-prayer-meeting-2/2021-05-25/
LOCATION:THIS IS AN ONLINE ONLY WORSHIP EXPERIENCE.\, THIS IS AN ONLINE ONLY WORSHIP EXPERIENCE.\, FL\, 33056\, United States
CATEGORIES:Meetings,Worship
ATTACH;FMTTYPE=image/jpeg:https://utruthcenter.org/wp-content/uploads/2020/12/prayerMTGs_2021-CalArt.jpg
END:VEVENT
BEGIN:VEVENT
DTSTART;TZID=America/New_York:20210518T180000
DTEND;TZID=America/New_York:20210518T200000
DTSTAMP:20260424T132608
CREATED:20201212T174501Z
LAST-MODIFIED:20210501T175633Z
UID:10000058-1621360800-1621368000@utruthcenter.org
SUMMARY:Tuesday Prayer Meeting
DESCRIPTION:Join us for a TUESDAY NIGHT PRAYER MEETING!\nThe dial-in number is: 712-451-0011 \nThe pin is: 457533# \nBE THERE!
URL:https://utruthcenter.org/event/tuesday-prayer-meeting-2/2021-05-18/
LOCATION:THIS IS AN ONLINE ONLY WORSHIP EXPERIENCE.\, THIS IS AN ONLINE ONLY WORSHIP EXPERIENCE.\, FL\, 33056\, United States
CATEGORIES:Meetings,Worship
ATTACH;FMTTYPE=image/jpeg:https://utruthcenter.org/wp-content/uploads/2020/12/prayerMTGs_2021-CalArt.jpg
END:VEVENT
BEGIN:VEVENT
DTSTART;TZID=America/New_York:20210511T180000
DTEND;TZID=America/New_York:20210511T200000
DTSTAMP:20260424T132608
CREATED:20201212T174501Z
LAST-MODIFIED:20210501T175633Z
UID:10000057-1620756000-1620763200@utruthcenter.org
SUMMARY:Tuesday Prayer Meeting
DESCRIPTION:Join us for a TUESDAY NIGHT PRAYER MEETING!\nThe dial-in number is: 712-451-0011 \nThe pin is: 457533# \nBE THERE!
URL:https://utruthcenter.org/event/tuesday-prayer-meeting-2/2021-05-11/
LOCATION:THIS IS AN ONLINE ONLY WORSHIP EXPERIENCE.\, THIS IS AN ONLINE ONLY WORSHIP EXPERIENCE.\, FL\, 33056\, United States
CATEGORIES:Meetings,Worship
ATTACH;FMTTYPE=image/jpeg:https://utruthcenter.org/wp-content/uploads/2020/12/prayerMTGs_2021-CalArt.jpg
END:VEVENT
BEGIN:VEVENT
DTSTART;TZID=America/New_York:20210504T180000
DTEND;TZID=America/New_York:20210504T200000
DTSTAMP:20260424T132608
CREATED:20201212T174501Z
LAST-MODIFIED:20210501T175633Z
UID:10000056-1620151200-1620158400@utruthcenter.org
SUMMARY:Tuesday Prayer Meeting
DESCRIPTION:Join us for a TUESDAY NIGHT PRAYER MEETING!\nThe dial-in number is: 712-451-0011 \nThe pin is: 457533# \nBE THERE!
URL:https://utruthcenter.org/event/tuesday-prayer-meeting-2/2021-05-04/
LOCATION:THIS IS AN ONLINE ONLY WORSHIP EXPERIENCE.\, THIS IS AN ONLINE ONLY WORSHIP EXPERIENCE.\, FL\, 33056\, United States
CATEGORIES:Meetings,Worship
ATTACH;FMTTYPE=image/jpeg:https://utruthcenter.org/wp-content/uploads/2020/12/prayerMTGs_2021-CalArt.jpg
END:VEVENT
END:VCALENDAR