BEGIN:VCALENDAR
VERSION:2.0
PRODID:-//Universal Truth Center - ECPv6.15.17//NONSGML v1.0//EN
CALSCALE:GREGORIAN
METHOD:PUBLISH
X-WR-CALNAME:Universal Truth Center
X-ORIGINAL-URL:https://utruthcenter.org
X-WR-CALDESC:Events for Universal Truth Center
REFRESH-INTERVAL;VALUE=DURATION:PT1H
X-Robots-Tag:noindex
X-PUBLISHED-TTL:PT1H
BEGIN:VTIMEZONE
TZID:America/New_York
BEGIN:DAYLIGHT
TZOFFSETFROM:-0500
TZOFFSETTO:-0400
TZNAME:EDT
DTSTART:20210314T070000
END:DAYLIGHT
BEGIN:STANDARD
TZOFFSETFROM:-0400
TZOFFSETTO:-0500
TZNAME:EST
DTSTART:20211107T060000
END:STANDARD
BEGIN:DAYLIGHT
TZOFFSETFROM:-0500
TZOFFSETTO:-0400
TZNAME:EDT
DTSTART:20220313T070000
END:DAYLIGHT
BEGIN:STANDARD
TZOFFSETFROM:-0400
TZOFFSETTO:-0500
TZNAME:EST
DTSTART:20221106T060000
END:STANDARD
BEGIN:DAYLIGHT
TZOFFSETFROM:-0500
TZOFFSETTO:-0400
TZNAME:EDT
DTSTART:20230312T070000
END:DAYLIGHT
BEGIN:STANDARD
TZOFFSETFROM:-0400
TZOFFSETTO:-0500
TZNAME:EST
DTSTART:20231105T060000
END:STANDARD
BEGIN:DAYLIGHT
TZOFFSETFROM:-0500
TZOFFSETTO:-0400
TZNAME:EDT
DTSTART:20240310T070000
END:DAYLIGHT
BEGIN:STANDARD
TZOFFSETFROM:-0400
TZOFFSETTO:-0500
TZNAME:EST
DTSTART:20241103T060000
END:STANDARD
BEGIN:DAYLIGHT
TZOFFSETFROM:-0500
TZOFFSETTO:-0400
TZNAME:EDT
DTSTART:20250309T070000
END:DAYLIGHT
BEGIN:STANDARD
TZOFFSETFROM:-0400
TZOFFSETTO:-0500
TZNAME:EST
DTSTART:20251102T060000
END:STANDARD
END:VTIMEZONE
BEGIN:VEVENT
DTSTART;TZID=America/New_York:20240521T180000
DTEND;TZID=America/New_York:20240521T190000
DTSTAMP:20260424T021417
CREATED:20240318T204808Z
LAST-MODIFIED:20240419T173046Z
UID:10000979-1716314400-1716318000@utruthcenter.org
SUMMARY:UTC Tuesday Night Prayer Meeting
DESCRIPTION:Join us for a TUESDAY NIGHT PRAYER MEETING!\nEvery Tuesday from 6:00pm to 7:00pm \nThe dial-in number is: 267-930-4000 \nThe pin is: 533 150 819 \nBE THERE! \n 
URL:https://utruthcenter.org/event/utc-tuesday-night-prayer-meeting-3-2/2024-05-21/
LOCATION:THIS IS AN ONLINE ONLY WORSHIP EXPERIENCE.\, THIS IS AN ONLINE ONLY WORSHIP EXPERIENCE.\, FL\, 33056\, United States
CATEGORIES:Worship
ATTACH;FMTTYPE=image/jpeg:https://utruthcenter.org/wp-content/uploads/2022/12/UTC-TuesPrayerMTG-2023-CalArt.jpg
END:VEVENT
BEGIN:VEVENT
DTSTART;TZID=America/New_York:20240514T180000
DTEND;TZID=America/New_York:20240514T190000
DTSTAMP:20260424T021417
CREATED:20240318T204808Z
LAST-MODIFIED:20240419T173046Z
UID:10000978-1715709600-1715713200@utruthcenter.org
SUMMARY:UTC Tuesday Night Prayer Meeting
DESCRIPTION:Join us for a TUESDAY NIGHT PRAYER MEETING!\nEvery Tuesday from 6:00pm to 7:00pm \nThe dial-in number is: 267-930-4000 \nThe pin is: 533 150 819 \nBE THERE! \n 
URL:https://utruthcenter.org/event/utc-tuesday-night-prayer-meeting-3-2/2024-05-14/
LOCATION:THIS IS AN ONLINE ONLY WORSHIP EXPERIENCE.\, THIS IS AN ONLINE ONLY WORSHIP EXPERIENCE.\, FL\, 33056\, United States
CATEGORIES:Worship
ATTACH;FMTTYPE=image/jpeg:https://utruthcenter.org/wp-content/uploads/2022/12/UTC-TuesPrayerMTG-2023-CalArt.jpg
END:VEVENT
BEGIN:VEVENT
DTSTART;TZID=America/New_York:20240507T180000
DTEND;TZID=America/New_York:20240507T190000
DTSTAMP:20260424T021417
CREATED:20240318T204808Z
LAST-MODIFIED:20240419T173046Z
UID:10000977-1715104800-1715108400@utruthcenter.org
SUMMARY:UTC Tuesday Night Prayer Meeting
DESCRIPTION:Join us for a TUESDAY NIGHT PRAYER MEETING!\nEvery Tuesday from 6:00pm to 7:00pm \nThe dial-in number is: 267-930-4000 \nThe pin is: 533 150 819 \nBE THERE! \n 
URL:https://utruthcenter.org/event/utc-tuesday-night-prayer-meeting-3-2/2024-05-07/
LOCATION:THIS IS AN ONLINE ONLY WORSHIP EXPERIENCE.\, THIS IS AN ONLINE ONLY WORSHIP EXPERIENCE.\, FL\, 33056\, United States
CATEGORIES:Worship
ATTACH;FMTTYPE=image/jpeg:https://utruthcenter.org/wp-content/uploads/2022/12/UTC-TuesPrayerMTG-2023-CalArt.jpg
END:VEVENT
BEGIN:VEVENT
DTSTART;TZID=America/New_York:20240430T180000
DTEND;TZID=America/New_York:20240430T190000
DTSTAMP:20260424T021417
CREATED:20240318T204808Z
LAST-MODIFIED:20240419T173046Z
UID:10000976-1714500000-1714503600@utruthcenter.org
SUMMARY:UTC Tuesday Night Prayer Meeting
DESCRIPTION:Join us for a TUESDAY NIGHT PRAYER MEETING!\nEvery Tuesday from 6:00pm to 7:00pm \nThe dial-in number is: 267-930-4000 \nThe pin is: 533 150 819 \nBE THERE! \n 
URL:https://utruthcenter.org/event/utc-tuesday-night-prayer-meeting-3-2/2024-04-30/
LOCATION:THIS IS AN ONLINE ONLY WORSHIP EXPERIENCE.\, THIS IS AN ONLINE ONLY WORSHIP EXPERIENCE.\, FL\, 33056\, United States
CATEGORIES:Worship
ATTACH;FMTTYPE=image/jpeg:https://utruthcenter.org/wp-content/uploads/2022/12/UTC-TuesPrayerMTG-2023-CalArt.jpg
END:VEVENT
BEGIN:VEVENT
DTSTART;TZID=America/New_York:20240428T100000
DTEND;TZID=America/New_York:20240428T123000
DTSTAMP:20260424T021417
CREATED:20240315T140217Z
LAST-MODIFIED:20240315T140256Z
UID:10000921-1714298400-1714307400@utruthcenter.org
SUMMARY:Awaken to Forgiveness
DESCRIPTION:THEME: AWAKEN YOUR PRAYER LIFE\nYOUTH SUNDAY\n\nLESSON TITLE: \nAwaken to Forgiveness\n\nTEACHER: \n \nMitchell Walthour\n\nRESPONSIVE READING: \nDaily Inspiration Pg. 63 \n\nSCRIPTURE: \nMatthew 6:12 \n\nColor: Yellow\nPower: Wisdom\nDisciple: James Son of Zebedee\nWomen of the Chalice: Salome\nPhysical Location: Pit of Stomach\nMinistry: Prayer & Healing \n\n 
URL:https://utruthcenter.org/event/awaken-to-forgiveness/
LOCATION:UTC\, 21310 NW 37th Avenue\, Miami Gardens\, FL\, 33056
CATEGORIES:Events,Worship
ATTACH;FMTTYPE=image/jpeg:https://utruthcenter.org/wp-content/uploads/2024/03/April2024Lesson-UTC-CalArt.jpg
GEO:25.9696213;-80.2633696
X-APPLE-STRUCTURED-LOCATION;VALUE=URI;X-ADDRESS=UTC 21310 NW 37th Avenue Miami Gardens FL 33056;X-APPLE-RADIUS=500;X-TITLE=21310 NW 37th Avenue:geo:-80.2633696,25.9696213
END:VEVENT
BEGIN:VEVENT
DTSTART;TZID=America/New_York:20240423T180000
DTEND;TZID=America/New_York:20240423T190000
DTSTAMP:20260424T021417
CREATED:20240318T204808Z
LAST-MODIFIED:20240419T173046Z
UID:10000975-1713895200-1713898800@utruthcenter.org
SUMMARY:UTC Tuesday Night Prayer Meeting
DESCRIPTION:Join us for a TUESDAY NIGHT PRAYER MEETING!\nEvery Tuesday from 6:00pm to 7:00pm \nThe dial-in number is: 267-930-4000 \nThe pin is: 533 150 819 \nBE THERE! \n 
URL:https://utruthcenter.org/event/utc-tuesday-night-prayer-meeting-3-2/2024-04-23/
LOCATION:THIS IS AN ONLINE ONLY WORSHIP EXPERIENCE.\, THIS IS AN ONLINE ONLY WORSHIP EXPERIENCE.\, FL\, 33056\, United States
CATEGORIES:Worship
ATTACH;FMTTYPE=image/jpeg:https://utruthcenter.org/wp-content/uploads/2022/12/UTC-TuesPrayerMTG-2023-CalArt.jpg
END:VEVENT
BEGIN:VEVENT
DTSTART;TZID=America/New_York:20240421T100000
DTEND;TZID=America/New_York:20240421T123000
DTSTAMP:20260424T021417
CREATED:20240315T135706Z
LAST-MODIFIED:20240315T140004Z
UID:10000920-1713693600-1713702600@utruthcenter.org
SUMMARY:Awaken to the Source Within
DESCRIPTION:THEME: AWAKEN YOUR PRAYER LIFE\n\nLESSON TITLE: \nAwaken to the Source Within\n\nTEACHER: \n \nShakira Taylor\n\nRESPONSIVE READING: \nDaily Inspiration Pg. 62 \n\nSCRIPTURE: \nMatthew 6:11 \n\nColor: Yellow\nPower: Wisdom\nDisciple: James Son of Zebedee\nWomen of the Chalice: Salome\nPhysical Location: Pit of Stomach\nMinistry: Prayer & Healing \n\n 
URL:https://utruthcenter.org/event/awaken-to-gods-will/
LOCATION:UTC\, 21310 NW 37th Avenue\, Miami Gardens\, FL\, 33056
CATEGORIES:Events,Worship
ATTACH;FMTTYPE=image/jpeg:https://utruthcenter.org/wp-content/uploads/2024/03/April2024Lesson-UTC-CalArt.jpg
GEO:25.9696213;-80.2633696
X-APPLE-STRUCTURED-LOCATION;VALUE=URI;X-ADDRESS=UTC 21310 NW 37th Avenue Miami Gardens FL 33056;X-APPLE-RADIUS=500;X-TITLE=21310 NW 37th Avenue:geo:-80.2633696,25.9696213
END:VEVENT
BEGIN:VEVENT
DTSTART;TZID=America/New_York:20240416T180000
DTEND;TZID=America/New_York:20240416T190000
DTSTAMP:20260424T021417
CREATED:20240318T204808Z
LAST-MODIFIED:20240419T173046Z
UID:10000974-1713290400-1713294000@utruthcenter.org
SUMMARY:UTC Tuesday Night Prayer Meeting
DESCRIPTION:Join us for a TUESDAY NIGHT PRAYER MEETING!\nEvery Tuesday from 6:00pm to 7:00pm \nThe dial-in number is: 267-930-4000 \nThe pin is: 533 150 819 \nBE THERE! \n 
URL:https://utruthcenter.org/event/utc-tuesday-night-prayer-meeting-3-2/2024-04-16/
LOCATION:THIS IS AN ONLINE ONLY WORSHIP EXPERIENCE.\, THIS IS AN ONLINE ONLY WORSHIP EXPERIENCE.\, FL\, 33056\, United States
CATEGORIES:Worship
ATTACH;FMTTYPE=image/jpeg:https://utruthcenter.org/wp-content/uploads/2022/12/UTC-TuesPrayerMTG-2023-CalArt.jpg
END:VEVENT
BEGIN:VEVENT
DTSTART;TZID=America/New_York:20240414T100000
DTEND;TZID=America/New_York:20240414T123000
DTSTAMP:20260424T021417
CREATED:20240315T140553Z
LAST-MODIFIED:20240408T233249Z
UID:10000922-1713088800-1713097800@utruthcenter.org
SUMMARY:Awaken to God's Will
DESCRIPTION:THEME: AWAKEN YOUR PRAYER LIFE\n\nLESSON TITLE: \nAwaken to God’s Will\n\nTEACHER: \n \nRev. Dr. Sheila McKeithen\n\nRESPONSIVE READING: \nDaily Inspiration Pg. 72 \n\nSCRIPTURE: \nMatthew 6:10 \n\nColor: Yellow\nPower: Wisdom\nDisciple: James Son of Zebedee\nWomen of the Chalice: Salome\nPhysical Location: Pit of Stomach\nMinistry: Prayer & Healing \n\n 
URL:https://utruthcenter.org/event/awaken-to-gods-will-2/
LOCATION:UTC\, 21310 NW 37th Avenue\, Miami Gardens\, FL\, 33056
CATEGORIES:Events,Worship
ATTACH;FMTTYPE=image/jpeg:https://utruthcenter.org/wp-content/uploads/2024/04/UTC-April14_2024-GuestSpeaker-UTC-CalArt.jpg
GEO:25.9696213;-80.2633696
X-APPLE-STRUCTURED-LOCATION;VALUE=URI;X-ADDRESS=UTC 21310 NW 37th Avenue Miami Gardens FL 33056;X-APPLE-RADIUS=500;X-TITLE=21310 NW 37th Avenue:geo:-80.2633696,25.9696213
END:VEVENT
BEGIN:VEVENT
DTSTART;TZID=America/New_York:20240409T180000
DTEND;TZID=America/New_York:20240409T190000
DTSTAMP:20260424T021417
CREATED:20240318T204808Z
LAST-MODIFIED:20240419T173046Z
UID:10000973-1712685600-1712689200@utruthcenter.org
SUMMARY:UTC Tuesday Night Prayer Meeting
DESCRIPTION:Join us for a TUESDAY NIGHT PRAYER MEETING!\nEvery Tuesday from 6:00pm to 7:00pm \nThe dial-in number is: 267-930-4000 \nThe pin is: 533 150 819 \nBE THERE! \n 
URL:https://utruthcenter.org/event/utc-tuesday-night-prayer-meeting-3-2/2024-04-09/
LOCATION:THIS IS AN ONLINE ONLY WORSHIP EXPERIENCE.\, THIS IS AN ONLINE ONLY WORSHIP EXPERIENCE.\, FL\, 33056\, United States
CATEGORIES:Worship
ATTACH;FMTTYPE=image/jpeg:https://utruthcenter.org/wp-content/uploads/2022/12/UTC-TuesPrayerMTG-2023-CalArt.jpg
END:VEVENT
BEGIN:VEVENT
DTSTART;TZID=America/New_York:20240407T100000
DTEND;TZID=America/New_York:20240407T123000
DTSTAMP:20260424T021417
CREATED:20240404T142505Z
LAST-MODIFIED:20240404T143050Z
UID:10001097-1712484000-1712493000@utruthcenter.org
SUMMARY:The Power of Our Divine Ancestry
DESCRIPTION:THEME: AWAKEN YOUR PRAYER LIFE\n\nLESSON TITLE: \nThe Power of Our Divine Ancestry\nHow are we on earth connected to the stars and our ultimate ancestor\, God? \nWe are individual souls whose heavenly and earthly journeys have woven an intricate pattern of Being within us. Around us is a powerful matrix of spiritual alliances that is all too often invisible to our limited senses. \nThrough careful examination of his father’s biography\, Reverend Ike: An Extraordinary Life of Influence\, co-written with Mark Victor Hansen\, Xavier Eikerenkoetter shares how the story of his father’s journey to abundance can illuminate our understanding and help to unlock our unlimited potential as spiritual beings in the physical plane. \nA book signing and discussion will follow the service. \n\nTEACHER: \n \nBishop Xavier Eikerenkoetter\n\nRESPONSIVE READING: \nDaily Inspiration Pg. 73 \n\nSCRIPTURE: \nMatthew 6:9 \n\nColor: Yellow\nPower: Wisdom\nDisciple: James Son of Zebedee\nWomen of the Chalice: Salome\nPhysical Location: Pit of Stomach\nMinistry: Prayer & Healing \n\n 
URL:https://utruthcenter.org/event/the-power-of-our-divine-ancestry/
LOCATION:UTC\, 21310 NW 37th Avenue\, Miami Gardens\, FL\, 33056
CATEGORIES:Events,Worship
ATTACH;FMTTYPE=image/jpeg:https://utruthcenter.org/wp-content/uploads/2024/04/UTC-April7_2024-GuestSpeaker-CalArt.jpg
GEO:25.9696213;-80.2633696
X-APPLE-STRUCTURED-LOCATION;VALUE=URI;X-ADDRESS=UTC 21310 NW 37th Avenue Miami Gardens FL 33056;X-APPLE-RADIUS=500;X-TITLE=21310 NW 37th Avenue:geo:-80.2633696,25.9696213
END:VEVENT
BEGIN:VEVENT
DTSTART;TZID=America/New_York:20240402T180000
DTEND;TZID=America/New_York:20240402T190000
DTSTAMP:20260424T021417
CREATED:20240318T204808Z
LAST-MODIFIED:20240419T173046Z
UID:10000972-1712080800-1712084400@utruthcenter.org
SUMMARY:UTC Tuesday Night Prayer Meeting
DESCRIPTION:Join us for a TUESDAY NIGHT PRAYER MEETING!\nEvery Tuesday from 6:00pm to 7:00pm \nThe dial-in number is: 267-930-4000 \nThe pin is: 533 150 819 \nBE THERE! \n 
URL:https://utruthcenter.org/event/utc-tuesday-night-prayer-meeting-3-2/2024-04-02/
LOCATION:THIS IS AN ONLINE ONLY WORSHIP EXPERIENCE.\, THIS IS AN ONLINE ONLY WORSHIP EXPERIENCE.\, FL\, 33056\, United States
CATEGORIES:Worship
ATTACH;FMTTYPE=image/jpeg:https://utruthcenter.org/wp-content/uploads/2022/12/UTC-TuesPrayerMTG-2023-CalArt.jpg
END:VEVENT
BEGIN:VEVENT
DTSTART;TZID=America/New_York:20240326T180000
DTEND;TZID=America/New_York:20240326T190000
DTSTAMP:20260424T021417
CREATED:20240318T204808Z
LAST-MODIFIED:20240419T173046Z
UID:10000971-1711476000-1711479600@utruthcenter.org
SUMMARY:UTC Tuesday Night Prayer Meeting
DESCRIPTION:Join us for a TUESDAY NIGHT PRAYER MEETING!\nEvery Tuesday from 6:00pm to 7:00pm \nThe dial-in number is: 267-930-4000 \nThe pin is: 533 150 819 \nBE THERE! \n 
URL:https://utruthcenter.org/event/utc-tuesday-night-prayer-meeting-3-2/2024-03-26/
LOCATION:THIS IS AN ONLINE ONLY WORSHIP EXPERIENCE.\, THIS IS AN ONLINE ONLY WORSHIP EXPERIENCE.\, FL\, 33056\, United States
CATEGORIES:Worship
ATTACH;FMTTYPE=image/jpeg:https://utruthcenter.org/wp-content/uploads/2022/12/UTC-TuesPrayerMTG-2023-CalArt.jpg
END:VEVENT
BEGIN:VEVENT
DTSTART;TZID=America/New_York:20240319T180000
DTEND;TZID=America/New_York:20240319T190000
DTSTAMP:20260424T021417
CREATED:20240318T204808Z
LAST-MODIFIED:20240419T173046Z
UID:10000970-1710871200-1710874800@utruthcenter.org
SUMMARY:UTC Tuesday Night Prayer Meeting
DESCRIPTION:Join us for a TUESDAY NIGHT PRAYER MEETING!\nEvery Tuesday from 6:00pm to 7:00pm \nThe dial-in number is: 267-930-4000 \nThe pin is: 533 150 819 \nBE THERE! \n 
URL:https://utruthcenter.org/event/utc-tuesday-night-prayer-meeting-3-2/2024-03-19/
LOCATION:THIS IS AN ONLINE ONLY WORSHIP EXPERIENCE.\, THIS IS AN ONLINE ONLY WORSHIP EXPERIENCE.\, FL\, 33056\, United States
CATEGORIES:Worship
ATTACH;FMTTYPE=image/jpeg:https://utruthcenter.org/wp-content/uploads/2022/12/UTC-TuesPrayerMTG-2023-CalArt.jpg
END:VEVENT
BEGIN:VEVENT
DTSTART;TZID=America/New_York:20230430T100000
DTEND;TZID=America/New_York:20230430T123000
DTSTAMP:20260424T021417
CREATED:20230215T193926Z
LAST-MODIFIED:20230301T152256Z
UID:10000844-1682848800-1682857800@utruthcenter.org
SUMMARY:Awaken Your Power of Renunciation
DESCRIPTION:THEME: Awaken Your Powers to Live a Miraculous Life\n\nLESSON TITLE: \nAwaken Your Power of Renunciation\n\nTEACHER: \n \nMyra Terrelonge\n\nRESPONSIVE READING: \nDaily Inspiration Pg. __ \n\nSCRIPTURE: \nLuke 12:9 \n\nColor: Yellow\nPower: Wisdom\nDisciple: James Son of Zebedee\nWomen of the Chalice: Salome\nPhysical Location: Pit of Stomach\nMinistry: Prayer & Healing \n\n 
URL:https://utruthcenter.org/event/awaken-renunciation/
LOCATION:UTC\, 21310 NW 37th Avenue\, Miami Gardens\, FL\, 33056
CATEGORIES:Events,Worship
ATTACH;FMTTYPE=image/jpeg:https://utruthcenter.org/wp-content/uploads/2023/02/UTC-April2023-CalArt.jpg
GEO:25.9696213;-80.2633696
X-APPLE-STRUCTURED-LOCATION;VALUE=URI;X-ADDRESS=UTC 21310 NW 37th Avenue Miami Gardens FL 33056;X-APPLE-RADIUS=500;X-TITLE=21310 NW 37th Avenue:geo:-80.2633696,25.9696213
END:VEVENT
BEGIN:VEVENT
DTSTART;TZID=America/New_York:20230423T100000
DTEND;TZID=America/New_York:20230423T123000
DTSTAMP:20260424T021417
CREATED:20230215T193636Z
LAST-MODIFIED:20230301T152208Z
UID:10000843-1682244000-1682253000@utruthcenter.org
SUMMARY:Awaken Your Power of Zeal
DESCRIPTION:THEME: Awaken Your Powers to Live a Miraculous Life\n \n\nLESSON TITLE: \nAwaken Your Power of Zeal\n\nTEACHER: \n \nMichelle Washington\n\nRESPONSIVE READING: \nDaily Inspiration Pg. __ \n\nSCRIPTURE: \nPhilippians 3:14 \n\nColor: Yellow\nPower: Wisdom\nDisciple: James Son of Zebedee\nWomen of the Chalice: Salome\nPhysical Location: Pit of Stomach\nMinistry: Prayer & Healing \n\n 
URL:https://utruthcenter.org/event/awaken-zeal/
LOCATION:UTC\, 21310 NW 37th Avenue\, Miami Gardens\, FL\, 33056
CATEGORIES:Events,Worship
ATTACH;FMTTYPE=image/jpeg:https://utruthcenter.org/wp-content/uploads/2023/02/UTC-April2023-CalArt.jpg
GEO:25.9696213;-80.2633696
X-APPLE-STRUCTURED-LOCATION;VALUE=URI;X-ADDRESS=UTC 21310 NW 37th Avenue Miami Gardens FL 33056;X-APPLE-RADIUS=500;X-TITLE=21310 NW 37th Avenue:geo:-80.2633696,25.9696213
END:VEVENT
BEGIN:VEVENT
DTSTART;TZID=America/New_York:20230416T100000
DTEND;TZID=America/New_York:20230416T123000
DTSTAMP:20260424T021417
CREATED:20230215T193206Z
LAST-MODIFIED:20230301T152120Z
UID:10000842-1681639200-1681648200@utruthcenter.org
SUMMARY:Awaken Your Power of Order
DESCRIPTION:THEME: Awaken Your Powers to Live a Miraculous Life\n\nLESSON TITLE: \nAwaken Your Power of Order\n\nTEACHER: \n \nShakira Taylor\n\nRESPONSIVE READING: \nDaily Inspiration Pg. __ \n\nSCRIPTURE: \nPsalm 37:23 \n  \n\nColor: Yellow\nPower: Wisdom\nDisciple: James Son of Zebedee\nWomen of the Chalice: Salome\nPhysical Location: Pit of Stomach\nMinistry: Prayer & Healing \n\n 
URL:https://utruthcenter.org/event/awaken-order/
LOCATION:UTC\, 21310 NW 37th Avenue\, Miami Gardens\, FL\, 33056
CATEGORIES:Events,Worship
ATTACH;FMTTYPE=image/jpeg:https://utruthcenter.org/wp-content/uploads/2023/02/UTC-April2023-CalArt.jpg
GEO:25.9696213;-80.2633696
X-APPLE-STRUCTURED-LOCATION;VALUE=URI;X-ADDRESS=UTC 21310 NW 37th Avenue Miami Gardens FL 33056;X-APPLE-RADIUS=500;X-TITLE=21310 NW 37th Avenue:geo:-80.2633696,25.9696213
END:VEVENT
BEGIN:VEVENT
DTSTART;TZID=America/New_York:20230409T100000
DTEND;TZID=America/New_York:20230409T123000
DTSTAMP:20260424T021417
CREATED:20230215T192807Z
LAST-MODIFIED:20230301T151944Z
UID:10000841-1681034400-1681043400@utruthcenter.org
SUMMARY:Awaken Your Power of Life
DESCRIPTION:THEME: Awaken Your Powers to Live a Miraculous Life\nEASTER SUNDAY\n\nLESSON TITLE: \nAwaken Your Power of Life\n\nTEACHER: \n \nRev. Tawnicia Rowan\n\nRESPONSIVE READING: \nDaily Inspiration Pg. __ \n\nSCRIPTURE: \nMatthew 22:32\nMark 16:1-6 \n  \n\nColor: Yellow\nPower: Wisdom\nDisciple: James Son of Zebedee\nWomen of the Chalice: Salome\nPhysical Location: Pit of Stomach\nMinistry: Prayer & Healing \n\n 
URL:https://utruthcenter.org/event/awaken-life/
LOCATION:UTC\, 21310 NW 37th Avenue\, Miami Gardens\, FL\, 33056
CATEGORIES:Events,Worship
ATTACH;FMTTYPE=image/jpeg:https://utruthcenter.org/wp-content/uploads/2023/02/UTC-April2023-CalArt.jpg
GEO:25.9696213;-80.2633696
X-APPLE-STRUCTURED-LOCATION;VALUE=URI;X-ADDRESS=UTC 21310 NW 37th Avenue Miami Gardens FL 33056;X-APPLE-RADIUS=500;X-TITLE=21310 NW 37th Avenue:geo:-80.2633696,25.9696213
END:VEVENT
BEGIN:VEVENT
DTSTART;TZID=America/New_York:20230402T100000
DTEND;TZID=America/New_York:20230402T123000
DTSTAMP:20260424T021417
CREATED:20230215T192538Z
LAST-MODIFIED:20230301T151803Z
UID:10000840-1680429600-1680438600@utruthcenter.org
SUMMARY:Awaken Your Power of Will & Understanding
DESCRIPTION:THEME: Awaken Your Powers to Live a Miraculous Life\nPALM SUNDAY\n\nLESSON TITLE: \nAwaken Your Power of Will & Understanding\n\nTEACHER: \n \nRev. Charles Taylor\n\nRESPONSIVE READING: \nDaily Inspiration Pg. __ \n\nSCRIPTURE: \nProverbs 4:7\nMatthew 6:10\n \n\nColor: Yellow\nPower: Wisdom\nDisciple: James Son of Zebedee\nWomen of the Chalice: Salome\nPhysical Location: Pit of Stomach\nMinistry: Prayer & Healing \n\n 
URL:https://utruthcenter.org/event/awaken-will-understanding/
LOCATION:UTC\, 21310 NW 37th Avenue\, Miami Gardens\, FL\, 33056
CATEGORIES:Events,Worship
ATTACH;FMTTYPE=image/jpeg:https://utruthcenter.org/wp-content/uploads/2023/02/UTC-April2023-CalArt.jpg
GEO:25.9696213;-80.2633696
X-APPLE-STRUCTURED-LOCATION;VALUE=URI;X-ADDRESS=UTC 21310 NW 37th Avenue Miami Gardens FL 33056;X-APPLE-RADIUS=500;X-TITLE=21310 NW 37th Avenue:geo:-80.2633696,25.9696213
END:VEVENT
BEGIN:VEVENT
DTSTART;TZID=America/New_York:20230401T100000
DTEND;TZID=America/New_York:20230401T110000
DTSTAMP:20260424T021417
CREATED:20230329T193928Z
LAST-MODIFIED:20230329T194106Z
UID:10000852-1680343200-1680346800@utruthcenter.org
SUMMARY:Easter Prayer Vigil 2023
DESCRIPTION:The Prayer and Healing Ministry cordially invites you to join us for our\nEASTER PRAYER VIGIL\nSaturday\, April 1st\, 2023 at 9:00am and 10:00am\nvia the UTC Prayer Line (267) 930-4000 access code: 533 150 819. \nPlease commit to a minimum of one hour of prayer to build a consciousness for a Miraculous Life. Please call in at least 5 minutes before the hour.
URL:https://utruthcenter.org/event/easter-prayer-vigil-2023-2/2023-04-01/2/
LOCATION:Via Phone Call
CATEGORIES:Events,Worship
ATTACH;FMTTYPE=image/jpeg:https://utruthcenter.org/wp-content/uploads/2023/03/UTC-EasterPrayerVigil-2023x-CalArt.jpg
END:VEVENT
BEGIN:VEVENT
DTSTART;TZID=America/New_York:20230401T090000
DTEND;TZID=America/New_York:20230401T100000
DTSTAMP:20260424T021417
CREATED:20230329T193928Z
LAST-MODIFIED:20230329T194106Z
UID:10000851-1680339600-1680343200@utruthcenter.org
SUMMARY:Easter Prayer Vigil 2023
DESCRIPTION:The Prayer and Healing Ministry cordially invites you to join us for our\nEASTER PRAYER VIGIL\nSaturday\, April 1st\, 2023 at 9:00am and 10:00am\nvia the UTC Prayer Line (267) 930-4000 access code: 533 150 819. \nPlease commit to a minimum of one hour of prayer to build a consciousness for a Miraculous Life. Please call in at least 5 minutes before the hour.
URL:https://utruthcenter.org/event/easter-prayer-vigil-2023-2/2023-04-01/1/
LOCATION:Via Phone Call
CATEGORIES:Events,Worship
ATTACH;FMTTYPE=image/jpeg:https://utruthcenter.org/wp-content/uploads/2023/03/UTC-EasterPrayerVigil-2023x-CalArt.jpg
END:VEVENT
BEGIN:VEVENT
DTSTART;TZID=America/New_York:20221227T180000
DTEND;TZID=America/New_York:20221227T190000
DTSTAMP:20260424T021417
CREATED:20221018T005859Z
LAST-MODIFIED:20221018T005859Z
UID:10000723-1672164000-1672167600@utruthcenter.org
SUMMARY:Tuesday Night Prayer Meeting
DESCRIPTION:Join us for a TUESDAY NIGHT PRAYER MEETING!\nEvery Tuesday from 6:00pm to 7:00pm \nThe dial-in number is: 716-427-1108 \nThe pin is: 457533# \nBE THERE! \n 
URL:https://utruthcenter.org/event/tuesday-night-prayer-meeting/2022-12-27/
LOCATION:THIS IS AN ONLINE ONLY WORSHIP EXPERIENCE.\, THIS IS AN ONLINE ONLY WORSHIP EXPERIENCE.\, FL\, 33056\, United States
CATEGORIES:Worship
ATTACH;FMTTYPE=image/jpeg:https://utruthcenter.org/wp-content/uploads/2021/12/UTC_CalArt-PRAYERMTG_2022.jpg
END:VEVENT
BEGIN:VEVENT
DTSTART;TZID=America/New_York:20221220T180000
DTEND;TZID=America/New_York:20221220T190000
DTSTAMP:20260424T021417
CREATED:20221018T005859Z
LAST-MODIFIED:20221018T005859Z
UID:10000722-1671559200-1671562800@utruthcenter.org
SUMMARY:Tuesday Night Prayer Meeting
DESCRIPTION:Join us for a TUESDAY NIGHT PRAYER MEETING!\nEvery Tuesday from 6:00pm to 7:00pm \nThe dial-in number is: 716-427-1108 \nThe pin is: 457533# \nBE THERE! \n 
URL:https://utruthcenter.org/event/tuesday-night-prayer-meeting/2022-12-20/
LOCATION:THIS IS AN ONLINE ONLY WORSHIP EXPERIENCE.\, THIS IS AN ONLINE ONLY WORSHIP EXPERIENCE.\, FL\, 33056\, United States
CATEGORIES:Worship
ATTACH;FMTTYPE=image/jpeg:https://utruthcenter.org/wp-content/uploads/2021/12/UTC_CalArt-PRAYERMTG_2022.jpg
END:VEVENT
BEGIN:VEVENT
DTSTART;TZID=America/New_York:20221213T180000
DTEND;TZID=America/New_York:20221213T190000
DTSTAMP:20260424T021417
CREATED:20221018T005859Z
LAST-MODIFIED:20221018T005859Z
UID:10000721-1670954400-1670958000@utruthcenter.org
SUMMARY:Tuesday Night Prayer Meeting
DESCRIPTION:Join us for a TUESDAY NIGHT PRAYER MEETING!\nEvery Tuesday from 6:00pm to 7:00pm \nThe dial-in number is: 716-427-1108 \nThe pin is: 457533# \nBE THERE! \n 
URL:https://utruthcenter.org/event/tuesday-night-prayer-meeting/2022-12-13/
LOCATION:THIS IS AN ONLINE ONLY WORSHIP EXPERIENCE.\, THIS IS AN ONLINE ONLY WORSHIP EXPERIENCE.\, FL\, 33056\, United States
CATEGORIES:Worship
ATTACH;FMTTYPE=image/jpeg:https://utruthcenter.org/wp-content/uploads/2021/12/UTC_CalArt-PRAYERMTG_2022.jpg
END:VEVENT
BEGIN:VEVENT
DTSTART;TZID=America/New_York:20221206T180000
DTEND;TZID=America/New_York:20221206T190000
DTSTAMP:20260424T021417
CREATED:20221018T005859Z
LAST-MODIFIED:20221018T005859Z
UID:10000720-1670349600-1670353200@utruthcenter.org
SUMMARY:Tuesday Night Prayer Meeting
DESCRIPTION:Join us for a TUESDAY NIGHT PRAYER MEETING!\nEvery Tuesday from 6:00pm to 7:00pm \nThe dial-in number is: 716-427-1108 \nThe pin is: 457533# \nBE THERE! \n 
URL:https://utruthcenter.org/event/tuesday-night-prayer-meeting/2022-12-06/
LOCATION:THIS IS AN ONLINE ONLY WORSHIP EXPERIENCE.\, THIS IS AN ONLINE ONLY WORSHIP EXPERIENCE.\, FL\, 33056\, United States
CATEGORIES:Worship
ATTACH;FMTTYPE=image/jpeg:https://utruthcenter.org/wp-content/uploads/2021/12/UTC_CalArt-PRAYERMTG_2022.jpg
END:VEVENT
BEGIN:VEVENT
DTSTART;TZID=America/New_York:20221129T180000
DTEND;TZID=America/New_York:20221129T190000
DTSTAMP:20260424T021417
CREATED:20221018T005859Z
LAST-MODIFIED:20221018T005859Z
UID:10000719-1669744800-1669748400@utruthcenter.org
SUMMARY:Tuesday Night Prayer Meeting
DESCRIPTION:Join us for a TUESDAY NIGHT PRAYER MEETING!\nEvery Tuesday from 6:00pm to 7:00pm \nThe dial-in number is: 716-427-1108 \nThe pin is: 457533# \nBE THERE! \n 
URL:https://utruthcenter.org/event/tuesday-night-prayer-meeting/2022-11-29/
LOCATION:THIS IS AN ONLINE ONLY WORSHIP EXPERIENCE.\, THIS IS AN ONLINE ONLY WORSHIP EXPERIENCE.\, FL\, 33056\, United States
CATEGORIES:Worship
ATTACH;FMTTYPE=image/jpeg:https://utruthcenter.org/wp-content/uploads/2021/12/UTC_CalArt-PRAYERMTG_2022.jpg
END:VEVENT
BEGIN:VEVENT
DTSTART;TZID=America/New_York:20221122T180000
DTEND;TZID=America/New_York:20221122T190000
DTSTAMP:20260424T021417
CREATED:20221018T005859Z
LAST-MODIFIED:20221018T005859Z
UID:10000718-1669140000-1669143600@utruthcenter.org
SUMMARY:Tuesday Night Prayer Meeting
DESCRIPTION:Join us for a TUESDAY NIGHT PRAYER MEETING!\nEvery Tuesday from 6:00pm to 7:00pm \nThe dial-in number is: 716-427-1108 \nThe pin is: 457533# \nBE THERE! \n 
URL:https://utruthcenter.org/event/tuesday-night-prayer-meeting/2022-11-22/
LOCATION:THIS IS AN ONLINE ONLY WORSHIP EXPERIENCE.\, THIS IS AN ONLINE ONLY WORSHIP EXPERIENCE.\, FL\, 33056\, United States
CATEGORIES:Worship
ATTACH;FMTTYPE=image/jpeg:https://utruthcenter.org/wp-content/uploads/2021/12/UTC_CalArt-PRAYERMTG_2022.jpg
END:VEVENT
BEGIN:VEVENT
DTSTART;TZID=America/New_York:20221119T090000
DTEND;TZID=America/New_York:20221119T100000
DTSTAMP:20260424T021417
CREATED:20221104T194429Z
LAST-MODIFIED:20221104T194542Z
UID:10000746-1668848400-1668852000@utruthcenter.org
SUMMARY:Thanksgiving Prayer Vigil 2022
DESCRIPTION:The Prayer and Healing Ministry\ncordially invites you to the  \nThanksgiving Prayer Vigil\non  \nSaturday\, November 19\, at 9:00 am or 10:00 am  \nvia conference call # (716) 427-1108\, Access Code: 457533 \nPlease commit to a minimum of one hour of prayer as we give thanks and celebrate 40 years of legacy and beyond. \nPlease call in at least 5 minutes before the hour. \nWe look forward to your attendance.  \n\n 
URL:https://utruthcenter.org/event/thanksgiving-prayer-vigil-2022/
LOCATION:THIS IS AN ONLINE ONLY WORSHIP EXPERIENCE.\, THIS IS AN ONLINE ONLY WORSHIP EXPERIENCE.\, FL\, 33056\, United States
CATEGORIES:Meetings,Worship
ATTACH;FMTTYPE=image/jpeg:https://utruthcenter.org/wp-content/uploads/2022/11/Thanksgiving2022_prayer_vigil-CalArt.jpg
END:VEVENT
BEGIN:VEVENT
DTSTART;TZID=America/New_York:20221115T180000
DTEND;TZID=America/New_York:20221115T190000
DTSTAMP:20260424T021417
CREATED:20221018T005859Z
LAST-MODIFIED:20221018T005859Z
UID:10000717-1668535200-1668538800@utruthcenter.org
SUMMARY:Tuesday Night Prayer Meeting
DESCRIPTION:Join us for a TUESDAY NIGHT PRAYER MEETING!\nEvery Tuesday from 6:00pm to 7:00pm \nThe dial-in number is: 716-427-1108 \nThe pin is: 457533# \nBE THERE! \n 
URL:https://utruthcenter.org/event/tuesday-night-prayer-meeting/2022-11-15/
LOCATION:THIS IS AN ONLINE ONLY WORSHIP EXPERIENCE.\, THIS IS AN ONLINE ONLY WORSHIP EXPERIENCE.\, FL\, 33056\, United States
CATEGORIES:Worship
ATTACH;FMTTYPE=image/jpeg:https://utruthcenter.org/wp-content/uploads/2021/12/UTC_CalArt-PRAYERMTG_2022.jpg
END:VEVENT
BEGIN:VEVENT
DTSTART;TZID=America/New_York:20221108T180000
DTEND;TZID=America/New_York:20221108T190000
DTSTAMP:20260424T021417
CREATED:20221018T005859Z
LAST-MODIFIED:20221018T005859Z
UID:10000716-1667930400-1667934000@utruthcenter.org
SUMMARY:Tuesday Night Prayer Meeting
DESCRIPTION:Join us for a TUESDAY NIGHT PRAYER MEETING!\nEvery Tuesday from 6:00pm to 7:00pm \nThe dial-in number is: 716-427-1108 \nThe pin is: 457533# \nBE THERE! \n 
URL:https://utruthcenter.org/event/tuesday-night-prayer-meeting/2022-11-08/
LOCATION:THIS IS AN ONLINE ONLY WORSHIP EXPERIENCE.\, THIS IS AN ONLINE ONLY WORSHIP EXPERIENCE.\, FL\, 33056\, United States
CATEGORIES:Worship
ATTACH;FMTTYPE=image/jpeg:https://utruthcenter.org/wp-content/uploads/2021/12/UTC_CalArt-PRAYERMTG_2022.jpg
END:VEVENT
END:VCALENDAR