BEGIN:VCALENDAR
VERSION:2.0
PRODID:-//Universal Truth Center - ECPv6.15.17//NONSGML v1.0//EN
CALSCALE:GREGORIAN
METHOD:PUBLISH
X-ORIGINAL-URL:https://utruthcenter.org
X-WR-CALDESC:Events for Universal Truth Center
REFRESH-INTERVAL;VALUE=DURATION:PT1H
X-Robots-Tag:noindex
X-PUBLISHED-TTL:PT1H
BEGIN:VTIMEZONE
TZID:America/New_York
BEGIN:DAYLIGHT
TZOFFSETFROM:-0500
TZOFFSETTO:-0400
TZNAME:EDT
DTSTART:20240310T070000
END:DAYLIGHT
BEGIN:STANDARD
TZOFFSETFROM:-0400
TZOFFSETTO:-0500
TZNAME:EST
DTSTART:20241103T060000
END:STANDARD
BEGIN:DAYLIGHT
TZOFFSETFROM:-0500
TZOFFSETTO:-0400
TZNAME:EDT
DTSTART:20250309T070000
END:DAYLIGHT
BEGIN:STANDARD
TZOFFSETFROM:-0400
TZOFFSETTO:-0500
TZNAME:EST
DTSTART:20251102T060000
END:STANDARD
BEGIN:DAYLIGHT
TZOFFSETFROM:-0500
TZOFFSETTO:-0400
TZNAME:EDT
DTSTART:20260308T070000
END:DAYLIGHT
BEGIN:STANDARD
TZOFFSETFROM:-0400
TZOFFSETTO:-0500
TZNAME:EST
DTSTART:20261101T060000
END:STANDARD
BEGIN:DAYLIGHT
TZOFFSETFROM:-0500
TZOFFSETTO:-0400
TZNAME:EDT
DTSTART:20270314T070000
END:DAYLIGHT
BEGIN:STANDARD
TZOFFSETFROM:-0400
TZOFFSETTO:-0500
TZNAME:EST
DTSTART:20271107T060000
END:STANDARD
END:VTIMEZONE
BEGIN:VEVENT
DTSTART;TZID=America/New_York:20260421T180000
DTEND;TZID=America/New_York:20260421T190000
DTSTAMP:20260423T065852
CREATED:20251227T164428Z
LAST-MODIFIED:20251227T164428Z
UID:10001300-1776794400-1776798000@utruthcenter.org
SUMMARY:UTC Tuesday Night Prayer Meeting (2026)
DESCRIPTION:Join us for a TUESDAY NIGHT PRAYER MEETING!\nEvery Tuesday from 6:00 pm to 7:00 pm \nThe dial-in number is: 267-930-4000 \nThe pin is: 533 150 819 \nBE THERE!
URL:https://utruthcenter.org/event/utc-tuesday-night-prayer-meeting-2026/2026-04-21/
LOCATION:THIS IS AN ONLINE ONLY WORSHIP EXPERIENCE.\, THIS IS AN ONLINE ONLY WORSHIP EXPERIENCE.\, FL\, 33056\, United States
CATEGORIES:Meetings,Worship
ATTACH;FMTTYPE=image/jpeg:https://utruthcenter.org/wp-content/uploads/2022/12/UTC-TuesPrayerMTG-2023-CalArt.jpg
END:VEVENT
BEGIN:VEVENT
DTSTART;TZID=America/New_York:20260414T180000
DTEND;TZID=America/New_York:20260414T190000
DTSTAMP:20260423T065853
CREATED:20251227T164428Z
LAST-MODIFIED:20251227T164428Z
UID:10001299-1776189600-1776193200@utruthcenter.org
SUMMARY:UTC Tuesday Night Prayer Meeting (2026)
DESCRIPTION:Join us for a TUESDAY NIGHT PRAYER MEETING!\nEvery Tuesday from 6:00 pm to 7:00 pm \nThe dial-in number is: 267-930-4000 \nThe pin is: 533 150 819 \nBE THERE!
URL:https://utruthcenter.org/event/utc-tuesday-night-prayer-meeting-2026/2026-04-14/
LOCATION:THIS IS AN ONLINE ONLY WORSHIP EXPERIENCE.\, THIS IS AN ONLINE ONLY WORSHIP EXPERIENCE.\, FL\, 33056\, United States
CATEGORIES:Meetings,Worship
ATTACH;FMTTYPE=image/jpeg:https://utruthcenter.org/wp-content/uploads/2022/12/UTC-TuesPrayerMTG-2023-CalArt.jpg
END:VEVENT
BEGIN:VEVENT
DTSTART;TZID=America/New_York:20260407T180000
DTEND;TZID=America/New_York:20260407T190000
DTSTAMP:20260423T065853
CREATED:20251227T164428Z
LAST-MODIFIED:20251227T164428Z
UID:10001298-1775584800-1775588400@utruthcenter.org
SUMMARY:UTC Tuesday Night Prayer Meeting (2026)
DESCRIPTION:Join us for a TUESDAY NIGHT PRAYER MEETING!\nEvery Tuesday from 6:00 pm to 7:00 pm \nThe dial-in number is: 267-930-4000 \nThe pin is: 533 150 819 \nBE THERE!
URL:https://utruthcenter.org/event/utc-tuesday-night-prayer-meeting-2026/2026-04-07/
LOCATION:THIS IS AN ONLINE ONLY WORSHIP EXPERIENCE.\, THIS IS AN ONLINE ONLY WORSHIP EXPERIENCE.\, FL\, 33056\, United States
CATEGORIES:Meetings,Worship
ATTACH;FMTTYPE=image/jpeg:https://utruthcenter.org/wp-content/uploads/2022/12/UTC-TuesPrayerMTG-2023-CalArt.jpg
END:VEVENT
BEGIN:VEVENT
DTSTART;TZID=America/New_York:20260331T180000
DTEND;TZID=America/New_York:20260331T190000
DTSTAMP:20260423T065853
CREATED:20251227T164428Z
LAST-MODIFIED:20251227T164428Z
UID:10001297-1774980000-1774983600@utruthcenter.org
SUMMARY:UTC Tuesday Night Prayer Meeting (2026)
DESCRIPTION:Join us for a TUESDAY NIGHT PRAYER MEETING!\nEvery Tuesday from 6:00 pm to 7:00 pm \nThe dial-in number is: 267-930-4000 \nThe pin is: 533 150 819 \nBE THERE!
URL:https://utruthcenter.org/event/utc-tuesday-night-prayer-meeting-2026/2026-03-31/
LOCATION:THIS IS AN ONLINE ONLY WORSHIP EXPERIENCE.\, THIS IS AN ONLINE ONLY WORSHIP EXPERIENCE.\, FL\, 33056\, United States
CATEGORIES:Meetings,Worship
ATTACH;FMTTYPE=image/jpeg:https://utruthcenter.org/wp-content/uploads/2022/12/UTC-TuesPrayerMTG-2023-CalArt.jpg
END:VEVENT
BEGIN:VEVENT
DTSTART;TZID=America/New_York:20260324T180000
DTEND;TZID=America/New_York:20260324T190000
DTSTAMP:20260423T065853
CREATED:20251227T164428Z
LAST-MODIFIED:20251227T164428Z
UID:10001296-1774375200-1774378800@utruthcenter.org
SUMMARY:UTC Tuesday Night Prayer Meeting (2026)
DESCRIPTION:Join us for a TUESDAY NIGHT PRAYER MEETING!\nEvery Tuesday from 6:00 pm to 7:00 pm \nThe dial-in number is: 267-930-4000 \nThe pin is: 533 150 819 \nBE THERE!
URL:https://utruthcenter.org/event/utc-tuesday-night-prayer-meeting-2026/2026-03-24/
LOCATION:THIS IS AN ONLINE ONLY WORSHIP EXPERIENCE.\, THIS IS AN ONLINE ONLY WORSHIP EXPERIENCE.\, FL\, 33056\, United States
CATEGORIES:Meetings,Worship
ATTACH;FMTTYPE=image/jpeg:https://utruthcenter.org/wp-content/uploads/2022/12/UTC-TuesPrayerMTG-2023-CalArt.jpg
END:VEVENT
BEGIN:VEVENT
DTSTART;TZID=America/New_York:20260317T180000
DTEND;TZID=America/New_York:20260317T190000
DTSTAMP:20260423T065853
CREATED:20251227T164428Z
LAST-MODIFIED:20251227T164428Z
UID:10001295-1773770400-1773774000@utruthcenter.org
SUMMARY:UTC Tuesday Night Prayer Meeting (2026)
DESCRIPTION:Join us for a TUESDAY NIGHT PRAYER MEETING!\nEvery Tuesday from 6:00 pm to 7:00 pm \nThe dial-in number is: 267-930-4000 \nThe pin is: 533 150 819 \nBE THERE!
URL:https://utruthcenter.org/event/utc-tuesday-night-prayer-meeting-2026/2026-03-17/
LOCATION:THIS IS AN ONLINE ONLY WORSHIP EXPERIENCE.\, THIS IS AN ONLINE ONLY WORSHIP EXPERIENCE.\, FL\, 33056\, United States
CATEGORIES:Meetings,Worship
ATTACH;FMTTYPE=image/jpeg:https://utruthcenter.org/wp-content/uploads/2022/12/UTC-TuesPrayerMTG-2023-CalArt.jpg
END:VEVENT
BEGIN:VEVENT
DTSTART;TZID=America/New_York:20260310T180000
DTEND;TZID=America/New_York:20260310T190000
DTSTAMP:20260423T065853
CREATED:20251227T164428Z
LAST-MODIFIED:20251227T164428Z
UID:10001294-1773165600-1773169200@utruthcenter.org
SUMMARY:UTC Tuesday Night Prayer Meeting (2026)
DESCRIPTION:Join us for a TUESDAY NIGHT PRAYER MEETING!\nEvery Tuesday from 6:00 pm to 7:00 pm \nThe dial-in number is: 267-930-4000 \nThe pin is: 533 150 819 \nBE THERE!
URL:https://utruthcenter.org/event/utc-tuesday-night-prayer-meeting-2026/2026-03-10/
LOCATION:THIS IS AN ONLINE ONLY WORSHIP EXPERIENCE.\, THIS IS AN ONLINE ONLY WORSHIP EXPERIENCE.\, FL\, 33056\, United States
CATEGORIES:Meetings,Worship
ATTACH;FMTTYPE=image/jpeg:https://utruthcenter.org/wp-content/uploads/2022/12/UTC-TuesPrayerMTG-2023-CalArt.jpg
END:VEVENT
BEGIN:VEVENT
DTSTART;TZID=America/New_York:20260303T180000
DTEND;TZID=America/New_York:20260303T190000
DTSTAMP:20260423T065853
CREATED:20251227T164428Z
LAST-MODIFIED:20251227T164428Z
UID:10001293-1772560800-1772564400@utruthcenter.org
SUMMARY:UTC Tuesday Night Prayer Meeting (2026)
DESCRIPTION:Join us for a TUESDAY NIGHT PRAYER MEETING!\nEvery Tuesday from 6:00 pm to 7:00 pm \nThe dial-in number is: 267-930-4000 \nThe pin is: 533 150 819 \nBE THERE!
URL:https://utruthcenter.org/event/utc-tuesday-night-prayer-meeting-2026/2026-03-03/
LOCATION:THIS IS AN ONLINE ONLY WORSHIP EXPERIENCE.\, THIS IS AN ONLINE ONLY WORSHIP EXPERIENCE.\, FL\, 33056\, United States
CATEGORIES:Meetings,Worship
ATTACH;FMTTYPE=image/jpeg:https://utruthcenter.org/wp-content/uploads/2022/12/UTC-TuesPrayerMTG-2023-CalArt.jpg
END:VEVENT
BEGIN:VEVENT
DTSTART;TZID=America/New_York:20260224T180000
DTEND;TZID=America/New_York:20260224T190000
DTSTAMP:20260423T065853
CREATED:20251227T164428Z
LAST-MODIFIED:20251227T164428Z
UID:10001292-1771956000-1771959600@utruthcenter.org
SUMMARY:UTC Tuesday Night Prayer Meeting (2026)
DESCRIPTION:Join us for a TUESDAY NIGHT PRAYER MEETING!\nEvery Tuesday from 6:00 pm to 7:00 pm \nThe dial-in number is: 267-930-4000 \nThe pin is: 533 150 819 \nBE THERE!
URL:https://utruthcenter.org/event/utc-tuesday-night-prayer-meeting-2026/2026-02-24/
LOCATION:THIS IS AN ONLINE ONLY WORSHIP EXPERIENCE.\, THIS IS AN ONLINE ONLY WORSHIP EXPERIENCE.\, FL\, 33056\, United States
CATEGORIES:Meetings,Worship
ATTACH;FMTTYPE=image/jpeg:https://utruthcenter.org/wp-content/uploads/2022/12/UTC-TuesPrayerMTG-2023-CalArt.jpg
END:VEVENT
BEGIN:VEVENT
DTSTART;TZID=America/New_York:20260217T180000
DTEND;TZID=America/New_York:20260217T190000
DTSTAMP:20260423T065853
CREATED:20251227T164428Z
LAST-MODIFIED:20251227T164428Z
UID:10001291-1771351200-1771354800@utruthcenter.org
SUMMARY:UTC Tuesday Night Prayer Meeting (2026)
DESCRIPTION:Join us for a TUESDAY NIGHT PRAYER MEETING!\nEvery Tuesday from 6:00 pm to 7:00 pm \nThe dial-in number is: 267-930-4000 \nThe pin is: 533 150 819 \nBE THERE!
URL:https://utruthcenter.org/event/utc-tuesday-night-prayer-meeting-2026/2026-02-17/
LOCATION:THIS IS AN ONLINE ONLY WORSHIP EXPERIENCE.\, THIS IS AN ONLINE ONLY WORSHIP EXPERIENCE.\, FL\, 33056\, United States
CATEGORIES:Meetings,Worship
ATTACH;FMTTYPE=image/jpeg:https://utruthcenter.org/wp-content/uploads/2022/12/UTC-TuesPrayerMTG-2023-CalArt.jpg
END:VEVENT
BEGIN:VEVENT
DTSTART;TZID=America/New_York:20260210T180000
DTEND;TZID=America/New_York:20260210T190000
DTSTAMP:20260423T065853
CREATED:20251227T164428Z
LAST-MODIFIED:20251227T164428Z
UID:10001290-1770746400-1770750000@utruthcenter.org
SUMMARY:UTC Tuesday Night Prayer Meeting (2026)
DESCRIPTION:Join us for a TUESDAY NIGHT PRAYER MEETING!\nEvery Tuesday from 6:00 pm to 7:00 pm \nThe dial-in number is: 267-930-4000 \nThe pin is: 533 150 819 \nBE THERE!
URL:https://utruthcenter.org/event/utc-tuesday-night-prayer-meeting-2026/2026-02-10/
LOCATION:THIS IS AN ONLINE ONLY WORSHIP EXPERIENCE.\, THIS IS AN ONLINE ONLY WORSHIP EXPERIENCE.\, FL\, 33056\, United States
CATEGORIES:Meetings,Worship
ATTACH;FMTTYPE=image/jpeg:https://utruthcenter.org/wp-content/uploads/2022/12/UTC-TuesPrayerMTG-2023-CalArt.jpg
END:VEVENT
BEGIN:VEVENT
DTSTART;TZID=America/New_York:20260203T180000
DTEND;TZID=America/New_York:20260203T190000
DTSTAMP:20260423T065853
CREATED:20251227T164428Z
LAST-MODIFIED:20251227T164428Z
UID:10001289-1770141600-1770145200@utruthcenter.org
SUMMARY:UTC Tuesday Night Prayer Meeting (2026)
DESCRIPTION:Join us for a TUESDAY NIGHT PRAYER MEETING!\nEvery Tuesday from 6:00 pm to 7:00 pm \nThe dial-in number is: 267-930-4000 \nThe pin is: 533 150 819 \nBE THERE!
URL:https://utruthcenter.org/event/utc-tuesday-night-prayer-meeting-2026/2026-02-03/
LOCATION:THIS IS AN ONLINE ONLY WORSHIP EXPERIENCE.\, THIS IS AN ONLINE ONLY WORSHIP EXPERIENCE.\, FL\, 33056\, United States
CATEGORIES:Meetings,Worship
ATTACH;FMTTYPE=image/jpeg:https://utruthcenter.org/wp-content/uploads/2022/12/UTC-TuesPrayerMTG-2023-CalArt.jpg
END:VEVENT
BEGIN:VEVENT
DTSTART;TZID=America/New_York:20260127T180000
DTEND;TZID=America/New_York:20260127T190000
DTSTAMP:20260423T065853
CREATED:20251227T164428Z
LAST-MODIFIED:20251227T164428Z
UID:10001288-1769536800-1769540400@utruthcenter.org
SUMMARY:UTC Tuesday Night Prayer Meeting (2026)
DESCRIPTION:Join us for a TUESDAY NIGHT PRAYER MEETING!\nEvery Tuesday from 6:00 pm to 7:00 pm \nThe dial-in number is: 267-930-4000 \nThe pin is: 533 150 819 \nBE THERE!
URL:https://utruthcenter.org/event/utc-tuesday-night-prayer-meeting-2026/2026-01-27/
LOCATION:THIS IS AN ONLINE ONLY WORSHIP EXPERIENCE.\, THIS IS AN ONLINE ONLY WORSHIP EXPERIENCE.\, FL\, 33056\, United States
CATEGORIES:Meetings,Worship
ATTACH;FMTTYPE=image/jpeg:https://utruthcenter.org/wp-content/uploads/2022/12/UTC-TuesPrayerMTG-2023-CalArt.jpg
END:VEVENT
BEGIN:VEVENT
DTSTART;TZID=America/New_York:20260125T100000
DTEND;TZID=America/New_York:20260125T123000
DTSTAMP:20260423T065853
CREATED:20251225T175824Z
LAST-MODIFIED:20251225T175824Z
UID:10001283-1769335200-1769344200@utruthcenter.org
SUMMARY:Getting Unstuck
DESCRIPTION:THEME: Live a Life F.I.X. in 26! (Full\, Inspired\, Xtra-ordinary)\n\nLESSON TITLE:\nGetting Unstuck\n\nTEACHER: \n \nRev. Charles M. Taylor\n\nRESPONSIVE READING: page TBA \n\nSCRIPTURE: \nPhilippians 3:13-14 \n\nColor: Blue\nPower: Faith\nDisciple: Peter\nWomen of the Chalice: Elizabeth\nPhysical Location: Pineal Gland\nMinistry: Prayer & Healing
URL:https://utruthcenter.org/event/getting-unstuck/
LOCATION:UTC\, 21310 NW 37th Avenue\, Miami Gardens\, FL\, 33056
CATEGORIES:Events,Worship
ATTACH;FMTTYPE=image/jpeg:https://utruthcenter.org/wp-content/uploads/2025/12/Jan-2026-UTC-CalArt.jpg
GEO:25.9696213;-80.2633696
X-APPLE-STRUCTURED-LOCATION;VALUE=URI;X-ADDRESS=UTC 21310 NW 37th Avenue Miami Gardens FL 33056;X-APPLE-RADIUS=500;X-TITLE=21310 NW 37th Avenue:geo:-80.2633696,25.9696213
END:VEVENT
BEGIN:VEVENT
DTSTART;TZID=America/New_York:20260120T180000
DTEND;TZID=America/New_York:20260120T190000
DTSTAMP:20260423T065853
CREATED:20251227T164428Z
LAST-MODIFIED:20251227T164428Z
UID:10001287-1768932000-1768935600@utruthcenter.org
SUMMARY:UTC Tuesday Night Prayer Meeting (2026)
DESCRIPTION:Join us for a TUESDAY NIGHT PRAYER MEETING!\nEvery Tuesday from 6:00 pm to 7:00 pm \nThe dial-in number is: 267-930-4000 \nThe pin is: 533 150 819 \nBE THERE!
URL:https://utruthcenter.org/event/utc-tuesday-night-prayer-meeting-2026/2026-01-20/
LOCATION:THIS IS AN ONLINE ONLY WORSHIP EXPERIENCE.\, THIS IS AN ONLINE ONLY WORSHIP EXPERIENCE.\, FL\, 33056\, United States
CATEGORIES:Meetings,Worship
ATTACH;FMTTYPE=image/jpeg:https://utruthcenter.org/wp-content/uploads/2022/12/UTC-TuesPrayerMTG-2023-CalArt.jpg
END:VEVENT
BEGIN:VEVENT
DTSTART;TZID=America/New_York:20260118T100000
DTEND;TZID=America/New_York:20260118T123000
DTSTAMP:20260423T065853
CREATED:20251225T175652Z
LAST-MODIFIED:20251225T175652Z
UID:10001282-1768730400-1768739400@utruthcenter.org
SUMMARY:Everything Counts
DESCRIPTION:THEME: Live a Life F.I.X. in 26! (Full\, Inspired\, Xtra-ordinary)\n\nLESSON TITLE:\nEverything Counts\n\nTEACHER: \n \nRev. Charles M. Taylor\n\nRESPONSIVE READING: page TBA \n\nSCRIPTURE: \nLuke 14:28 \n\nColor: Blue\nPower: Faith\nDisciple: Peter\nWomen of the Chalice: Elizabeth\nPhysical Location: Pineal Gland\nMinistry: Prayer & Healing
URL:https://utruthcenter.org/event/everything-counts/
LOCATION:UTC\, 21310 NW 37th Avenue\, Miami Gardens\, FL\, 33056
CATEGORIES:Events,Worship
ATTACH;FMTTYPE=image/jpeg:https://utruthcenter.org/wp-content/uploads/2025/12/Jan-2026-UTC-CalArt.jpg
GEO:25.9696213;-80.2633696
X-APPLE-STRUCTURED-LOCATION;VALUE=URI;X-ADDRESS=UTC 21310 NW 37th Avenue Miami Gardens FL 33056;X-APPLE-RADIUS=500;X-TITLE=21310 NW 37th Avenue:geo:-80.2633696,25.9696213
END:VEVENT
BEGIN:VEVENT
DTSTART;TZID=America/New_York:20260117T100000
DTEND;TZID=America/New_York:20260117T110000
DTSTAMP:20260423T065853
CREATED:20260101T035241Z
LAST-MODIFIED:20260101T035940Z
UID:10001342-1768644000-1768647600@utruthcenter.org
SUMMARY:MLK Peace Prayer Vigil 2026
DESCRIPTION:Join us online for the 2026 Martin Luther King Peace Prayer Vigil on Saturday\, January 17th! \n\nHere’s how to log in:\nZoom times: 9:00 am & 10:00 am\nMeeting ID: 892 4567 7417\nPasscode: 948098 (305) 624-4991 \n\nNeed more info? Reach out to us at:\n(305) 624-4991
URL:https://utruthcenter.org/event/mlk-peace-prayer-vigil-2026/2026-01-17/2/
LOCATION:Online Event
CATEGORIES:Holidays
ATTACH;FMTTYPE=image/jpeg:https://utruthcenter.org/wp-content/uploads/2025/01/MLK-prayervigil-2025-UTC-CalArt.jpg
END:VEVENT
BEGIN:VEVENT
DTSTART;TZID=America/New_York:20260117T090000
DTEND;TZID=America/New_York:20260117T100000
DTSTAMP:20260423T065853
CREATED:20260101T035241Z
LAST-MODIFIED:20260101T035940Z
UID:10001339-1768640400-1768644000@utruthcenter.org
SUMMARY:MLK Peace Prayer Vigil 2026
DESCRIPTION:Join us online for the 2026 Martin Luther King Peace Prayer Vigil on Saturday\, January 17th! \n\nHere’s how to log in:\nZoom times: 9:00 am & 10:00 am\nMeeting ID: 892 4567 7417\nPasscode: 948098 (305) 624-4991 \n\nNeed more info? Reach out to us at:\n(305) 624-4991
URL:https://utruthcenter.org/event/mlk-peace-prayer-vigil-2026/2026-01-17/1/
LOCATION:Online Event
CATEGORIES:Holidays
ATTACH;FMTTYPE=image/jpeg:https://utruthcenter.org/wp-content/uploads/2025/01/MLK-prayervigil-2025-UTC-CalArt.jpg
END:VEVENT
BEGIN:VEVENT
DTSTART;TZID=America/New_York:20260113T180000
DTEND;TZID=America/New_York:20260113T190000
DTSTAMP:20260423T065853
CREATED:20251227T164428Z
LAST-MODIFIED:20251227T164428Z
UID:10001286-1768327200-1768330800@utruthcenter.org
SUMMARY:UTC Tuesday Night Prayer Meeting (2026)
DESCRIPTION:Join us for a TUESDAY NIGHT PRAYER MEETING!\nEvery Tuesday from 6:00 pm to 7:00 pm \nThe dial-in number is: 267-930-4000 \nThe pin is: 533 150 819 \nBE THERE!
URL:https://utruthcenter.org/event/utc-tuesday-night-prayer-meeting-2026/2026-01-13/
LOCATION:THIS IS AN ONLINE ONLY WORSHIP EXPERIENCE.\, THIS IS AN ONLINE ONLY WORSHIP EXPERIENCE.\, FL\, 33056\, United States
CATEGORIES:Meetings,Worship
ATTACH;FMTTYPE=image/jpeg:https://utruthcenter.org/wp-content/uploads/2022/12/UTC-TuesPrayerMTG-2023-CalArt.jpg
END:VEVENT
BEGIN:VEVENT
DTSTART;TZID=America/New_York:20260111T100000
DTEND;TZID=America/New_York:20260111T123000
DTSTAMP:20260423T065853
CREATED:20251225T174935Z
LAST-MODIFIED:20251225T181732Z
UID:10001281-1768125600-1768134600@utruthcenter.org
SUMMARY:Live Your Life Fully
DESCRIPTION:THEME: Live a Life F.I.X. in 26! (Full\, Inspired\, Xtra-ordinary)\n\nLESSON TITLE:\nLive Your Life Fully\n\nTEACHER: \n \nRev. Jacquiline Hazél – Opening\n   \nRev. Mitchell Walthour – Major\n \n\nRev. Tawnicia Rowan – 1st\n \nRev. Shakira Taylor – 2nd\n\nRESPONSIVE READING: page TBA \n\nSCRIPTURE: \nJohn 10:10 \n\nColor: Blue\nPower: Faith\nDisciple: Peter\nWomen of the Chalice: Elizabeth\nPhysical Location: Pineal Gland\nMinistry: Prayer & Healing
URL:https://utruthcenter.org/event/live-your-life-fully/
LOCATION:UTC\, 21310 NW 37th Avenue\, Miami Gardens\, FL\, 33056
CATEGORIES:Events,Worship
ATTACH;FMTTYPE=image/jpeg:https://utruthcenter.org/wp-content/uploads/2025/12/Jan-2026-UTC-CalArt.jpg
GEO:25.9696213;-80.2633696
X-APPLE-STRUCTURED-LOCATION;VALUE=URI;X-ADDRESS=UTC 21310 NW 37th Avenue Miami Gardens FL 33056;X-APPLE-RADIUS=500;X-TITLE=21310 NW 37th Avenue:geo:-80.2633696,25.9696213
END:VEVENT
BEGIN:VEVENT
DTSTART;TZID=America/New_York:20260106T180000
DTEND;TZID=America/New_York:20260106T190000
DTSTAMP:20260423T065853
CREATED:20251227T164428Z
LAST-MODIFIED:20251227T164428Z
UID:10001285-1767722400-1767726000@utruthcenter.org
SUMMARY:UTC Tuesday Night Prayer Meeting (2026)
DESCRIPTION:Join us for a TUESDAY NIGHT PRAYER MEETING!\nEvery Tuesday from 6:00 pm to 7:00 pm \nThe dial-in number is: 267-930-4000 \nThe pin is: 533 150 819 \nBE THERE!
URL:https://utruthcenter.org/event/utc-tuesday-night-prayer-meeting-2026/2026-01-06/
LOCATION:THIS IS AN ONLINE ONLY WORSHIP EXPERIENCE.\, THIS IS AN ONLINE ONLY WORSHIP EXPERIENCE.\, FL\, 33056\, United States
CATEGORIES:Meetings,Worship
ATTACH;FMTTYPE=image/jpeg:https://utruthcenter.org/wp-content/uploads/2022/12/UTC-TuesPrayerMTG-2023-CalArt.jpg
END:VEVENT
BEGIN:VEVENT
DTSTART;TZID=America/New_York:20260104T100000
DTEND;TZID=America/New_York:20260104T123000
DTSTAMP:20260423T065853
CREATED:20251224T153750Z
LAST-MODIFIED:20251225T175911Z
UID:10001280-1767520800-1767529800@utruthcenter.org
SUMMARY:Already F.I.X.\,  Already Whole
DESCRIPTION:THEME: Live a Life F.I.X. in 26! (Full\, Inspired\, Xtra-ordinary)\n\nLESSON TITLE:\nAlready F.I.X.\, Already Whole\n\nTEACHER: \n \nRev. Mitchell Walthour\n\nRESPONSIVE READING: page TBA \n\nSCRIPTURE: \nJeremiah 17:14 \n\nColor: Blue\nPower: Faith\nDisciple: Peter\nWomen of the Chalice: Elizabeth\nPhysical Location: Pineal Gland\nMinistry: Prayer & Healing
URL:https://utruthcenter.org/event/already-f-i-x-already-whole/
LOCATION:UTC\, 21310 NW 37th Avenue\, Miami Gardens\, FL\, 33056
CATEGORIES:Events,Worship
ATTACH;FMTTYPE=image/jpeg:https://utruthcenter.org/wp-content/uploads/2025/12/Jan-2026-UTC-CalArt.jpg
GEO:25.9696213;-80.2633696
X-APPLE-STRUCTURED-LOCATION;VALUE=URI;X-ADDRESS=UTC 21310 NW 37th Avenue Miami Gardens FL 33056;X-APPLE-RADIUS=500;X-TITLE=21310 NW 37th Avenue:geo:-80.2633696,25.9696213
END:VEVENT
BEGIN:VEVENT
DTSTART;TZID=America/New_York:20251230T180000
DTEND;TZID=America/New_York:20251230T190000
DTSTAMP:20260423T065853
CREATED:20251227T164428Z
LAST-MODIFIED:20251227T164428Z
UID:10001284-1767117600-1767121200@utruthcenter.org
SUMMARY:UTC Tuesday Night Prayer Meeting (2026)
DESCRIPTION:Join us for a TUESDAY NIGHT PRAYER MEETING!\nEvery Tuesday from 6:00 pm to 7:00 pm \nThe dial-in number is: 267-930-4000 \nThe pin is: 533 150 819 \nBE THERE!
URL:https://utruthcenter.org/event/utc-tuesday-night-prayer-meeting-2026/2025-12-30/
LOCATION:THIS IS AN ONLINE ONLY WORSHIP EXPERIENCE.\, THIS IS AN ONLINE ONLY WORSHIP EXPERIENCE.\, FL\, 33056\, United States
CATEGORIES:Meetings,Worship
ATTACH;FMTTYPE=image/jpeg:https://utruthcenter.org/wp-content/uploads/2022/12/UTC-TuesPrayerMTG-2023-CalArt.jpg
END:VEVENT
BEGIN:VEVENT
DTSTART;TZID=America/New_York:20251216T180000
DTEND;TZID=America/New_York:20251216T190000
DTSTAMP:20260423T065853
CREATED:20241229T144456Z
LAST-MODIFIED:20241229T144457Z
UID:10001214-1765908000-1765911600@utruthcenter.org
SUMMARY:UTC Tuesday Night Prayer Meeting
DESCRIPTION:Join us for a TUESDAY NIGHT PRAYER MEETING!\nEvery Tuesday from 6:00pm to 7:00pm \nThe dial-in number is: 267-930-4000 \nThe pin is: 533 150 819 \nBE THERE! \n 
URL:https://utruthcenter.org/event/utc-tuesday-night-prayer-meeting-3-2-2/2025-12-16/
LOCATION:THIS IS AN ONLINE ONLY WORSHIP EXPERIENCE.\, THIS IS AN ONLINE ONLY WORSHIP EXPERIENCE.\, FL\, 33056\, United States
CATEGORIES:Worship
ATTACH;FMTTYPE=image/jpeg:https://utruthcenter.org/wp-content/uploads/2022/12/UTC-TuesPrayerMTG-2023-CalArt.jpg
END:VEVENT
BEGIN:VEVENT
DTSTART;TZID=America/New_York:20251209T180000
DTEND;TZID=America/New_York:20251209T190000
DTSTAMP:20260423T065853
CREATED:20241229T144456Z
LAST-MODIFIED:20241229T144457Z
UID:10001213-1765303200-1765306800@utruthcenter.org
SUMMARY:UTC Tuesday Night Prayer Meeting
DESCRIPTION:Join us for a TUESDAY NIGHT PRAYER MEETING!\nEvery Tuesday from 6:00pm to 7:00pm \nThe dial-in number is: 267-930-4000 \nThe pin is: 533 150 819 \nBE THERE! \n 
URL:https://utruthcenter.org/event/utc-tuesday-night-prayer-meeting-3-2-2/2025-12-09/
LOCATION:THIS IS AN ONLINE ONLY WORSHIP EXPERIENCE.\, THIS IS AN ONLINE ONLY WORSHIP EXPERIENCE.\, FL\, 33056\, United States
CATEGORIES:Worship
ATTACH;FMTTYPE=image/jpeg:https://utruthcenter.org/wp-content/uploads/2022/12/UTC-TuesPrayerMTG-2023-CalArt.jpg
END:VEVENT
BEGIN:VEVENT
DTSTART;TZID=America/New_York:20251202T180000
DTEND;TZID=America/New_York:20251202T190000
DTSTAMP:20260423T065853
CREATED:20241229T144456Z
LAST-MODIFIED:20241229T144457Z
UID:10001212-1764698400-1764702000@utruthcenter.org
SUMMARY:UTC Tuesday Night Prayer Meeting
DESCRIPTION:Join us for a TUESDAY NIGHT PRAYER MEETING!\nEvery Tuesday from 6:00pm to 7:00pm \nThe dial-in number is: 267-930-4000 \nThe pin is: 533 150 819 \nBE THERE! \n 
URL:https://utruthcenter.org/event/utc-tuesday-night-prayer-meeting-3-2-2/2025-12-02/
LOCATION:THIS IS AN ONLINE ONLY WORSHIP EXPERIENCE.\, THIS IS AN ONLINE ONLY WORSHIP EXPERIENCE.\, FL\, 33056\, United States
CATEGORIES:Worship
ATTACH;FMTTYPE=image/jpeg:https://utruthcenter.org/wp-content/uploads/2022/12/UTC-TuesPrayerMTG-2023-CalArt.jpg
END:VEVENT
BEGIN:VEVENT
DTSTART;TZID=America/New_York:20251125T180000
DTEND;TZID=America/New_York:20251125T190000
DTSTAMP:20260423T065853
CREATED:20241229T144456Z
LAST-MODIFIED:20241229T144457Z
UID:10001211-1764093600-1764097200@utruthcenter.org
SUMMARY:UTC Tuesday Night Prayer Meeting
DESCRIPTION:Join us for a TUESDAY NIGHT PRAYER MEETING!\nEvery Tuesday from 6:00pm to 7:00pm \nThe dial-in number is: 267-930-4000 \nThe pin is: 533 150 819 \nBE THERE! \n 
URL:https://utruthcenter.org/event/utc-tuesday-night-prayer-meeting-3-2-2/2025-11-25/
LOCATION:THIS IS AN ONLINE ONLY WORSHIP EXPERIENCE.\, THIS IS AN ONLINE ONLY WORSHIP EXPERIENCE.\, FL\, 33056\, United States
CATEGORIES:Worship
ATTACH;FMTTYPE=image/jpeg:https://utruthcenter.org/wp-content/uploads/2022/12/UTC-TuesPrayerMTG-2023-CalArt.jpg
END:VEVENT
BEGIN:VEVENT
DTSTART;TZID=America/New_York:20251118T180000
DTEND;TZID=America/New_York:20251118T190000
DTSTAMP:20260423T065853
CREATED:20241229T144456Z
LAST-MODIFIED:20241229T144457Z
UID:10001210-1763488800-1763492400@utruthcenter.org
SUMMARY:UTC Tuesday Night Prayer Meeting
DESCRIPTION:Join us for a TUESDAY NIGHT PRAYER MEETING!\nEvery Tuesday from 6:00pm to 7:00pm \nThe dial-in number is: 267-930-4000 \nThe pin is: 533 150 819 \nBE THERE! \n 
URL:https://utruthcenter.org/event/utc-tuesday-night-prayer-meeting-3-2-2/2025-11-18/
LOCATION:THIS IS AN ONLINE ONLY WORSHIP EXPERIENCE.\, THIS IS AN ONLINE ONLY WORSHIP EXPERIENCE.\, FL\, 33056\, United States
CATEGORIES:Worship
ATTACH;FMTTYPE=image/jpeg:https://utruthcenter.org/wp-content/uploads/2022/12/UTC-TuesPrayerMTG-2023-CalArt.jpg
END:VEVENT
BEGIN:VEVENT
DTSTART;TZID=America/New_York:20251111T180000
DTEND;TZID=America/New_York:20251111T190000
DTSTAMP:20260423T065853
CREATED:20241229T144456Z
LAST-MODIFIED:20241229T144457Z
UID:10001209-1762884000-1762887600@utruthcenter.org
SUMMARY:UTC Tuesday Night Prayer Meeting
DESCRIPTION:Join us for a TUESDAY NIGHT PRAYER MEETING!\nEvery Tuesday from 6:00pm to 7:00pm \nThe dial-in number is: 267-930-4000 \nThe pin is: 533 150 819 \nBE THERE! \n 
URL:https://utruthcenter.org/event/utc-tuesday-night-prayer-meeting-3-2-2/2025-11-11/
LOCATION:THIS IS AN ONLINE ONLY WORSHIP EXPERIENCE.\, THIS IS AN ONLINE ONLY WORSHIP EXPERIENCE.\, FL\, 33056\, United States
CATEGORIES:Worship
ATTACH;FMTTYPE=image/jpeg:https://utruthcenter.org/wp-content/uploads/2022/12/UTC-TuesPrayerMTG-2023-CalArt.jpg
END:VEVENT
BEGIN:VEVENT
DTSTART;TZID=America/New_York:20251104T180000
DTEND;TZID=America/New_York:20251104T190000
DTSTAMP:20260423T065853
CREATED:20241229T144456Z
LAST-MODIFIED:20241229T144457Z
UID:10001208-1762279200-1762282800@utruthcenter.org
SUMMARY:UTC Tuesday Night Prayer Meeting
DESCRIPTION:Join us for a TUESDAY NIGHT PRAYER MEETING!\nEvery Tuesday from 6:00pm to 7:00pm \nThe dial-in number is: 267-930-4000 \nThe pin is: 533 150 819 \nBE THERE! \n 
URL:https://utruthcenter.org/event/utc-tuesday-night-prayer-meeting-3-2-2/2025-11-04/
LOCATION:THIS IS AN ONLINE ONLY WORSHIP EXPERIENCE.\, THIS IS AN ONLINE ONLY WORSHIP EXPERIENCE.\, FL\, 33056\, United States
CATEGORIES:Worship
ATTACH;FMTTYPE=image/jpeg:https://utruthcenter.org/wp-content/uploads/2022/12/UTC-TuesPrayerMTG-2023-CalArt.jpg
END:VEVENT
END:VCALENDAR