BEGIN:VCALENDAR
VERSION:2.0
PRODID:-//Universal Truth Center - ECPv6.15.17//NONSGML v1.0//EN
CALSCALE:GREGORIAN
METHOD:PUBLISH
X-WR-CALNAME:Universal Truth Center
X-ORIGINAL-URL:https://utruthcenter.org
X-WR-CALDESC:Events for Universal Truth Center
REFRESH-INTERVAL;VALUE=DURATION:PT1H
X-Robots-Tag:noindex
X-PUBLISHED-TTL:PT1H
BEGIN:VTIMEZONE
TZID:America/New_York
BEGIN:DAYLIGHT
TZOFFSETFROM:-0500
TZOFFSETTO:-0400
TZNAME:EDT
DTSTART:20200308T070000
END:DAYLIGHT
BEGIN:STANDARD
TZOFFSETFROM:-0400
TZOFFSETTO:-0500
TZNAME:EST
DTSTART:20201101T060000
END:STANDARD
BEGIN:DAYLIGHT
TZOFFSETFROM:-0500
TZOFFSETTO:-0400
TZNAME:EDT
DTSTART:20210314T070000
END:DAYLIGHT
BEGIN:STANDARD
TZOFFSETFROM:-0400
TZOFFSETTO:-0500
TZNAME:EST
DTSTART:20211107T060000
END:STANDARD
BEGIN:DAYLIGHT
TZOFFSETFROM:-0500
TZOFFSETTO:-0400
TZNAME:EDT
DTSTART:20220313T070000
END:DAYLIGHT
BEGIN:STANDARD
TZOFFSETFROM:-0400
TZOFFSETTO:-0500
TZNAME:EST
DTSTART:20221106T060000
END:STANDARD
END:VTIMEZONE
BEGIN:VEVENT
DTSTART;TZID=America/New_York:20210906T100000
DTEND;TZID=America/New_York:20210906T110000
DTSTAMP:20260425T220801
CREATED:20210822T184058Z
LAST-MODIFIED:20210822T184518Z
UID:10000161-1630922400-1630926000@utruthcenter.org
SUMMARY:AIF 2021 Prayer Vigil
DESCRIPTION:Saturday\, September 4th\, 2021\n9:00 AM or 10:00 AM\nvia conference call\n(712)451-0011 – Access Code: 457533#\n \n\n 
URL:https://utruthcenter.org/event/aif-2021-prayer-vigil/2021-09-06/
LOCATION:THIS EVENT IS ONLINE ONLY.\, United States
CATEGORIES:Meetings,Worship
ATTACH;FMTTYPE=image/jpeg:https://utruthcenter.org/wp-content/uploads/2021/08/AIF2021_PrayerVigil-CalArt.jpg
END:VEVENT
BEGIN:VEVENT
DTSTART;TZID=America/New_York:20210905T100000
DTEND;TZID=America/New_York:20210905T123000
DTSTAMP:20260425T220801
CREATED:20210821T000613Z
LAST-MODIFIED:20210904T220459Z
UID:10000148-1630836000-1630845000@utruthcenter.org
SUMMARY:Level Up Your Success
DESCRIPTION:AIF 2021: Level Up Your Success\n\nLESSON TITLE: \nLevel Up Your Success\n\nTEACHER: \n \nRev. Charles M. Taylor\n\nAIF 2021 Text: INTRODUCTION \n\nThe Seven Spiritual Laws of Success\nby Deepak Chopra \n\nRESPONSIVE READING: \nDaily Inspiration Pg. 18 \n\nSCRIPTURE: \nRomans 12:2 \n\nColor: Olive Green\nPower: Order\nDisciple: James son of Alpheus\nWomen of the Chalice: Mary wife of Alpheus\nPhysical Location: Navel\nMinistry: Adult Education  \n\n 
URL:https://utruthcenter.org/event/level-up-your-success/
LOCATION:THIS IS AN ONLINE ONLY WORSHIP EXPERIENCE.\, THIS IS AN ONLINE ONLY WORSHIP EXPERIENCE.\, FL\, 33056\, United States
CATEGORIES:Events,Worship
ATTACH;FMTTYPE=image/jpeg:https://utruthcenter.org/wp-content/uploads/2021/08/AIF2021_CALART-kickoff.jpg
END:VEVENT
BEGIN:VEVENT
DTSTART;TZID=America/New_York:20210905T100000
DTEND;TZID=America/New_York:20210905T110000
DTSTAMP:20260425T220801
CREATED:20210822T184058Z
LAST-MODIFIED:20210822T184518Z
UID:10000160-1630836000-1630839600@utruthcenter.org
SUMMARY:AIF 2021 Prayer Vigil
DESCRIPTION:Saturday\, September 4th\, 2021\n9:00 AM or 10:00 AM\nvia conference call\n(712)451-0011 – Access Code: 457533#\n \n\n 
URL:https://utruthcenter.org/event/aif-2021-prayer-vigil/2021-09-05/
LOCATION:THIS EVENT IS ONLINE ONLY.\, United States
CATEGORIES:Meetings,Worship
ATTACH;FMTTYPE=image/jpeg:https://utruthcenter.org/wp-content/uploads/2021/08/AIF2021_PrayerVigil-CalArt.jpg
END:VEVENT
BEGIN:VEVENT
DTSTART;TZID=America/New_York:20210904T100000
DTEND;TZID=America/New_York:20210904T110000
DTSTAMP:20260425T220801
CREATED:20210822T184058Z
LAST-MODIFIED:20210822T184518Z
UID:10000159-1630749600-1630753200@utruthcenter.org
SUMMARY:AIF 2021 Prayer Vigil
DESCRIPTION:Saturday\, September 4th\, 2021\n9:00 AM or 10:00 AM\nvia conference call\n(712)451-0011 – Access Code: 457533#\n \n\n 
URL:https://utruthcenter.org/event/aif-2021-prayer-vigil/2021-09-04/
LOCATION:THIS EVENT IS ONLINE ONLY.\, United States
CATEGORIES:Meetings,Worship
ATTACH;FMTTYPE=image/jpeg:https://utruthcenter.org/wp-content/uploads/2021/08/AIF2021_PrayerVigil-CalArt.jpg
END:VEVENT
BEGIN:VEVENT
DTSTART;TZID=America/New_York:20210901T183000
DTEND;TZID=America/New_York:20210901T203000
DTSTAMP:20260425T220801
CREATED:20210501T175313Z
LAST-MODIFIED:20210908T192357Z
UID:10000124-1630521000-1630528200@utruthcenter.org
SUMMARY:Conversations with the Minister
DESCRIPTION:JOIN THE CONVERSATION!\nEVERY FIRST WEDNESDAY OF THE MONTH @ 6:30 PM.\n \nONLINE MEETING VIA ZOOM\n\nMEETING ID: 917 2196 5277\nPASSWORD: 307706\n\n\nSEE YOU THERE!
URL:https://utruthcenter.org/event/conversations-with-the-minister/2021-09-01/
LOCATION:THIS IS AN ONLINE ONLY WORSHIP EXPERIENCE.\, THIS IS AN ONLINE ONLY WORSHIP EXPERIENCE.\, FL\, 33056\, United States
CATEGORIES:Events,Meetings
ATTACH;FMTTYPE=image/jpeg:https://utruthcenter.org/wp-content/uploads/2021/05/Conversation_with_the_Minister-Calendar2.jpg
END:VEVENT
BEGIN:VEVENT
DTSTART;TZID=America/New_York:20210831T180000
DTEND;TZID=America/New_York:20210831T200000
DTSTAMP:20260425T220802
CREATED:20201212T174501Z
LAST-MODIFIED:20210501T175633Z
UID:10000073-1630432800-1630440000@utruthcenter.org
SUMMARY:Tuesday Prayer Meeting
DESCRIPTION:Join us for a TUESDAY NIGHT PRAYER MEETING!\nThe dial-in number is: 712-451-0011 \nThe pin is: 457533# \nBE THERE!
URL:https://utruthcenter.org/event/tuesday-prayer-meeting-2/2021-08-31/
LOCATION:THIS IS AN ONLINE ONLY WORSHIP EXPERIENCE.\, THIS IS AN ONLINE ONLY WORSHIP EXPERIENCE.\, FL\, 33056\, United States
CATEGORIES:Meetings,Worship
ATTACH;FMTTYPE=image/jpeg:https://utruthcenter.org/wp-content/uploads/2020/12/prayerMTGs_2021-CalArt.jpg
END:VEVENT
BEGIN:VEVENT
DTSTART;TZID=America/New_York:20210829T100000
DTEND;TZID=America/New_York:20210829T123000
DTSTAMP:20260425T220802
CREATED:20210706T213804Z
LAST-MODIFIED:20210805T155117Z
UID:10000145-1630231200-1630240200@utruthcenter.org
SUMMARY:Level Up Your Prayer Practice
DESCRIPTION:THEME: Level Up: Your Prayer Life\n\nLESSON TITLE: \nLEVEL UP YOUR PRAYER PRACTICE\n\nTEACHER: \n \nRev. Yanick Douyon\n\nRESPONSIVE READING: \nDaily Inspiration Pg. 62 \n\nSCRIPTURE: \nMatthew 14:23 \n\nColor: Grey\nPower: Will\nDisciple: Matthew\nWomen of the Chalice: Martha\nPhysical Location: Center of Brain\nMinistry: Media \n\n 
URL:https://utruthcenter.org/event/level-up-your-prayer-practice/
LOCATION:THIS IS AN ONLINE ONLY WORSHIP EXPERIENCE.\, THIS IS AN ONLINE ONLY WORSHIP EXPERIENCE.\, FL\, 33056\, United States
CATEGORIES:Events,Worship
ATTACH;FMTTYPE=image/png:https://utruthcenter.org/wp-content/uploads/2021/06/Level-Up-Your-Prayer-CalArt.png
END:VEVENT
BEGIN:VEVENT
DTSTART;TZID=America/New_York:20210828T100000
DTEND;TZID=America/New_York:20210828T120000
DTSTAMP:20260425T220802
CREATED:20210822T181011Z
LAST-MODIFIED:20210822T185738Z
UID:10000157-1630144800-1630152000@utruthcenter.org
SUMMARY:Transformation Through Grief
DESCRIPTION:SATURDAY: AUGUST 28\, 2021\n10:00AM – 12:00 NOON\n\nMEETING VIA ZOOM\n\nMeeting ID: 886 4078 0491\nPasscode: 059390\n  \n\n 
URL:https://utruthcenter.org/event/transformation-through-grief/
LOCATION:THIS EVENT IS ONLINE ONLY.\, United States
CATEGORIES:Meetings,Workshop
ATTACH;FMTTYPE=image/jpeg:https://utruthcenter.org/wp-content/uploads/2021/08/Tr_T_Grief-CalArt.jpg
END:VEVENT
BEGIN:VEVENT
DTSTART;TZID=America/New_York:20210824T180000
DTEND;TZID=America/New_York:20210824T200000
DTSTAMP:20260425T220802
CREATED:20201212T174501Z
LAST-MODIFIED:20210501T175633Z
UID:10000072-1629828000-1629835200@utruthcenter.org
SUMMARY:Tuesday Prayer Meeting
DESCRIPTION:Join us for a TUESDAY NIGHT PRAYER MEETING!\nThe dial-in number is: 712-451-0011 \nThe pin is: 457533# \nBE THERE!
URL:https://utruthcenter.org/event/tuesday-prayer-meeting-2/2021-08-24/
LOCATION:THIS IS AN ONLINE ONLY WORSHIP EXPERIENCE.\, THIS IS AN ONLINE ONLY WORSHIP EXPERIENCE.\, FL\, 33056\, United States
CATEGORIES:Meetings,Worship
ATTACH;FMTTYPE=image/jpeg:https://utruthcenter.org/wp-content/uploads/2020/12/prayerMTGs_2021-CalArt.jpg
END:VEVENT
BEGIN:VEVENT
DTSTART;TZID=America/New_York:20210822T100000
DTEND;TZID=America/New_York:20210822T123000
DTSTAMP:20260425T220802
CREATED:20210706T213450Z
LAST-MODIFIED:20210805T155043Z
UID:10000144-1629626400-1629635400@utruthcenter.org
SUMMARY:Level Up Longing for God
DESCRIPTION:THEME: Level Up: Your Prayer Life\n\nLESSON TITLE: \nLEVEL UP LONGING FOR GOD\n\nTEACHER: \n \nShakira Taylor\n\nRESPONSIVE READING: \nDaily Inspiration Pg. 68 \n\nSCRIPTURE: \nPsalm 42:1 \n\nColor: Grey\nPower: Will\nDisciple: Matthew\nWomen of the Chalice: Martha\nPhysical Location: Center of Brain\nMinistry: Media \n\n 
URL:https://utruthcenter.org/event/level-up-longing-for-god/
LOCATION:THIS IS AN ONLINE ONLY WORSHIP EXPERIENCE.\, THIS IS AN ONLINE ONLY WORSHIP EXPERIENCE.\, FL\, 33056\, United States
CATEGORIES:Events,Worship
ATTACH;FMTTYPE=image/png:https://utruthcenter.org/wp-content/uploads/2021/06/Level-Up-Your-Prayer-CalArt.png
END:VEVENT
BEGIN:VEVENT
DTSTART;TZID=America/New_York:20210822T090000
DTEND;TZID=America/New_York:20210822T140000
DTSTAMP:20260425T220802
CREATED:20210726T052833Z
LAST-MODIFIED:20210726T053020Z
UID:10000146-1629622800-1629640800@utruthcenter.org
SUMMARY:Backpack Blessing
DESCRIPTION:
URL:https://utruthcenter.org/event/backpack-blessing/
CATEGORIES:Events
ATTACH;FMTTYPE=image/jpeg:https://utruthcenter.org/wp-content/uploads/2021/07/YS_BP_Blessing-MIN-CalArt.jpg
END:VEVENT
BEGIN:VEVENT
DTSTART;TZID=America/New_York:20210817T180000
DTEND;TZID=America/New_York:20210817T200000
DTSTAMP:20260425T220802
CREATED:20201212T174501Z
LAST-MODIFIED:20210501T175633Z
UID:10000071-1629223200-1629230400@utruthcenter.org
SUMMARY:Tuesday Prayer Meeting
DESCRIPTION:Join us for a TUESDAY NIGHT PRAYER MEETING!\nThe dial-in number is: 712-451-0011 \nThe pin is: 457533# \nBE THERE!
URL:https://utruthcenter.org/event/tuesday-prayer-meeting-2/2021-08-17/
LOCATION:THIS IS AN ONLINE ONLY WORSHIP EXPERIENCE.\, THIS IS AN ONLINE ONLY WORSHIP EXPERIENCE.\, FL\, 33056\, United States
CATEGORIES:Meetings,Worship
ATTACH;FMTTYPE=image/jpeg:https://utruthcenter.org/wp-content/uploads/2020/12/prayerMTGs_2021-CalArt.jpg
END:VEVENT
BEGIN:VEVENT
DTSTART;TZID=America/New_York:20210815T100000
DTEND;TZID=America/New_York:20210815T123000
DTSTAMP:20260425T220802
CREATED:20210706T195653Z
LAST-MODIFIED:20210805T154942Z
UID:10000143-1629021600-1629030600@utruthcenter.org
SUMMARY:Level Up God’s Supply
DESCRIPTION:THEME: Level Up: Your Prayer Life\n\nLESSON TITLE: \nLEVEL UP GOD’S SUPPLY\n\nTEACHER: \n \nRev. Anna Price\n\nRESPONSIVE READING: \nDaily Inspiration Pg. 58 \n\nSCRIPTURE: \nPsalm 23:1 \n\nColor: Grey\nPower: Will\nDisciple: Matthew\nWomen of the Chalice: Martha\nPhysical Location: Center of Brain\nMinistry: Media \n\n 
URL:https://utruthcenter.org/event/level-up-gods-supply/
LOCATION:THIS IS AN ONLINE ONLY WORSHIP EXPERIENCE.\, THIS IS AN ONLINE ONLY WORSHIP EXPERIENCE.\, FL\, 33056\, United States
CATEGORIES:Events,Worship
ATTACH;FMTTYPE=image/png:https://utruthcenter.org/wp-content/uploads/2021/06/Level-Up-Your-Prayer-CalArt.png
END:VEVENT
BEGIN:VEVENT
DTSTART;TZID=America/New_York:20210810T180000
DTEND;TZID=America/New_York:20210810T200000
DTSTAMP:20260425T220802
CREATED:20201212T174501Z
LAST-MODIFIED:20210501T175633Z
UID:10000070-1628618400-1628625600@utruthcenter.org
SUMMARY:Tuesday Prayer Meeting
DESCRIPTION:Join us for a TUESDAY NIGHT PRAYER MEETING!\nThe dial-in number is: 712-451-0011 \nThe pin is: 457533# \nBE THERE!
URL:https://utruthcenter.org/event/tuesday-prayer-meeting-2/2021-08-10/
LOCATION:THIS IS AN ONLINE ONLY WORSHIP EXPERIENCE.\, THIS IS AN ONLINE ONLY WORSHIP EXPERIENCE.\, FL\, 33056\, United States
CATEGORIES:Meetings,Worship
ATTACH;FMTTYPE=image/jpeg:https://utruthcenter.org/wp-content/uploads/2020/12/prayerMTGs_2021-CalArt.jpg
END:VEVENT
BEGIN:VEVENT
DTSTART;TZID=America/New_York:20210808T100000
DTEND;TZID=America/New_York:20210808T123000
DTSTAMP:20260425T220802
CREATED:20210706T141841Z
LAST-MODIFIED:20210805T154843Z
UID:10000142-1628416800-1628425800@utruthcenter.org
SUMMARY:Level Up God’s Mercy
DESCRIPTION:THEME: Level Up: Your Prayer Life\n\nLESSON TITLE: \nLEVEL UP GOD’S MERCY\n\nTEACHER: \n \nTawnicia Rowan\n\nRESPONSIVE READING: \nDaily Inspiration Pg. 59 \n\nSCRIPTURE: \nMatthew 15:21-28 \n\nColor: Grey\nPower: Will\nDisciple: Matthew\nWomen of the Chalice: Martha\nPhysical Location: Center of Brain\nMinistry: Media \n\n 
URL:https://utruthcenter.org/event/level-up-gods-mercy/
LOCATION:THIS IS AN ONLINE ONLY WORSHIP EXPERIENCE.\, THIS IS AN ONLINE ONLY WORSHIP EXPERIENCE.\, FL\, 33056\, United States
CATEGORIES:Events,Worship
ATTACH;FMTTYPE=image/png:https://utruthcenter.org/wp-content/uploads/2021/06/Level-Up-Your-Prayer-CalArt.png
END:VEVENT
BEGIN:VEVENT
DTSTART;TZID=America/New_York:20210804T183000
DTEND;TZID=America/New_York:20210804T203000
DTSTAMP:20260425T220802
CREATED:20210501T175313Z
LAST-MODIFIED:20210908T192357Z
UID:10000123-1628101800-1628109000@utruthcenter.org
SUMMARY:Conversations with the Minister
DESCRIPTION:JOIN THE CONVERSATION!\nEVERY FIRST WEDNESDAY OF THE MONTH @ 6:30 PM.\n \nONLINE MEETING VIA ZOOM\n\nMEETING ID: 917 2196 5277\nPASSWORD: 307706\n\n\nSEE YOU THERE!
URL:https://utruthcenter.org/event/conversations-with-the-minister/2021-08-04/
LOCATION:THIS IS AN ONLINE ONLY WORSHIP EXPERIENCE.\, THIS IS AN ONLINE ONLY WORSHIP EXPERIENCE.\, FL\, 33056\, United States
CATEGORIES:Events,Meetings
ATTACH;FMTTYPE=image/jpeg:https://utruthcenter.org/wp-content/uploads/2021/05/Conversation_with_the_Minister-Calendar2.jpg
END:VEVENT
BEGIN:VEVENT
DTSTART;TZID=America/New_York:20210803T180000
DTEND;TZID=America/New_York:20210803T200000
DTSTAMP:20260425T220802
CREATED:20201212T174501Z
LAST-MODIFIED:20210501T175633Z
UID:10000069-1628013600-1628020800@utruthcenter.org
SUMMARY:Tuesday Prayer Meeting
DESCRIPTION:Join us for a TUESDAY NIGHT PRAYER MEETING!\nThe dial-in number is: 712-451-0011 \nThe pin is: 457533# \nBE THERE!
URL:https://utruthcenter.org/event/tuesday-prayer-meeting-2/2021-08-03/
LOCATION:THIS IS AN ONLINE ONLY WORSHIP EXPERIENCE.\, THIS IS AN ONLINE ONLY WORSHIP EXPERIENCE.\, FL\, 33056\, United States
CATEGORIES:Meetings,Worship
ATTACH;FMTTYPE=image/jpeg:https://utruthcenter.org/wp-content/uploads/2020/12/prayerMTGs_2021-CalArt.jpg
END:VEVENT
BEGIN:VEVENT
DTSTART;TZID=America/New_York:20210801T100000
DTEND;TZID=America/New_York:20210801T123000
DTSTAMP:20260425T220802
CREATED:20210706T141550Z
LAST-MODIFIED:20210726T045102Z
UID:10000141-1627812000-1627821000@utruthcenter.org
SUMMARY:Level Up Believing and Receiving
DESCRIPTION:THEME: Level Up: Your Prayer Life\n\nLESSON TITLE: \nLevel Up Believing and Receiving\n\nTEACHER: \n \nRev. Sheree Thompson\n\nRESPONSIVE READING: \nDaily Inspiration Pg. 55 \n\nSCRIPTURE: \nMark 11:24 \n\nColor: Grey\nPower: Will\nDisciple: Matthew\nWomen of the Chalice: Martha\nPhysical Location: Center of Brain\nMinistry: Media \n\n 
URL:https://utruthcenter.org/event/believing-and-receiving/
CATEGORIES:Events,Worship
ATTACH;FMTTYPE=image/png:https://utruthcenter.org/wp-content/uploads/2021/06/Level-Up-Your-Prayer-CalArt.png
END:VEVENT
BEGIN:VEVENT
DTSTART;TZID=America/New_York:20210731T090000
DTEND;TZID=America/New_York:20210731T120000
DTSTAMP:20260425T220802
CREATED:20210728T220017Z
LAST-MODIFIED:20210728T220017Z
UID:10000147-1627722000-1627732800@utruthcenter.org
SUMMARY:Farm Share
DESCRIPTION:Welcome to Farm Share at UTC!\n \nSaturday\, July 31\, 2021 • 9:am – 12:00 noon\n\nRemember to come on out and volunteer as we serve our community with free food distribution. \nSetup starts at 7:00am \nThis is a drive-thru event.
URL:https://utruthcenter.org/event/farm-share/
LOCATION:UTC\, 21310 NW 37th Avenue\, Miami Gardens\, FL\, 33056
CATEGORIES:Events
ATTACH;FMTTYPE=image/jpeg:https://utruthcenter.org/wp-content/uploads/2021/07/FarmShare_Feat2-CalArt.jpg
GEO:25.9696213;-80.2633696
X-APPLE-STRUCTURED-LOCATION;VALUE=URI;X-ADDRESS=UTC 21310 NW 37th Avenue Miami Gardens FL 33056;X-APPLE-RADIUS=500;X-TITLE=21310 NW 37th Avenue:geo:-80.2633696,25.9696213
END:VEVENT
BEGIN:VEVENT
DTSTART;TZID=America/New_York:20210727T180000
DTEND;TZID=America/New_York:20210727T200000
DTSTAMP:20260425T220802
CREATED:20201212T174501Z
LAST-MODIFIED:20210501T175633Z
UID:10000068-1627408800-1627416000@utruthcenter.org
SUMMARY:Tuesday Prayer Meeting
DESCRIPTION:Join us for a TUESDAY NIGHT PRAYER MEETING!\nThe dial-in number is: 712-451-0011 \nThe pin is: 457533# \nBE THERE!
URL:https://utruthcenter.org/event/tuesday-prayer-meeting-2/2021-07-27/
LOCATION:THIS IS AN ONLINE ONLY WORSHIP EXPERIENCE.\, THIS IS AN ONLINE ONLY WORSHIP EXPERIENCE.\, FL\, 33056\, United States
CATEGORIES:Meetings,Worship
ATTACH;FMTTYPE=image/jpeg:https://utruthcenter.org/wp-content/uploads/2020/12/prayerMTGs_2021-CalArt.jpg
END:VEVENT
BEGIN:VEVENT
DTSTART;TZID=America/New_York:20210725T100000
DTEND;TZID=America/New_York:20210725T123000
DTSTAMP:20260425T220802
CREATED:20210616T212027Z
LAST-MODIFIED:20210715T161114Z
UID:10000139-1627207200-1627216200@utruthcenter.org
SUMMARY:LEVEL UP FORGIVING
DESCRIPTION:THEME: LEVEL UP ABUNDANCE\n\nLESSON TITLE: \nLEVEL UP FORGIVING\n\nTEACHER: \n \nRev. Charles M. Taylor\n\nRESPONSIVE READING: \nDaily Inspiration Pg. TBD \n\nSCRIPTURE: \nColossians 3:13 \n\nColor: Gold\nPower: Understanding\nDisciple: Thomas\nWomen of the Chalice: Mary of Bethany\nPhysical Location: Front Brain\nMinistry: Membership \n\n 
URL:https://utruthcenter.org/event/level-up-forgiving/
LOCATION:THIS IS AN IN-PERSON WORSHIP SERVICE\, IN-PERSON ATTENDANCE\, (Registration Required)\, FL
CATEGORIES:Events,Worship
ATTACH;FMTTYPE=image/jpeg:https://utruthcenter.org/wp-content/uploads/2021/06/July_2021_lesson-CalArt.jpg
GEO:25.9696213;-80.2633696
X-APPLE-STRUCTURED-LOCATION;VALUE=URI;X-ADDRESS=THIS IS AN IN-PERSON WORSHIP SERVICE IN-PERSON ATTENDANCE (Registration Required) FL;X-APPLE-RADIUS=500;X-TITLE=IN-PERSON ATTENDANCE:geo:-80.2633696,25.9696213
END:VEVENT
BEGIN:VEVENT
DTSTART;TZID=America/New_York:20210720T180000
DTEND;TZID=America/New_York:20210720T200000
DTSTAMP:20260425T220802
CREATED:20201212T174501Z
LAST-MODIFIED:20210501T175633Z
UID:10000067-1626804000-1626811200@utruthcenter.org
SUMMARY:Tuesday Prayer Meeting
DESCRIPTION:Join us for a TUESDAY NIGHT PRAYER MEETING!\nThe dial-in number is: 712-451-0011 \nThe pin is: 457533# \nBE THERE!
URL:https://utruthcenter.org/event/tuesday-prayer-meeting-2/2021-07-20/
LOCATION:THIS IS AN ONLINE ONLY WORSHIP EXPERIENCE.\, THIS IS AN ONLINE ONLY WORSHIP EXPERIENCE.\, FL\, 33056\, United States
CATEGORIES:Meetings,Worship
ATTACH;FMTTYPE=image/jpeg:https://utruthcenter.org/wp-content/uploads/2020/12/prayerMTGs_2021-CalArt.jpg
END:VEVENT
BEGIN:VEVENT
DTSTART;TZID=America/New_York:20210718T100000
DTEND;TZID=America/New_York:20210718T123000
DTSTAMP:20260425T220802
CREATED:20210616T211838Z
LAST-MODIFIED:20210715T152727Z
UID:10000138-1626602400-1626611400@utruthcenter.org
SUMMARY:LEVEL UP GIVING IN
DESCRIPTION:THEME: LEVEL UP ABUNDANCE\n\nLESSON TITLE: \nLEVEL UP GIVING IN\n\nTEACHER: \n \nRev. Charles M. Taylor\n\nRESPONSIVE READING: \nDaily Inspiration Pg. TBD \n\nSCRIPTURE: \n2 Corinthian 5:17 \n\nColor: Gold\nPower: Understanding\nDisciple: Thomas\nWomen of the Chalice: Mary of Bethany\nPhysical Location: Front Brain\nMinistry: Membership \n\n 
URL:https://utruthcenter.org/event/level-up-giving-in/
LOCATION:THIS IS AN IN-PERSON WORSHIP SERVICE\, IN-PERSON ATTENDANCE\, (Registration Required)\, FL
CATEGORIES:Events,Worship
ATTACH;FMTTYPE=image/jpeg:https://utruthcenter.org/wp-content/uploads/2021/06/July_2021_lesson-CalArt.jpg
GEO:25.9696213;-80.2633696
X-APPLE-STRUCTURED-LOCATION;VALUE=URI;X-ADDRESS=THIS IS AN IN-PERSON WORSHIP SERVICE IN-PERSON ATTENDANCE (Registration Required) FL;X-APPLE-RADIUS=500;X-TITLE=IN-PERSON ATTENDANCE:geo:-80.2633696,25.9696213
END:VEVENT
BEGIN:VEVENT
DTSTART;TZID=America/New_York:20210713T180000
DTEND;TZID=America/New_York:20210713T200000
DTSTAMP:20260425T220802
CREATED:20201212T174501Z
LAST-MODIFIED:20210501T175633Z
UID:10000066-1626199200-1626206400@utruthcenter.org
SUMMARY:Tuesday Prayer Meeting
DESCRIPTION:Join us for a TUESDAY NIGHT PRAYER MEETING!\nThe dial-in number is: 712-451-0011 \nThe pin is: 457533# \nBE THERE!
URL:https://utruthcenter.org/event/tuesday-prayer-meeting-2/2021-07-13/
LOCATION:THIS IS AN ONLINE ONLY WORSHIP EXPERIENCE.\, THIS IS AN ONLINE ONLY WORSHIP EXPERIENCE.\, FL\, 33056\, United States
CATEGORIES:Meetings,Worship
ATTACH;FMTTYPE=image/jpeg:https://utruthcenter.org/wp-content/uploads/2020/12/prayerMTGs_2021-CalArt.jpg
END:VEVENT
BEGIN:VEVENT
DTSTART;TZID=America/New_York:20210711T100000
DTEND;TZID=America/New_York:20210711T123000
DTSTAMP:20260425T220802
CREATED:20210616T211359Z
LAST-MODIFIED:20210616T211359Z
UID:10000137-1625997600-1626006600@utruthcenter.org
SUMMARY:LEVEL UP GIVING AWAY
DESCRIPTION:THEME: LEVEL UP ABUNDANCE\n\nLESSON TITLE: \nLEVEL UP GIVING AWAY\n\nTEACHER: \n \nRev. Charles M. Taylor\n\nRESPONSIVE READING: \nDaily Inspiration Pg. TBD \n\nSCRIPTURE: \nIsaiah 43:18-19 \n\nColor: Gold\nPower: Understanding\nDisciple: Thomas\nWomen of the Chalice: Mary of Bethany\nPhysical Location: Front Brain\nMinistry: Membership \n\n 
URL:https://utruthcenter.org/event/level-up-giving-away/
LOCATION:THIS IS AN ONLINE ONLY WORSHIP EXPERIENCE.\, THIS IS AN ONLINE ONLY WORSHIP EXPERIENCE.\, FL\, 33056\, United States
CATEGORIES:Events,Worship
ATTACH;FMTTYPE=image/jpeg:https://utruthcenter.org/wp-content/uploads/2021/06/July_2021_lesson-CalArt.jpg
END:VEVENT
BEGIN:VEVENT
DTSTART;TZID=America/New_York:20210707T183000
DTEND;TZID=America/New_York:20210707T203000
DTSTAMP:20260425T220802
CREATED:20210501T175313Z
LAST-MODIFIED:20210908T192357Z
UID:10000122-1625682600-1625689800@utruthcenter.org
SUMMARY:Conversations with the Minister
DESCRIPTION:JOIN THE CONVERSATION!\nEVERY FIRST WEDNESDAY OF THE MONTH @ 6:30 PM.\n \nONLINE MEETING VIA ZOOM\n\nMEETING ID: 917 2196 5277\nPASSWORD: 307706\n\n\nSEE YOU THERE!
URL:https://utruthcenter.org/event/conversations-with-the-minister/2021-07-07/
LOCATION:THIS IS AN ONLINE ONLY WORSHIP EXPERIENCE.\, THIS IS AN ONLINE ONLY WORSHIP EXPERIENCE.\, FL\, 33056\, United States
CATEGORIES:Events,Meetings
ATTACH;FMTTYPE=image/jpeg:https://utruthcenter.org/wp-content/uploads/2021/05/Conversation_with_the_Minister-Calendar2.jpg
END:VEVENT
BEGIN:VEVENT
DTSTART;TZID=America/New_York:20210706T180000
DTEND;TZID=America/New_York:20210706T200000
DTSTAMP:20260425T220802
CREATED:20201212T174501Z
LAST-MODIFIED:20210501T175633Z
UID:10000065-1625594400-1625601600@utruthcenter.org
SUMMARY:Tuesday Prayer Meeting
DESCRIPTION:Join us for a TUESDAY NIGHT PRAYER MEETING!\nThe dial-in number is: 712-451-0011 \nThe pin is: 457533# \nBE THERE!
URL:https://utruthcenter.org/event/tuesday-prayer-meeting-2/2021-07-06/
LOCATION:THIS IS AN ONLINE ONLY WORSHIP EXPERIENCE.\, THIS IS AN ONLINE ONLY WORSHIP EXPERIENCE.\, FL\, 33056\, United States
CATEGORIES:Meetings,Worship
ATTACH;FMTTYPE=image/jpeg:https://utruthcenter.org/wp-content/uploads/2020/12/prayerMTGs_2021-CalArt.jpg
END:VEVENT
BEGIN:VEVENT
DTSTART;TZID=America/New_York:20210704T100000
DTEND;TZID=America/New_York:20210704T123000
DTSTAMP:20260425T220802
CREATED:20210616T211042Z
LAST-MODIFIED:20210616T211534Z
UID:10000136-1625392800-1625401800@utruthcenter.org
SUMMARY:LEVEL UP ASKING
DESCRIPTION:THEME: LEVEL UP ABUNDANCE\n\nLESSON TITLE: \nLevel Up Asking\n\nTEACHER: \n \nRev. Charles M. Taylor\n\nRESPONSIVE READING: \nDaily Inspiration Pg. TBD \n\nSCRIPTURE: \nMatthew 7:7 \n\nColor: Gold\nPower: Understanding\nDisciple: Thomas\nWomen of the Chalice: Mary of Bethany\nPhysical Location: Front Brain\nMinistry: Membership \n\n 
URL:https://utruthcenter.org/event/level-up-asking/
LOCATION:THIS IS AN ONLINE ONLY WORSHIP EXPERIENCE.\, THIS IS AN ONLINE ONLY WORSHIP EXPERIENCE.\, FL\, 33056\, United States
CATEGORIES:Events,Worship
ATTACH;FMTTYPE=image/jpeg:https://utruthcenter.org/wp-content/uploads/2021/06/July_2021_lesson-CalArt.jpg
END:VEVENT
BEGIN:VEVENT
DTSTART;TZID=America/New_York:20210629T180000
DTEND;TZID=America/New_York:20210629T200000
DTSTAMP:20260425T220802
CREATED:20201212T174501Z
LAST-MODIFIED:20210501T175633Z
UID:10000064-1624989600-1624996800@utruthcenter.org
SUMMARY:Tuesday Prayer Meeting
DESCRIPTION:Join us for a TUESDAY NIGHT PRAYER MEETING!\nThe dial-in number is: 712-451-0011 \nThe pin is: 457533# \nBE THERE!
URL:https://utruthcenter.org/event/tuesday-prayer-meeting-2/2021-06-29/
LOCATION:THIS IS AN ONLINE ONLY WORSHIP EXPERIENCE.\, THIS IS AN ONLINE ONLY WORSHIP EXPERIENCE.\, FL\, 33056\, United States
CATEGORIES:Meetings,Worship
ATTACH;FMTTYPE=image/jpeg:https://utruthcenter.org/wp-content/uploads/2020/12/prayerMTGs_2021-CalArt.jpg
END:VEVENT
BEGIN:VEVENT
DTSTART;TZID=America/New_York:20210627T100000
DTEND;TZID=America/New_York:20210627T123000
DTSTAMP:20260425T220802
CREATED:20210503T172149Z
LAST-MODIFIED:20210503T172253Z
UID:10000132-1624788000-1624797000@utruthcenter.org
SUMMARY:Level Up: God’s Love
DESCRIPTION:THEME: Level Up: What You Believe\nYOUTH SUNDAY\n\nLESSON TITLE: \nLevel Up: God’s Love\n\nTEACHER: \n \nRev. Charles Taylor\n\nRESPONSIVE READING: \nDaily Inspiration Pg. 85 \n\nSCRIPTURE: \n1 John 4:16 \n\nWHAT WE BELIEVE STATEMENT: 5 \n\nColor: Light Blue\nPower: Imagination\nDisciple: Bartholomew \nWomen of the Chalice: Anna\nPhysical Location: Between the Eyes\nMinistry: Youth \n\n 
URL:https://utruthcenter.org/event/level-up-gods-love/
LOCATION:THIS IS AN ONLINE ONLY WORSHIP EXPERIENCE.\, THIS IS AN ONLINE ONLY WORSHIP EXPERIENCE.\, FL\, 33056\, United States
CATEGORIES:Events,Worship
ATTACH;FMTTYPE=image/jpeg:https://utruthcenter.org/wp-content/uploads/2021/05/June_2021-CalArt.jpg
END:VEVENT
END:VCALENDAR