BEGIN:VCALENDAR
VERSION:2.0
PRODID:-//Universal Truth Center - ECPv6.15.17//NONSGML v1.0//EN
CALSCALE:GREGORIAN
METHOD:PUBLISH
X-WR-CALNAME:Universal Truth Center
X-ORIGINAL-URL:https://utruthcenter.org
X-WR-CALDESC:Events for Universal Truth Center
REFRESH-INTERVAL;VALUE=DURATION:PT1H
X-Robots-Tag:noindex
X-PUBLISHED-TTL:PT1H
BEGIN:VTIMEZONE
TZID:America/New_York
BEGIN:DAYLIGHT
TZOFFSETFROM:-0500
TZOFFSETTO:-0400
TZNAME:EDT
DTSTART:20200308T070000
END:DAYLIGHT
BEGIN:STANDARD
TZOFFSETFROM:-0400
TZOFFSETTO:-0500
TZNAME:EST
DTSTART:20201101T060000
END:STANDARD
BEGIN:DAYLIGHT
TZOFFSETFROM:-0500
TZOFFSETTO:-0400
TZNAME:EDT
DTSTART:20210314T070000
END:DAYLIGHT
BEGIN:STANDARD
TZOFFSETFROM:-0400
TZOFFSETTO:-0500
TZNAME:EST
DTSTART:20211107T060000
END:STANDARD
BEGIN:DAYLIGHT
TZOFFSETFROM:-0500
TZOFFSETTO:-0400
TZNAME:EDT
DTSTART:20220313T070000
END:DAYLIGHT
BEGIN:STANDARD
TZOFFSETFROM:-0400
TZOFFSETTO:-0500
TZNAME:EST
DTSTART:20221106T060000
END:STANDARD
END:VTIMEZONE
BEGIN:VEVENT
DTSTART;TZID=America/New_York:20210926T100000
DTEND;TZID=America/New_York:20210926T123000
DTSTAMP:20260425T164742
CREATED:20210821T011121Z
LAST-MODIFIED:20210904T220706Z
UID:10000151-1632650400-1632659400@utruthcenter.org
SUMMARY:Level Up Your Energy
DESCRIPTION:AIF 2021: Level Up Your Success\n\nLESSON TITLE: \nPHYSICAL UNFOLDMENT:\nLevel Up Your Energy\n\nTEACHER: \n \nRev. Charles M. Taylor\n\nAIF 2021 Text: Chapter 4 \n\nThe Seven Spiritual Laws of Success\nby Deepak Chopra \n\nRESPONSIVE READING: \nDaily Inspiration Pg. 33 \n\nSCRIPTURE: \nJohn 10:10  \n\nColor: Olive Green\nPower: Order\nDisciple: James son of Alpheus\nWomen of the Chalice: Mary wife of Alpheus\nPhysical Location: Navel\nMinistry: Adult Education  \n\n 
URL:https://utruthcenter.org/event/level-up-your-energy/
LOCATION:THIS IS AN ONLINE ONLY WORSHIP EXPERIENCE.\, THIS IS AN ONLINE ONLY WORSHIP EXPERIENCE.\, FL\, 33056\, United States
CATEGORIES:Events,Worship
ATTACH;FMTTYPE=image/jpeg:https://utruthcenter.org/wp-content/uploads/2021/08/AIF2021_CALART-physical.jpg
END:VEVENT
BEGIN:VEVENT
DTSTART;TZID=America/New_York:20210926T100000
DTEND;TZID=America/New_York:20210926T110000
DTSTAMP:20260425T164742
CREATED:20210822T184058Z
LAST-MODIFIED:20210822T184518Z
UID:10000181-1632650400-1632654000@utruthcenter.org
SUMMARY:AIF 2021 Prayer Vigil
DESCRIPTION:Saturday\, September 4th\, 2021\n9:00 AM or 10:00 AM\nvia conference call\n(712)451-0011 – Access Code: 457533#\n \n\n 
URL:https://utruthcenter.org/event/aif-2021-prayer-vigil/2021-09-26/
LOCATION:THIS EVENT IS ONLINE ONLY.\, United States
CATEGORIES:Meetings,Worship
ATTACH;FMTTYPE=image/jpeg:https://utruthcenter.org/wp-content/uploads/2021/08/AIF2021_PrayerVigil-CalArt.jpg
END:VEVENT
BEGIN:VEVENT
DTSTART;TZID=America/New_York:20210925T100000
DTEND;TZID=America/New_York:20210925T120000
DTSTAMP:20260425T164742
CREATED:20210908T200225Z
LAST-MODIFIED:20211018T181815Z
UID:10000568-1632564000-1632571200@utruthcenter.org
SUMMARY:The Gospel of Thomas Workshop
DESCRIPTION:PART 1: September 25th\, 2021\nPART 2: October 23rd\, 2021\nTeacher: Rev Yanick Douyon \n\nRegister and Pay Online\n\n 
URL:https://utruthcenter.org/event/the-gospel-of-thomas-workshop/2021-09-25/
LOCATION:THIS EVENT IS ONLINE ONLY.\, United States
CATEGORIES:Classes,Workshop
ATTACH;FMTTYPE=image/jpeg:https://utruthcenter.org/wp-content/uploads/2021/09/WS-gospel_of_Thomas-CalArt.jpg
END:VEVENT
BEGIN:VEVENT
DTSTART;TZID=America/New_York:20210925T100000
DTEND;TZID=America/New_York:20210925T110000
DTSTAMP:20260425T164742
CREATED:20210822T184058Z
LAST-MODIFIED:20210822T184518Z
UID:10000180-1632564000-1632567600@utruthcenter.org
SUMMARY:AIF 2021 Prayer Vigil
DESCRIPTION:Saturday\, September 4th\, 2021\n9:00 AM or 10:00 AM\nvia conference call\n(712)451-0011 – Access Code: 457533#\n \n\n 
URL:https://utruthcenter.org/event/aif-2021-prayer-vigil/2021-09-25/
LOCATION:THIS EVENT IS ONLINE ONLY.\, United States
CATEGORIES:Meetings,Worship
ATTACH;FMTTYPE=image/jpeg:https://utruthcenter.org/wp-content/uploads/2021/08/AIF2021_PrayerVigil-CalArt.jpg
END:VEVENT
BEGIN:VEVENT
DTSTART;TZID=America/New_York:20210924T100000
DTEND;TZID=America/New_York:20210924T110000
DTSTAMP:20260425T164742
CREATED:20210822T184058Z
LAST-MODIFIED:20210822T184518Z
UID:10000179-1632477600-1632481200@utruthcenter.org
SUMMARY:AIF 2021 Prayer Vigil
DESCRIPTION:Saturday\, September 4th\, 2021\n9:00 AM or 10:00 AM\nvia conference call\n(712)451-0011 – Access Code: 457533#\n \n\n 
URL:https://utruthcenter.org/event/aif-2021-prayer-vigil/2021-09-24/
LOCATION:THIS EVENT IS ONLINE ONLY.\, United States
CATEGORIES:Meetings,Worship
ATTACH;FMTTYPE=image/jpeg:https://utruthcenter.org/wp-content/uploads/2021/08/AIF2021_PrayerVigil-CalArt.jpg
END:VEVENT
BEGIN:VEVENT
DTSTART;TZID=America/New_York:20210923T100000
DTEND;TZID=America/New_York:20210923T110000
DTSTAMP:20260425T164742
CREATED:20210822T184058Z
LAST-MODIFIED:20210822T184518Z
UID:10000178-1632391200-1632394800@utruthcenter.org
SUMMARY:AIF 2021 Prayer Vigil
DESCRIPTION:Saturday\, September 4th\, 2021\n9:00 AM or 10:00 AM\nvia conference call\n(712)451-0011 – Access Code: 457533#\n \n\n 
URL:https://utruthcenter.org/event/aif-2021-prayer-vigil/2021-09-23/
LOCATION:THIS EVENT IS ONLINE ONLY.\, United States
CATEGORIES:Meetings,Worship
ATTACH;FMTTYPE=image/jpeg:https://utruthcenter.org/wp-content/uploads/2021/08/AIF2021_PrayerVigil-CalArt.jpg
END:VEVENT
BEGIN:VEVENT
DTSTART;TZID=America/New_York:20210922T100000
DTEND;TZID=America/New_York:20210922T110000
DTSTAMP:20260425T164742
CREATED:20210822T184058Z
LAST-MODIFIED:20210822T184518Z
UID:10000177-1632304800-1632308400@utruthcenter.org
SUMMARY:AIF 2021 Prayer Vigil
DESCRIPTION:Saturday\, September 4th\, 2021\n9:00 AM or 10:00 AM\nvia conference call\n(712)451-0011 – Access Code: 457533#\n \n\n 
URL:https://utruthcenter.org/event/aif-2021-prayer-vigil/2021-09-22/
LOCATION:THIS EVENT IS ONLINE ONLY.\, United States
CATEGORIES:Meetings,Worship
ATTACH;FMTTYPE=image/jpeg:https://utruthcenter.org/wp-content/uploads/2021/08/AIF2021_PrayerVigil-CalArt.jpg
END:VEVENT
BEGIN:VEVENT
DTSTART;TZID=America/New_York:20210921T180000
DTEND;TZID=America/New_York:20210921T200000
DTSTAMP:20260425T164742
CREATED:20201212T174501Z
LAST-MODIFIED:20210501T175633Z
UID:10000076-1632247200-1632254400@utruthcenter.org
SUMMARY:Tuesday Prayer Meeting
DESCRIPTION:Join us for a TUESDAY NIGHT PRAYER MEETING!\nThe dial-in number is: 712-451-0011 \nThe pin is: 457533# \nBE THERE!
URL:https://utruthcenter.org/event/tuesday-prayer-meeting-2/2021-09-21/
LOCATION:THIS IS AN ONLINE ONLY WORSHIP EXPERIENCE.\, THIS IS AN ONLINE ONLY WORSHIP EXPERIENCE.\, FL\, 33056\, United States
CATEGORIES:Meetings,Worship
ATTACH;FMTTYPE=image/jpeg:https://utruthcenter.org/wp-content/uploads/2020/12/prayerMTGs_2021-CalArt.jpg
END:VEVENT
BEGIN:VEVENT
DTSTART;TZID=America/New_York:20210921T100000
DTEND;TZID=America/New_York:20210921T110000
DTSTAMP:20260425T164742
CREATED:20210822T184058Z
LAST-MODIFIED:20210822T184518Z
UID:10000176-1632218400-1632222000@utruthcenter.org
SUMMARY:AIF 2021 Prayer Vigil
DESCRIPTION:Saturday\, September 4th\, 2021\n9:00 AM or 10:00 AM\nvia conference call\n(712)451-0011 – Access Code: 457533#\n \n\n 
URL:https://utruthcenter.org/event/aif-2021-prayer-vigil/2021-09-21/
LOCATION:THIS EVENT IS ONLINE ONLY.\, United States
CATEGORIES:Meetings,Worship
ATTACH;FMTTYPE=image/jpeg:https://utruthcenter.org/wp-content/uploads/2021/08/AIF2021_PrayerVigil-CalArt.jpg
END:VEVENT
BEGIN:VEVENT
DTSTART;TZID=America/New_York:20210920T100000
DTEND;TZID=America/New_York:20210920T110000
DTSTAMP:20260425T164742
CREATED:20210822T184058Z
LAST-MODIFIED:20210822T184518Z
UID:10000175-1632132000-1632135600@utruthcenter.org
SUMMARY:AIF 2021 Prayer Vigil
DESCRIPTION:Saturday\, September 4th\, 2021\n9:00 AM or 10:00 AM\nvia conference call\n(712)451-0011 – Access Code: 457533#\n \n\n 
URL:https://utruthcenter.org/event/aif-2021-prayer-vigil/2021-09-20/
LOCATION:THIS EVENT IS ONLINE ONLY.\, United States
CATEGORIES:Meetings,Worship
ATTACH;FMTTYPE=image/jpeg:https://utruthcenter.org/wp-content/uploads/2021/08/AIF2021_PrayerVigil-CalArt.jpg
END:VEVENT
BEGIN:VEVENT
DTSTART;TZID=America/New_York:20210920T080000
DTEND;TZID=America/New_York:20210920T090000
DTSTAMP:20260425T164742
CREATED:20210920T180022Z
LAST-MODIFIED:20210920T180838Z
UID:10000571-1632124800-1632128400@utruthcenter.org
SUMMARY:UTC Morning Prayer Line
DESCRIPTION:PRAYER LINE: 716-427-1108\nAccess Code: 457533\nCOME JOIN US EVERY MORNING @ 8AM.
URL:https://utruthcenter.org/event/utc-morning-prayer-line/2021-09-20/
LOCATION:THIS EVENT IS ONLINE ONLY.\, United States
CATEGORIES:Events,Meetings
ATTACH;FMTTYPE=image/png:https://utruthcenter.org/wp-content/uploads/2021/09/UTC-PRAYER_LINE-min-CalArt.png
END:VEVENT
BEGIN:VEVENT
DTSTART;TZID=America/New_York:20210919T100000
DTEND;TZID=America/New_York:20210919T123000
DTSTAMP:20260425T164742
CREATED:20210821T010555Z
LAST-MODIFIED:20210904T220622Z
UID:10000150-1632045600-1632054600@utruthcenter.org
SUMMARY:Level Up Your Choice
DESCRIPTION:AIF 2021: Level Up Your Success\n\nLESSON TITLE: \nMENTAL / EMOTIONAL UNFOLDMENT:\nLevel Up Your Choice\n\nTEACHER: \n \nRev. Charles M. Taylor\n\nAIF 2021 Text: Chapter 3 \n\nThe Seven Spiritual Laws of Success\nby Deepak Chopra \n\nRESPONSIVE READING: \nDaily Inspiration Pg. 27 \n\nSCRIPTURE: \nDeuteronomy 30:15 \n\nColor: Olive Green\nPower: Order\nDisciple: James son of Alpheus\nWomen of the Chalice: Mary wife of Alpheus\nPhysical Location: Navel\nMinistry: Adult Education  \n\n 
URL:https://utruthcenter.org/event/level-up-your-choice/
LOCATION:THIS IS AN ONLINE ONLY WORSHIP EXPERIENCE.\, THIS IS AN ONLINE ONLY WORSHIP EXPERIENCE.\, FL\, 33056\, United States
CATEGORIES:Events,Worship
ATTACH;FMTTYPE=image/jpeg:https://utruthcenter.org/wp-content/uploads/2021/08/AIF2021_CALART-mental.jpg
END:VEVENT
BEGIN:VEVENT
DTSTART;TZID=America/New_York:20210919T100000
DTEND;TZID=America/New_York:20210919T110000
DTSTAMP:20260425T164742
CREATED:20210822T184058Z
LAST-MODIFIED:20210822T184518Z
UID:10000174-1632045600-1632049200@utruthcenter.org
SUMMARY:AIF 2021 Prayer Vigil
DESCRIPTION:Saturday\, September 4th\, 2021\n9:00 AM or 10:00 AM\nvia conference call\n(712)451-0011 – Access Code: 457533#\n \n\n 
URL:https://utruthcenter.org/event/aif-2021-prayer-vigil/2021-09-19/
LOCATION:THIS EVENT IS ONLINE ONLY.\, United States
CATEGORIES:Meetings,Worship
ATTACH;FMTTYPE=image/jpeg:https://utruthcenter.org/wp-content/uploads/2021/08/AIF2021_PrayerVigil-CalArt.jpg
END:VEVENT
BEGIN:VEVENT
DTSTART;TZID=America/New_York:20210918T100000
DTEND;TZID=America/New_York:20210918T110000
DTSTAMP:20260425T164742
CREATED:20210822T184058Z
LAST-MODIFIED:20210822T184518Z
UID:10000173-1631959200-1631962800@utruthcenter.org
SUMMARY:AIF 2021 Prayer Vigil
DESCRIPTION:Saturday\, September 4th\, 2021\n9:00 AM or 10:00 AM\nvia conference call\n(712)451-0011 – Access Code: 457533#\n \n\n 
URL:https://utruthcenter.org/event/aif-2021-prayer-vigil/2021-09-18/
LOCATION:THIS EVENT IS ONLINE ONLY.\, United States
CATEGORIES:Meetings,Worship
ATTACH;FMTTYPE=image/jpeg:https://utruthcenter.org/wp-content/uploads/2021/08/AIF2021_PrayerVigil-CalArt.jpg
END:VEVENT
BEGIN:VEVENT
DTSTART;TZID=America/New_York:20210917T100000
DTEND;TZID=America/New_York:20210917T110000
DTSTAMP:20260425T164742
CREATED:20210822T184058Z
LAST-MODIFIED:20210822T184518Z
UID:10000172-1631872800-1631876400@utruthcenter.org
SUMMARY:AIF 2021 Prayer Vigil
DESCRIPTION:Saturday\, September 4th\, 2021\n9:00 AM or 10:00 AM\nvia conference call\n(712)451-0011 – Access Code: 457533#\n \n\n 
URL:https://utruthcenter.org/event/aif-2021-prayer-vigil/2021-09-17/
LOCATION:THIS EVENT IS ONLINE ONLY.\, United States
CATEGORIES:Meetings,Worship
ATTACH;FMTTYPE=image/jpeg:https://utruthcenter.org/wp-content/uploads/2021/08/AIF2021_PrayerVigil-CalArt.jpg
END:VEVENT
BEGIN:VEVENT
DTSTART;TZID=America/New_York:20210916T100000
DTEND;TZID=America/New_York:20210916T110000
DTSTAMP:20260425T164742
CREATED:20210822T184058Z
LAST-MODIFIED:20210822T184518Z
UID:10000171-1631786400-1631790000@utruthcenter.org
SUMMARY:AIF 2021 Prayer Vigil
DESCRIPTION:Saturday\, September 4th\, 2021\n9:00 AM or 10:00 AM\nvia conference call\n(712)451-0011 – Access Code: 457533#\n \n\n 
URL:https://utruthcenter.org/event/aif-2021-prayer-vigil/2021-09-16/
LOCATION:THIS EVENT IS ONLINE ONLY.\, United States
CATEGORIES:Meetings,Worship
ATTACH;FMTTYPE=image/jpeg:https://utruthcenter.org/wp-content/uploads/2021/08/AIF2021_PrayerVigil-CalArt.jpg
END:VEVENT
BEGIN:VEVENT
DTSTART;TZID=America/New_York:20210915T100000
DTEND;TZID=America/New_York:20210915T110000
DTSTAMP:20260425T164742
CREATED:20210822T184058Z
LAST-MODIFIED:20210822T184518Z
UID:10000170-1631700000-1631703600@utruthcenter.org
SUMMARY:AIF 2021 Prayer Vigil
DESCRIPTION:Saturday\, September 4th\, 2021\n9:00 AM or 10:00 AM\nvia conference call\n(712)451-0011 – Access Code: 457533#\n \n\n 
URL:https://utruthcenter.org/event/aif-2021-prayer-vigil/2021-09-15/
LOCATION:THIS EVENT IS ONLINE ONLY.\, United States
CATEGORIES:Meetings,Worship
ATTACH;FMTTYPE=image/jpeg:https://utruthcenter.org/wp-content/uploads/2021/08/AIF2021_PrayerVigil-CalArt.jpg
END:VEVENT
BEGIN:VEVENT
DTSTART;TZID=America/New_York:20210914T180000
DTEND;TZID=America/New_York:20210914T200000
DTSTAMP:20260425T164742
CREATED:20201212T174501Z
LAST-MODIFIED:20210501T175633Z
UID:10000075-1631642400-1631649600@utruthcenter.org
SUMMARY:Tuesday Prayer Meeting
DESCRIPTION:Join us for a TUESDAY NIGHT PRAYER MEETING!\nThe dial-in number is: 712-451-0011 \nThe pin is: 457533# \nBE THERE!
URL:https://utruthcenter.org/event/tuesday-prayer-meeting-2/2021-09-14/
LOCATION:THIS IS AN ONLINE ONLY WORSHIP EXPERIENCE.\, THIS IS AN ONLINE ONLY WORSHIP EXPERIENCE.\, FL\, 33056\, United States
CATEGORIES:Meetings,Worship
ATTACH;FMTTYPE=image/jpeg:https://utruthcenter.org/wp-content/uploads/2020/12/prayerMTGs_2021-CalArt.jpg
END:VEVENT
BEGIN:VEVENT
DTSTART;TZID=America/New_York:20210914T100000
DTEND;TZID=America/New_York:20210914T110000
DTSTAMP:20260425T164742
CREATED:20210822T184058Z
LAST-MODIFIED:20210822T184518Z
UID:10000169-1631613600-1631617200@utruthcenter.org
SUMMARY:AIF 2021 Prayer Vigil
DESCRIPTION:Saturday\, September 4th\, 2021\n9:00 AM or 10:00 AM\nvia conference call\n(712)451-0011 – Access Code: 457533#\n \n\n 
URL:https://utruthcenter.org/event/aif-2021-prayer-vigil/2021-09-14/
LOCATION:THIS EVENT IS ONLINE ONLY.\, United States
CATEGORIES:Meetings,Worship
ATTACH;FMTTYPE=image/jpeg:https://utruthcenter.org/wp-content/uploads/2021/08/AIF2021_PrayerVigil-CalArt.jpg
END:VEVENT
BEGIN:VEVENT
DTSTART;TZID=America/New_York:20210913T100000
DTEND;TZID=America/New_York:20210913T110000
DTSTAMP:20260425T164742
CREATED:20210822T184058Z
LAST-MODIFIED:20210822T184518Z
UID:10000168-1631527200-1631530800@utruthcenter.org
SUMMARY:AIF 2021 Prayer Vigil
DESCRIPTION:Saturday\, September 4th\, 2021\n9:00 AM or 10:00 AM\nvia conference call\n(712)451-0011 – Access Code: 457533#\n \n\n 
URL:https://utruthcenter.org/event/aif-2021-prayer-vigil/2021-09-13/
LOCATION:THIS EVENT IS ONLINE ONLY.\, United States
CATEGORIES:Meetings,Worship
ATTACH;FMTTYPE=image/jpeg:https://utruthcenter.org/wp-content/uploads/2021/08/AIF2021_PrayerVigil-CalArt.jpg
END:VEVENT
BEGIN:VEVENT
DTSTART;TZID=America/New_York:20210913T000000
DTEND;TZID=America/New_York:20210914T000000
DTSTAMP:20260425T164742
CREATED:20210822T183229Z
LAST-MODIFIED:20210822T184753Z
UID:10000158-1631491200-1631577600@utruthcenter.org
SUMMARY:Better Living Classes Begin - Fall 2021
DESCRIPTION:2020 FALL TERM CLASS SCHEDULE\nCLASSES BEGIN SEPTEMBER 13\, 2021\nUniversal Truth Center (UTC)\n21310 North West 37th Avenue\nMiami Gardens\, Florida 33056\n305-624-4991 /utruthcenter.org \n\nREGISTRATION INFORMATION\nIN-PERSON\nYou may register in person from Sunday to Thursday at the Universal Truth Center. \n  \nONLINE\nSelected classes are available online.  The registration fee for these classes is $65.00 (includes registration and love offering).  Students MUST register at UTC before the first online class. \n  \nBY MAIL\nComplete a Class Registration envelope and enclose your check in the envelope.  Mail your registration to the Adult Education Ministry at the Universal Truth Center.   Register Early.   Registrations are processed on a first-come\, first-served basis. \n  \nCREDITS\nStudents in the Master Certificate and Master Plus programs earn 3 credits for all required classes and 2 credits for all elective classes held for 10 weeks.  Electives are not offered in the Master Plus Program.  Students of Life Enhancement Studies do not receive credits. \n  \nBOOKS AND SUPPLIES\nThe faculty will discuss class texts and other required materials at the first class meeting.  All required and supplemental books for classes are available at the Illuminations Bookstore on the Universal Truth Center.  Students are encouraged to purchase books from the UTC bookstore to ensure their book is from the same publisher used in the class or workshop.  Class books should be purchased before the first day of class. \n  \nCLASS DURATIONS\nAll Master Certificate Program required classes meet for 11-weeks.  All elective classes meet for 10-weeks.  The Master Plus Program classes meet for 12-weeks.  Details about the duration of Life Enhancement Classes are included in the class descriptions. \n  \nREGISTRATION FEES\nThe registration fee for Master Certificate Program classes is $15.00.  The registration fee for all Master Plus Program sessions is $75.00.    The registration fee for online classes is $65.00.  ALL registration fees are non-refundable.  All registrations received on or after the first class meeting are assessed a $5.00 late fee.  There are some FREE classes but a love offering is encouraged.  Some classes do not require registration and it is stated in the class description. \n  \nREFUNDS\nIf your class is canceled for any reason\, a refund check will be mailed to you two weeks after the cancellation of the class.   All issues regarding refunds MUST be directed to the Adult Education Registrar. \nREGISTER EARLY!!!!!!!!!!!!!
URL:https://utruthcenter.org/event/better-living-classes-begin-fall-2021/
CATEGORIES:Classes
ATTACH;FMTTYPE=image/jpeg:https://utruthcenter.org/wp-content/uploads/2021/08/BLC_2021-CalArt.jpg
END:VEVENT
BEGIN:VEVENT
DTSTART;TZID=America/New_York:20210912T100000
DTEND;TZID=America/New_York:20210912T123000
DTSTAMP:20260425T164742
CREATED:20210821T005352Z
LAST-MODIFIED:20210904T220542Z
UID:10000149-1631440800-1631449800@utruthcenter.org
SUMMARY:Level Up Your Express Potential
DESCRIPTION:AIF 2021: Level Up Your Success\n\nLESSON TITLE: \nSPIRITUAL UNFOLDMENT:\nLevel Up Your Express Potential\n\nTEACHER: \n \nRev. Charles M. Taylor\n\nAIF 2021 Text: Chapter 1 \n\nThe Seven Spiritual Laws of Success\nby Deepak Chopra \n\nRESPONSIVE READING: \nDaily Inspiration Pg. 19 \n\nSCRIPTURE: \nGenesis 1:26 \n\nColor: Olive Green\nPower: Order\nDisciple: James son of Alpheus\nWomen of the Chalice: Mary wife of Alpheus\nPhysical Location: Navel\nMinistry: Adult Education  \n\n 
URL:https://utruthcenter.org/event/level-up-you-express-potential/
LOCATION:THIS IS AN ONLINE ONLY WORSHIP EXPERIENCE.\, THIS IS AN ONLINE ONLY WORSHIP EXPERIENCE.\, FL\, 33056\, United States
CATEGORIES:Events,Worship
ATTACH;FMTTYPE=image/jpeg:https://utruthcenter.org/wp-content/uploads/2021/08/AIF2021_CALART-spiritual.jpg
END:VEVENT
BEGIN:VEVENT
DTSTART;TZID=America/New_York:20210912T100000
DTEND;TZID=America/New_York:20210912T110000
DTSTAMP:20260425T164742
CREATED:20210822T184058Z
LAST-MODIFIED:20210822T184518Z
UID:10000167-1631440800-1631444400@utruthcenter.org
SUMMARY:AIF 2021 Prayer Vigil
DESCRIPTION:Saturday\, September 4th\, 2021\n9:00 AM or 10:00 AM\nvia conference call\n(712)451-0011 – Access Code: 457533#\n \n\n 
URL:https://utruthcenter.org/event/aif-2021-prayer-vigil/2021-09-12/
LOCATION:THIS EVENT IS ONLINE ONLY.\, United States
CATEGORIES:Meetings,Worship
ATTACH;FMTTYPE=image/jpeg:https://utruthcenter.org/wp-content/uploads/2021/08/AIF2021_PrayerVigil-CalArt.jpg
END:VEVENT
BEGIN:VEVENT
DTSTART;TZID=America/New_York:20210911T100000
DTEND;TZID=America/New_York:20210911T110000
DTSTAMP:20260425T164742
CREATED:20210822T184058Z
LAST-MODIFIED:20210822T184518Z
UID:10000166-1631354400-1631358000@utruthcenter.org
SUMMARY:AIF 2021 Prayer Vigil
DESCRIPTION:Saturday\, September 4th\, 2021\n9:00 AM or 10:00 AM\nvia conference call\n(712)451-0011 – Access Code: 457533#\n \n\n 
URL:https://utruthcenter.org/event/aif-2021-prayer-vigil/2021-09-11/
LOCATION:THIS EVENT IS ONLINE ONLY.\, United States
CATEGORIES:Meetings,Worship
ATTACH;FMTTYPE=image/jpeg:https://utruthcenter.org/wp-content/uploads/2021/08/AIF2021_PrayerVigil-CalArt.jpg
END:VEVENT
BEGIN:VEVENT
DTSTART;TZID=America/New_York:20210910T100000
DTEND;TZID=America/New_York:20210910T110000
DTSTAMP:20260425T164742
CREATED:20210822T184058Z
LAST-MODIFIED:20210822T184518Z
UID:10000165-1631268000-1631271600@utruthcenter.org
SUMMARY:AIF 2021 Prayer Vigil
DESCRIPTION:Saturday\, September 4th\, 2021\n9:00 AM or 10:00 AM\nvia conference call\n(712)451-0011 – Access Code: 457533#\n \n\n 
URL:https://utruthcenter.org/event/aif-2021-prayer-vigil/2021-09-10/
LOCATION:THIS EVENT IS ONLINE ONLY.\, United States
CATEGORIES:Meetings,Worship
ATTACH;FMTTYPE=image/jpeg:https://utruthcenter.org/wp-content/uploads/2021/08/AIF2021_PrayerVigil-CalArt.jpg
END:VEVENT
BEGIN:VEVENT
DTSTART;TZID=America/New_York:20210909T100000
DTEND;TZID=America/New_York:20210909T110000
DTSTAMP:20260425T164742
CREATED:20210822T184058Z
LAST-MODIFIED:20210822T184518Z
UID:10000164-1631181600-1631185200@utruthcenter.org
SUMMARY:AIF 2021 Prayer Vigil
DESCRIPTION:Saturday\, September 4th\, 2021\n9:00 AM or 10:00 AM\nvia conference call\n(712)451-0011 – Access Code: 457533#\n \n\n 
URL:https://utruthcenter.org/event/aif-2021-prayer-vigil/2021-09-09/
LOCATION:THIS EVENT IS ONLINE ONLY.\, United States
CATEGORIES:Meetings,Worship
ATTACH;FMTTYPE=image/jpeg:https://utruthcenter.org/wp-content/uploads/2021/08/AIF2021_PrayerVigil-CalArt.jpg
END:VEVENT
BEGIN:VEVENT
DTSTART;TZID=America/New_York:20210908T183000
DTEND;TZID=America/New_York:20210908T203000
DTSTAMP:20260425T164742
CREATED:20210501T175313Z
LAST-MODIFIED:20210908T193027Z
UID:10000128-1631125800-1631133000@utruthcenter.org
SUMMARY:Conversations with the Minister
DESCRIPTION:JOIN THE CONVERSATION!\nEVERY FIRST WEDNESDAY OF THE MONTH @ 6:30 PM.\n \nONLINE MEETING VIA ZOOM\n\nMEETING ID: 917 2196 5277\nPASSWORD: 307706\n\n\nSEE YOU THERE!
URL:https://utruthcenter.org/event/conversations-with-the-minister-2021-09-01/
LOCATION:THIS IS AN ONLINE ONLY WORSHIP EXPERIENCE.\, THIS IS AN ONLINE ONLY WORSHIP EXPERIENCE.\, FL\, 33056\, United States
CATEGORIES:Events,Meetings
ATTACH;FMTTYPE=image/jpeg:https://utruthcenter.org/wp-content/uploads/2021/05/Conversation_with_the_Minister-Calendar2.jpg
END:VEVENT
BEGIN:VEVENT
DTSTART;TZID=America/New_York:20210908T100000
DTEND;TZID=America/New_York:20210908T110000
DTSTAMP:20260425T164742
CREATED:20210822T184058Z
LAST-MODIFIED:20210822T184518Z
UID:10000163-1631095200-1631098800@utruthcenter.org
SUMMARY:AIF 2021 Prayer Vigil
DESCRIPTION:Saturday\, September 4th\, 2021\n9:00 AM or 10:00 AM\nvia conference call\n(712)451-0011 – Access Code: 457533#\n \n\n 
URL:https://utruthcenter.org/event/aif-2021-prayer-vigil/2021-09-08/
LOCATION:THIS EVENT IS ONLINE ONLY.\, United States
CATEGORIES:Meetings,Worship
ATTACH;FMTTYPE=image/jpeg:https://utruthcenter.org/wp-content/uploads/2021/08/AIF2021_PrayerVigil-CalArt.jpg
END:VEVENT
BEGIN:VEVENT
DTSTART;TZID=America/New_York:20210907T180000
DTEND;TZID=America/New_York:20210907T200000
DTSTAMP:20260425T164742
CREATED:20201212T174501Z
LAST-MODIFIED:20210501T175633Z
UID:10000074-1631037600-1631044800@utruthcenter.org
SUMMARY:Tuesday Prayer Meeting
DESCRIPTION:Join us for a TUESDAY NIGHT PRAYER MEETING!\nThe dial-in number is: 712-451-0011 \nThe pin is: 457533# \nBE THERE!
URL:https://utruthcenter.org/event/tuesday-prayer-meeting-2/2021-09-07/
LOCATION:THIS IS AN ONLINE ONLY WORSHIP EXPERIENCE.\, THIS IS AN ONLINE ONLY WORSHIP EXPERIENCE.\, FL\, 33056\, United States
CATEGORIES:Meetings,Worship
ATTACH;FMTTYPE=image/jpeg:https://utruthcenter.org/wp-content/uploads/2020/12/prayerMTGs_2021-CalArt.jpg
END:VEVENT
BEGIN:VEVENT
DTSTART;TZID=America/New_York:20210907T100000
DTEND;TZID=America/New_York:20210907T110000
DTSTAMP:20260425T164742
CREATED:20210822T184058Z
LAST-MODIFIED:20210822T184518Z
UID:10000162-1631008800-1631012400@utruthcenter.org
SUMMARY:AIF 2021 Prayer Vigil
DESCRIPTION:Saturday\, September 4th\, 2021\n9:00 AM or 10:00 AM\nvia conference call\n(712)451-0011 – Access Code: 457533#\n \n\n 
URL:https://utruthcenter.org/event/aif-2021-prayer-vigil/2021-09-07/
LOCATION:THIS EVENT IS ONLINE ONLY.\, United States
CATEGORIES:Meetings,Worship
ATTACH;FMTTYPE=image/jpeg:https://utruthcenter.org/wp-content/uploads/2021/08/AIF2021_PrayerVigil-CalArt.jpg
END:VEVENT
END:VCALENDAR