BEGIN:VCALENDAR
VERSION:2.0
PRODID:-//Universal Truth Center - ECPv6.15.17//NONSGML v1.0//EN
CALSCALE:GREGORIAN
METHOD:PUBLISH
X-WR-CALNAME:Universal Truth Center
X-ORIGINAL-URL:https://utruthcenter.org
X-WR-CALDESC:Events for Universal Truth Center
REFRESH-INTERVAL;VALUE=DURATION:PT1H
X-Robots-Tag:noindex
X-PUBLISHED-TTL:PT1H
BEGIN:VTIMEZONE
TZID:America/New_York
BEGIN:DAYLIGHT
TZOFFSETFROM:-0500
TZOFFSETTO:-0400
TZNAME:EDT
DTSTART:20200308T070000
END:DAYLIGHT
BEGIN:STANDARD
TZOFFSETFROM:-0400
TZOFFSETTO:-0500
TZNAME:EST
DTSTART:20201101T060000
END:STANDARD
BEGIN:DAYLIGHT
TZOFFSETFROM:-0500
TZOFFSETTO:-0400
TZNAME:EDT
DTSTART:20210314T070000
END:DAYLIGHT
BEGIN:STANDARD
TZOFFSETFROM:-0400
TZOFFSETTO:-0500
TZNAME:EST
DTSTART:20211107T060000
END:STANDARD
BEGIN:DAYLIGHT
TZOFFSETFROM:-0500
TZOFFSETTO:-0400
TZNAME:EDT
DTSTART:20220313T070000
END:DAYLIGHT
BEGIN:STANDARD
TZOFFSETFROM:-0400
TZOFFSETTO:-0500
TZNAME:EST
DTSTART:20221106T060000
END:STANDARD
END:VTIMEZONE
BEGIN:VEVENT
DTSTART;TZID=America/New_York:20211017T100000
DTEND;TZID=America/New_York:20211017T110000
DTSTAMP:20260425T123222
CREATED:20210822T184058Z
LAST-MODIFIED:20210822T184518Z
UID:10000202-1634464800-1634468400@utruthcenter.org
SUMMARY:AIF 2021 Prayer Vigil
DESCRIPTION:Saturday\, September 4th\, 2021\n9:00 AM or 10:00 AM\nvia conference call\n(712)451-0011 – Access Code: 457533#\n \n\n 
URL:https://utruthcenter.org/event/aif-2021-prayer-vigil/2021-10-17/
LOCATION:THIS EVENT IS ONLINE ONLY.\, United States
CATEGORIES:Meetings,Worship
ATTACH;FMTTYPE=image/jpeg:https://utruthcenter.org/wp-content/uploads/2021/08/AIF2021_PrayerVigil-CalArt.jpg
END:VEVENT
BEGIN:VEVENT
DTSTART;TZID=America/New_York:20211016T100000
DTEND;TZID=America/New_York:20211016T110000
DTSTAMP:20260425T123222
CREATED:20210822T184058Z
LAST-MODIFIED:20210822T184518Z
UID:10000201-1634378400-1634382000@utruthcenter.org
SUMMARY:AIF 2021 Prayer Vigil
DESCRIPTION:Saturday\, September 4th\, 2021\n9:00 AM or 10:00 AM\nvia conference call\n(712)451-0011 – Access Code: 457533#\n \n\n 
URL:https://utruthcenter.org/event/aif-2021-prayer-vigil/2021-10-16/
LOCATION:THIS EVENT IS ONLINE ONLY.\, United States
CATEGORIES:Meetings,Worship
ATTACH;FMTTYPE=image/jpeg:https://utruthcenter.org/wp-content/uploads/2021/08/AIF2021_PrayerVigil-CalArt.jpg
END:VEVENT
BEGIN:VEVENT
DTSTART;TZID=America/New_York:20211015T100000
DTEND;TZID=America/New_York:20211015T110000
DTSTAMP:20260425T123222
CREATED:20210822T184058Z
LAST-MODIFIED:20210822T184518Z
UID:10000200-1634292000-1634295600@utruthcenter.org
SUMMARY:AIF 2021 Prayer Vigil
DESCRIPTION:Saturday\, September 4th\, 2021\n9:00 AM or 10:00 AM\nvia conference call\n(712)451-0011 – Access Code: 457533#\n \n\n 
URL:https://utruthcenter.org/event/aif-2021-prayer-vigil/2021-10-15/
LOCATION:THIS EVENT IS ONLINE ONLY.\, United States
CATEGORIES:Meetings,Worship
ATTACH;FMTTYPE=image/jpeg:https://utruthcenter.org/wp-content/uploads/2021/08/AIF2021_PrayerVigil-CalArt.jpg
END:VEVENT
BEGIN:VEVENT
DTSTART;TZID=America/New_York:20211014T100000
DTEND;TZID=America/New_York:20211014T110000
DTSTAMP:20260425T123222
CREATED:20210822T184058Z
LAST-MODIFIED:20210822T184518Z
UID:10000199-1634205600-1634209200@utruthcenter.org
SUMMARY:AIF 2021 Prayer Vigil
DESCRIPTION:Saturday\, September 4th\, 2021\n9:00 AM or 10:00 AM\nvia conference call\n(712)451-0011 – Access Code: 457533#\n \n\n 
URL:https://utruthcenter.org/event/aif-2021-prayer-vigil/2021-10-14/
LOCATION:THIS EVENT IS ONLINE ONLY.\, United States
CATEGORIES:Meetings,Worship
ATTACH;FMTTYPE=image/jpeg:https://utruthcenter.org/wp-content/uploads/2021/08/AIF2021_PrayerVigil-CalArt.jpg
END:VEVENT
BEGIN:VEVENT
DTSTART;TZID=America/New_York:20211013T100000
DTEND;TZID=America/New_York:20211013T110000
DTSTAMP:20260425T123222
CREATED:20210822T184058Z
LAST-MODIFIED:20210822T184518Z
UID:10000198-1634119200-1634122800@utruthcenter.org
SUMMARY:AIF 2021 Prayer Vigil
DESCRIPTION:Saturday\, September 4th\, 2021\n9:00 AM or 10:00 AM\nvia conference call\n(712)451-0011 – Access Code: 457533#\n \n\n 
URL:https://utruthcenter.org/event/aif-2021-prayer-vigil/2021-10-13/
LOCATION:THIS EVENT IS ONLINE ONLY.\, United States
CATEGORIES:Meetings,Worship
ATTACH;FMTTYPE=image/jpeg:https://utruthcenter.org/wp-content/uploads/2021/08/AIF2021_PrayerVigil-CalArt.jpg
END:VEVENT
BEGIN:VEVENT
DTSTART;TZID=America/New_York:20211012T180000
DTEND;TZID=America/New_York:20211012T200000
DTSTAMP:20260425T123222
CREATED:20201212T174501Z
LAST-MODIFIED:20210501T175633Z
UID:10000079-1634061600-1634068800@utruthcenter.org
SUMMARY:Tuesday Prayer Meeting
DESCRIPTION:Join us for a TUESDAY NIGHT PRAYER MEETING!\nThe dial-in number is: 712-451-0011 \nThe pin is: 457533# \nBE THERE!
URL:https://utruthcenter.org/event/tuesday-prayer-meeting-2/2021-10-12/
LOCATION:THIS IS AN ONLINE ONLY WORSHIP EXPERIENCE.\, THIS IS AN ONLINE ONLY WORSHIP EXPERIENCE.\, FL\, 33056\, United States
CATEGORIES:Meetings,Worship
ATTACH;FMTTYPE=image/jpeg:https://utruthcenter.org/wp-content/uploads/2020/12/prayerMTGs_2021-CalArt.jpg
END:VEVENT
BEGIN:VEVENT
DTSTART;TZID=America/New_York:20211012T100000
DTEND;TZID=America/New_York:20211012T110000
DTSTAMP:20260425T123222
CREATED:20210822T184058Z
LAST-MODIFIED:20210822T184518Z
UID:10000197-1634032800-1634036400@utruthcenter.org
SUMMARY:AIF 2021 Prayer Vigil
DESCRIPTION:Saturday\, September 4th\, 2021\n9:00 AM or 10:00 AM\nvia conference call\n(712)451-0011 – Access Code: 457533#\n \n\n 
URL:https://utruthcenter.org/event/aif-2021-prayer-vigil/2021-10-12/
LOCATION:THIS EVENT IS ONLINE ONLY.\, United States
CATEGORIES:Meetings,Worship
ATTACH;FMTTYPE=image/jpeg:https://utruthcenter.org/wp-content/uploads/2021/08/AIF2021_PrayerVigil-CalArt.jpg
END:VEVENT
BEGIN:VEVENT
DTSTART;TZID=America/New_York:20211011T100000
DTEND;TZID=America/New_York:20211011T110000
DTSTAMP:20260425T123222
CREATED:20210822T184058Z
LAST-MODIFIED:20210822T184518Z
UID:10000196-1633946400-1633950000@utruthcenter.org
SUMMARY:AIF 2021 Prayer Vigil
DESCRIPTION:Saturday\, September 4th\, 2021\n9:00 AM or 10:00 AM\nvia conference call\n(712)451-0011 – Access Code: 457533#\n \n\n 
URL:https://utruthcenter.org/event/aif-2021-prayer-vigil/2021-10-11/
LOCATION:THIS EVENT IS ONLINE ONLY.\, United States
CATEGORIES:Meetings,Worship
ATTACH;FMTTYPE=image/jpeg:https://utruthcenter.org/wp-content/uploads/2021/08/AIF2021_PrayerVigil-CalArt.jpg
END:VEVENT
BEGIN:VEVENT
DTSTART;TZID=America/New_York:20211011T080000
DTEND;TZID=America/New_York:20211011T090000
DTSTAMP:20260425T123222
CREATED:20210920T180022Z
LAST-MODIFIED:20210920T180838Z
UID:10000574-1633939200-1633942800@utruthcenter.org
SUMMARY:UTC Morning Prayer Line
DESCRIPTION:PRAYER LINE: 716-427-1108\nAccess Code: 457533\nCOME JOIN US EVERY MORNING @ 8AM.
URL:https://utruthcenter.org/event/utc-morning-prayer-line/2021-10-11/
LOCATION:THIS EVENT IS ONLINE ONLY.\, United States
CATEGORIES:Events,Meetings
ATTACH;FMTTYPE=image/png:https://utruthcenter.org/wp-content/uploads/2021/09/UTC-PRAYER_LINE-min-CalArt.png
END:VEVENT
BEGIN:VEVENT
DTSTART;TZID=America/New_York:20211010T100000
DTEND;TZID=America/New_York:20211010T123000
DTSTAMP:20260425T123222
CREATED:20210821T013904Z
LAST-MODIFIED:20210904T220851Z
UID:10000153-1633860000-1633869000@utruthcenter.org
SUMMARY:Level Up Your Involvement
DESCRIPTION:AIF 2021: Level Up Your Success\nSOCIAL UNFOLDMENT\n\nLESSON TITLE: \nLevel Up Your Involvement\n\nTEACHER: \n \nRev. Charles M. Taylor\n\nAIF 2021 Text: Chapter 5 \n\nThe Seven Spiritual Laws of Success\nby Deepak Chopra \n\nRESPONSIVE READING: \nDaily Inspiration Pg. 59 \n\nSCRIPTURE: \nMatthew 5:14-16 \n\nColor: Orange\nPower: Zeal\nDisciple: Simon\nWomen of the Chalice: Ruth\nPhysical Location: Medulla\nMinistry: Stewardship \n\n 
URL:https://utruthcenter.org/event/level-up-your-involvement/
LOCATION:THIS IS AN ONLINE ONLY WORSHIP EXPERIENCE.\, THIS IS AN ONLINE ONLY WORSHIP EXPERIENCE.\, FL\, 33056\, United States
CATEGORIES:Events,Worship
ATTACH;FMTTYPE=image/jpeg:https://utruthcenter.org/wp-content/uploads/2021/08/AIF2021_CALART-social.jpg
END:VEVENT
BEGIN:VEVENT
DTSTART;TZID=America/New_York:20211010T100000
DTEND;TZID=America/New_York:20211010T110000
DTSTAMP:20260425T123222
CREATED:20210822T184058Z
LAST-MODIFIED:20210822T184518Z
UID:10000195-1633860000-1633863600@utruthcenter.org
SUMMARY:AIF 2021 Prayer Vigil
DESCRIPTION:Saturday\, September 4th\, 2021\n9:00 AM or 10:00 AM\nvia conference call\n(712)451-0011 – Access Code: 457533#\n \n\n 
URL:https://utruthcenter.org/event/aif-2021-prayer-vigil/2021-10-10/
LOCATION:THIS EVENT IS ONLINE ONLY.\, United States
CATEGORIES:Meetings,Worship
ATTACH;FMTTYPE=image/jpeg:https://utruthcenter.org/wp-content/uploads/2021/08/AIF2021_PrayerVigil-CalArt.jpg
END:VEVENT
BEGIN:VEVENT
DTSTART;TZID=America/New_York:20211009T100000
DTEND;TZID=America/New_York:20211009T110000
DTSTAMP:20260425T123222
CREATED:20210822T184058Z
LAST-MODIFIED:20210822T184518Z
UID:10000194-1633773600-1633777200@utruthcenter.org
SUMMARY:AIF 2021 Prayer Vigil
DESCRIPTION:Saturday\, September 4th\, 2021\n9:00 AM or 10:00 AM\nvia conference call\n(712)451-0011 – Access Code: 457533#\n \n\n 
URL:https://utruthcenter.org/event/aif-2021-prayer-vigil/2021-10-09/
LOCATION:THIS EVENT IS ONLINE ONLY.\, United States
CATEGORIES:Meetings,Worship
ATTACH;FMTTYPE=image/jpeg:https://utruthcenter.org/wp-content/uploads/2021/08/AIF2021_PrayerVigil-CalArt.jpg
END:VEVENT
BEGIN:VEVENT
DTSTART;TZID=America/New_York:20211008T100000
DTEND;TZID=America/New_York:20211008T110000
DTSTAMP:20260425T123222
CREATED:20210822T184058Z
LAST-MODIFIED:20210822T184518Z
UID:10000193-1633687200-1633690800@utruthcenter.org
SUMMARY:AIF 2021 Prayer Vigil
DESCRIPTION:Saturday\, September 4th\, 2021\n9:00 AM or 10:00 AM\nvia conference call\n(712)451-0011 – Access Code: 457533#\n \n\n 
URL:https://utruthcenter.org/event/aif-2021-prayer-vigil/2021-10-08/
LOCATION:THIS EVENT IS ONLINE ONLY.\, United States
CATEGORIES:Meetings,Worship
ATTACH;FMTTYPE=image/jpeg:https://utruthcenter.org/wp-content/uploads/2021/08/AIF2021_PrayerVigil-CalArt.jpg
END:VEVENT
BEGIN:VEVENT
DTSTART;TZID=America/New_York:20211007T100000
DTEND;TZID=America/New_York:20211007T110000
DTSTAMP:20260425T123222
CREATED:20210822T184058Z
LAST-MODIFIED:20210822T184518Z
UID:10000192-1633600800-1633604400@utruthcenter.org
SUMMARY:AIF 2021 Prayer Vigil
DESCRIPTION:Saturday\, September 4th\, 2021\n9:00 AM or 10:00 AM\nvia conference call\n(712)451-0011 – Access Code: 457533#\n \n\n 
URL:https://utruthcenter.org/event/aif-2021-prayer-vigil/2021-10-07/
LOCATION:THIS EVENT IS ONLINE ONLY.\, United States
CATEGORIES:Meetings,Worship
ATTACH;FMTTYPE=image/jpeg:https://utruthcenter.org/wp-content/uploads/2021/08/AIF2021_PrayerVigil-CalArt.jpg
END:VEVENT
BEGIN:VEVENT
DTSTART;TZID=America/New_York:20211006T183000
DTEND;TZID=America/New_York:20211006T203000
DTSTAMP:20260425T123222
CREATED:20210501T175313Z
LAST-MODIFIED:20210908T192357Z
UID:10000125-1633545000-1633552200@utruthcenter.org
SUMMARY:Conversations with the Minister
DESCRIPTION:JOIN THE CONVERSATION!\nEVERY FIRST WEDNESDAY OF THE MONTH @ 6:30 PM.\n \nONLINE MEETING VIA ZOOM\n\nMEETING ID: 917 2196 5277\nPASSWORD: 307706\n\n\nSEE YOU THERE!
URL:https://utruthcenter.org/event/conversations-with-the-minister/2021-10-06/
LOCATION:THIS IS AN ONLINE ONLY WORSHIP EXPERIENCE.\, THIS IS AN ONLINE ONLY WORSHIP EXPERIENCE.\, FL\, 33056\, United States
CATEGORIES:Events,Meetings
ATTACH;FMTTYPE=image/jpeg:https://utruthcenter.org/wp-content/uploads/2021/05/Conversation_with_the_Minister-Calendar2.jpg
END:VEVENT
BEGIN:VEVENT
DTSTART;TZID=America/New_York:20211006T100000
DTEND;TZID=America/New_York:20211006T110000
DTSTAMP:20260425T123222
CREATED:20210822T184058Z
LAST-MODIFIED:20210822T184518Z
UID:10000191-1633514400-1633518000@utruthcenter.org
SUMMARY:AIF 2021 Prayer Vigil
DESCRIPTION:Saturday\, September 4th\, 2021\n9:00 AM or 10:00 AM\nvia conference call\n(712)451-0011 – Access Code: 457533#\n \n\n 
URL:https://utruthcenter.org/event/aif-2021-prayer-vigil/2021-10-06/
LOCATION:THIS EVENT IS ONLINE ONLY.\, United States
CATEGORIES:Meetings,Worship
ATTACH;FMTTYPE=image/jpeg:https://utruthcenter.org/wp-content/uploads/2021/08/AIF2021_PrayerVigil-CalArt.jpg
END:VEVENT
BEGIN:VEVENT
DTSTART;TZID=America/New_York:20211005T180000
DTEND;TZID=America/New_York:20211005T200000
DTSTAMP:20260425T123222
CREATED:20201212T174501Z
LAST-MODIFIED:20210501T175633Z
UID:10000078-1633456800-1633464000@utruthcenter.org
SUMMARY:Tuesday Prayer Meeting
DESCRIPTION:Join us for a TUESDAY NIGHT PRAYER MEETING!\nThe dial-in number is: 712-451-0011 \nThe pin is: 457533# \nBE THERE!
URL:https://utruthcenter.org/event/tuesday-prayer-meeting-2/2021-10-05/
LOCATION:THIS IS AN ONLINE ONLY WORSHIP EXPERIENCE.\, THIS IS AN ONLINE ONLY WORSHIP EXPERIENCE.\, FL\, 33056\, United States
CATEGORIES:Meetings,Worship
ATTACH;FMTTYPE=image/jpeg:https://utruthcenter.org/wp-content/uploads/2020/12/prayerMTGs_2021-CalArt.jpg
END:VEVENT
BEGIN:VEVENT
DTSTART;TZID=America/New_York:20211005T100000
DTEND;TZID=America/New_York:20211005T110000
DTSTAMP:20260425T123222
CREATED:20210822T184058Z
LAST-MODIFIED:20210822T184518Z
UID:10000190-1633428000-1633431600@utruthcenter.org
SUMMARY:AIF 2021 Prayer Vigil
DESCRIPTION:Saturday\, September 4th\, 2021\n9:00 AM or 10:00 AM\nvia conference call\n(712)451-0011 – Access Code: 457533#\n \n\n 
URL:https://utruthcenter.org/event/aif-2021-prayer-vigil/2021-10-05/
LOCATION:THIS EVENT IS ONLINE ONLY.\, United States
CATEGORIES:Meetings,Worship
ATTACH;FMTTYPE=image/jpeg:https://utruthcenter.org/wp-content/uploads/2021/08/AIF2021_PrayerVigil-CalArt.jpg
END:VEVENT
BEGIN:VEVENT
DTSTART;TZID=America/New_York:20211004T100000
DTEND;TZID=America/New_York:20211004T110000
DTSTAMP:20260425T123222
CREATED:20210822T184058Z
LAST-MODIFIED:20210822T184518Z
UID:10000189-1633341600-1633345200@utruthcenter.org
SUMMARY:AIF 2021 Prayer Vigil
DESCRIPTION:Saturday\, September 4th\, 2021\n9:00 AM or 10:00 AM\nvia conference call\n(712)451-0011 – Access Code: 457533#\n \n\n 
URL:https://utruthcenter.org/event/aif-2021-prayer-vigil/2021-10-04/
LOCATION:THIS EVENT IS ONLINE ONLY.\, United States
CATEGORIES:Meetings,Worship
ATTACH;FMTTYPE=image/jpeg:https://utruthcenter.org/wp-content/uploads/2021/08/AIF2021_PrayerVigil-CalArt.jpg
END:VEVENT
BEGIN:VEVENT
DTSTART;TZID=America/New_York:20211004T080000
DTEND;TZID=America/New_York:20211004T090000
DTSTAMP:20260425T123222
CREATED:20210920T180022Z
LAST-MODIFIED:20210920T180838Z
UID:10000573-1633334400-1633338000@utruthcenter.org
SUMMARY:UTC Morning Prayer Line
DESCRIPTION:PRAYER LINE: 716-427-1108\nAccess Code: 457533\nCOME JOIN US EVERY MORNING @ 8AM.
URL:https://utruthcenter.org/event/utc-morning-prayer-line/2021-10-04/
LOCATION:THIS EVENT IS ONLINE ONLY.\, United States
CATEGORIES:Events,Meetings
ATTACH;FMTTYPE=image/png:https://utruthcenter.org/wp-content/uploads/2021/09/UTC-PRAYER_LINE-min-CalArt.png
END:VEVENT
BEGIN:VEVENT
DTSTART;TZID=America/New_York:20211003T100000
DTEND;TZID=America/New_York:20211003T123000
DTSTAMP:20260425T123222
CREATED:20210821T013005Z
LAST-MODIFIED:20210904T220812Z
UID:10000152-1633255200-1633264200@utruthcenter.org
SUMMARY:Level Up Your Relationships
DESCRIPTION:AIF 2021: Level Up Your Success\nRELATIONAL UNFOLDMENT\n\nLESSON TITLE: \nLevel Up Your Relationships\n\nTEACHER: \n \nRev. Charles M. Taylor\n\nAIF 2021 Text: Chapter 2 \n\nThe Seven Spiritual Laws of Success\nby Deepak Chopra \n\nRESPONSIVE READING: \nDaily Inspiration Pg. 76 \n\nSCRIPTURE: \nHebrews 10:24-25 \n\nColor: Orange\nPower: Zeal\nDisciple: Simon\nWomen of the Chalice: Ruth\nPhysical Location: Medulla\nMinistry: Stewardship \n\n 
URL:https://utruthcenter.org/event/level-up-your-relationships/
LOCATION:THIS IS AN ONLINE ONLY WORSHIP EXPERIENCE.\, THIS IS AN ONLINE ONLY WORSHIP EXPERIENCE.\, FL\, 33056\, United States
CATEGORIES:Events,Worship
ATTACH;FMTTYPE=image/jpeg:https://utruthcenter.org/wp-content/uploads/2021/08/AIF2021_CALART-relational.jpg
END:VEVENT
BEGIN:VEVENT
DTSTART;TZID=America/New_York:20211003T100000
DTEND;TZID=America/New_York:20211003T110000
DTSTAMP:20260425T123222
CREATED:20210822T184058Z
LAST-MODIFIED:20210822T184518Z
UID:10000188-1633255200-1633258800@utruthcenter.org
SUMMARY:AIF 2021 Prayer Vigil
DESCRIPTION:Saturday\, September 4th\, 2021\n9:00 AM or 10:00 AM\nvia conference call\n(712)451-0011 – Access Code: 457533#\n \n\n 
URL:https://utruthcenter.org/event/aif-2021-prayer-vigil/2021-10-03/
LOCATION:THIS EVENT IS ONLINE ONLY.\, United States
CATEGORIES:Meetings,Worship
ATTACH;FMTTYPE=image/jpeg:https://utruthcenter.org/wp-content/uploads/2021/08/AIF2021_PrayerVigil-CalArt.jpg
END:VEVENT
BEGIN:VEVENT
DTSTART;TZID=America/New_York:20211002T100000
DTEND;TZID=America/New_York:20211002T110000
DTSTAMP:20260425T123222
CREATED:20210822T184058Z
LAST-MODIFIED:20210822T184518Z
UID:10000187-1633168800-1633172400@utruthcenter.org
SUMMARY:AIF 2021 Prayer Vigil
DESCRIPTION:Saturday\, September 4th\, 2021\n9:00 AM or 10:00 AM\nvia conference call\n(712)451-0011 – Access Code: 457533#\n \n\n 
URL:https://utruthcenter.org/event/aif-2021-prayer-vigil/2021-10-02/
LOCATION:THIS EVENT IS ONLINE ONLY.\, United States
CATEGORIES:Meetings,Worship
ATTACH;FMTTYPE=image/jpeg:https://utruthcenter.org/wp-content/uploads/2021/08/AIF2021_PrayerVigil-CalArt.jpg
END:VEVENT
BEGIN:VEVENT
DTSTART;TZID=America/New_York:20211001T100000
DTEND;TZID=America/New_York:20211001T110000
DTSTAMP:20260425T123222
CREATED:20210822T184058Z
LAST-MODIFIED:20210822T184518Z
UID:10000186-1633082400-1633086000@utruthcenter.org
SUMMARY:AIF 2021 Prayer Vigil
DESCRIPTION:Saturday\, September 4th\, 2021\n9:00 AM or 10:00 AM\nvia conference call\n(712)451-0011 – Access Code: 457533#\n \n\n 
URL:https://utruthcenter.org/event/aif-2021-prayer-vigil/2021-10-01/
LOCATION:THIS EVENT IS ONLINE ONLY.\, United States
CATEGORIES:Meetings,Worship
ATTACH;FMTTYPE=image/jpeg:https://utruthcenter.org/wp-content/uploads/2021/08/AIF2021_PrayerVigil-CalArt.jpg
END:VEVENT
BEGIN:VEVENT
DTSTART;TZID=America/New_York:20210930T100000
DTEND;TZID=America/New_York:20210930T110000
DTSTAMP:20260425T123222
CREATED:20210822T184058Z
LAST-MODIFIED:20210822T184518Z
UID:10000185-1632996000-1632999600@utruthcenter.org
SUMMARY:AIF 2021 Prayer Vigil
DESCRIPTION:Saturday\, September 4th\, 2021\n9:00 AM or 10:00 AM\nvia conference call\n(712)451-0011 – Access Code: 457533#\n \n\n 
URL:https://utruthcenter.org/event/aif-2021-prayer-vigil/2021-09-30/
LOCATION:THIS EVENT IS ONLINE ONLY.\, United States
CATEGORIES:Meetings,Worship
ATTACH;FMTTYPE=image/jpeg:https://utruthcenter.org/wp-content/uploads/2021/08/AIF2021_PrayerVigil-CalArt.jpg
END:VEVENT
BEGIN:VEVENT
DTSTART;TZID=America/New_York:20210929T100000
DTEND;TZID=America/New_York:20210929T110000
DTSTAMP:20260425T123222
CREATED:20210822T184058Z
LAST-MODIFIED:20210822T184518Z
UID:10000184-1632909600-1632913200@utruthcenter.org
SUMMARY:AIF 2021 Prayer Vigil
DESCRIPTION:Saturday\, September 4th\, 2021\n9:00 AM or 10:00 AM\nvia conference call\n(712)451-0011 – Access Code: 457533#\n \n\n 
URL:https://utruthcenter.org/event/aif-2021-prayer-vigil/2021-09-29/
LOCATION:THIS EVENT IS ONLINE ONLY.\, United States
CATEGORIES:Meetings,Worship
ATTACH;FMTTYPE=image/jpeg:https://utruthcenter.org/wp-content/uploads/2021/08/AIF2021_PrayerVigil-CalArt.jpg
END:VEVENT
BEGIN:VEVENT
DTSTART;TZID=America/New_York:20210928T180000
DTEND;TZID=America/New_York:20210928T200000
DTSTAMP:20260425T123222
CREATED:20201212T174501Z
LAST-MODIFIED:20210501T175633Z
UID:10000077-1632852000-1632859200@utruthcenter.org
SUMMARY:Tuesday Prayer Meeting
DESCRIPTION:Join us for a TUESDAY NIGHT PRAYER MEETING!\nThe dial-in number is: 712-451-0011 \nThe pin is: 457533# \nBE THERE!
URL:https://utruthcenter.org/event/tuesday-prayer-meeting-2/2021-09-28/
LOCATION:THIS IS AN ONLINE ONLY WORSHIP EXPERIENCE.\, THIS IS AN ONLINE ONLY WORSHIP EXPERIENCE.\, FL\, 33056\, United States
CATEGORIES:Meetings,Worship
ATTACH;FMTTYPE=image/jpeg:https://utruthcenter.org/wp-content/uploads/2020/12/prayerMTGs_2021-CalArt.jpg
END:VEVENT
BEGIN:VEVENT
DTSTART;TZID=America/New_York:20210928T100000
DTEND;TZID=America/New_York:20210928T110000
DTSTAMP:20260425T123222
CREATED:20210822T184058Z
LAST-MODIFIED:20210822T184518Z
UID:10000183-1632823200-1632826800@utruthcenter.org
SUMMARY:AIF 2021 Prayer Vigil
DESCRIPTION:Saturday\, September 4th\, 2021\n9:00 AM or 10:00 AM\nvia conference call\n(712)451-0011 – Access Code: 457533#\n \n\n 
URL:https://utruthcenter.org/event/aif-2021-prayer-vigil/2021-09-28/
LOCATION:THIS EVENT IS ONLINE ONLY.\, United States
CATEGORIES:Meetings,Worship
ATTACH;FMTTYPE=image/jpeg:https://utruthcenter.org/wp-content/uploads/2021/08/AIF2021_PrayerVigil-CalArt.jpg
END:VEVENT
BEGIN:VEVENT
DTSTART;TZID=America/New_York:20210927T100000
DTEND;TZID=America/New_York:20210927T110000
DTSTAMP:20260425T123222
CREATED:20210822T184058Z
LAST-MODIFIED:20210822T184518Z
UID:10000182-1632736800-1632740400@utruthcenter.org
SUMMARY:AIF 2021 Prayer Vigil
DESCRIPTION:Saturday\, September 4th\, 2021\n9:00 AM or 10:00 AM\nvia conference call\n(712)451-0011 – Access Code: 457533#\n \n\n 
URL:https://utruthcenter.org/event/aif-2021-prayer-vigil/2021-09-27/
LOCATION:THIS EVENT IS ONLINE ONLY.\, United States
CATEGORIES:Meetings,Worship
ATTACH;FMTTYPE=image/jpeg:https://utruthcenter.org/wp-content/uploads/2021/08/AIF2021_PrayerVigil-CalArt.jpg
END:VEVENT
BEGIN:VEVENT
DTSTART;TZID=America/New_York:20210927T080000
DTEND;TZID=America/New_York:20210927T090000
DTSTAMP:20260425T123222
CREATED:20210920T180022Z
LAST-MODIFIED:20210920T180838Z
UID:10000572-1632729600-1632733200@utruthcenter.org
SUMMARY:UTC Morning Prayer Line
DESCRIPTION:PRAYER LINE: 716-427-1108\nAccess Code: 457533\nCOME JOIN US EVERY MORNING @ 8AM.
URL:https://utruthcenter.org/event/utc-morning-prayer-line/2021-09-27/
LOCATION:THIS EVENT IS ONLINE ONLY.\, United States
CATEGORIES:Events,Meetings
ATTACH;FMTTYPE=image/png:https://utruthcenter.org/wp-content/uploads/2021/09/UTC-PRAYER_LINE-min-CalArt.png
END:VEVENT
END:VCALENDAR