BEGIN:VCALENDAR
VERSION:2.0
PRODID:-//Universal Truth Center - ECPv6.15.17//NONSGML v1.0//EN
CALSCALE:GREGORIAN
METHOD:PUBLISH
X-WR-CALNAME:Universal Truth Center
X-ORIGINAL-URL:https://utruthcenter.org
X-WR-CALDESC:Events for Universal Truth Center
REFRESH-INTERVAL;VALUE=DURATION:PT1H
X-Robots-Tag:noindex
X-PUBLISHED-TTL:PT1H
BEGIN:VTIMEZONE
TZID:America/New_York
BEGIN:DAYLIGHT
TZOFFSETFROM:-0500
TZOFFSETTO:-0400
TZNAME:EDT
DTSTART:20200308T070000
END:DAYLIGHT
BEGIN:STANDARD
TZOFFSETFROM:-0400
TZOFFSETTO:-0500
TZNAME:EST
DTSTART:20201101T060000
END:STANDARD
BEGIN:DAYLIGHT
TZOFFSETFROM:-0500
TZOFFSETTO:-0400
TZNAME:EDT
DTSTART:20210314T070000
END:DAYLIGHT
BEGIN:STANDARD
TZOFFSETFROM:-0400
TZOFFSETTO:-0500
TZNAME:EST
DTSTART:20211107T060000
END:STANDARD
BEGIN:DAYLIGHT
TZOFFSETFROM:-0500
TZOFFSETTO:-0400
TZNAME:EDT
DTSTART:20220313T070000
END:DAYLIGHT
BEGIN:STANDARD
TZOFFSETFROM:-0400
TZOFFSETTO:-0500
TZNAME:EST
DTSTART:20221106T060000
END:STANDARD
END:VTIMEZONE
BEGIN:VEVENT
DTSTART;TZID=America/New_York:20211103T183000
DTEND;TZID=America/New_York:20211103T203000
DTSTAMP:20260425T073546
CREATED:20210501T175313Z
LAST-MODIFIED:20210908T192357Z
UID:10000126-1635964200-1635971400@utruthcenter.org
SUMMARY:Conversations with the Minister
DESCRIPTION:JOIN THE CONVERSATION!\nEVERY FIRST WEDNESDAY OF THE MONTH @ 6:30 PM.\n \nONLINE MEETING VIA ZOOM\n\nMEETING ID: 917 2196 5277\nPASSWORD: 307706\n\n\nSEE YOU THERE!
URL:https://utruthcenter.org/event/conversations-with-the-minister/2021-11-03/
LOCATION:THIS IS AN ONLINE ONLY WORSHIP EXPERIENCE.\, THIS IS AN ONLINE ONLY WORSHIP EXPERIENCE.\, FL\, 33056\, United States
CATEGORIES:Events,Meetings
ATTACH;FMTTYPE=image/jpeg:https://utruthcenter.org/wp-content/uploads/2021/05/Conversation_with_the_Minister-Calendar2.jpg
END:VEVENT
BEGIN:VEVENT
DTSTART;TZID=America/New_York:20211103T100000
DTEND;TZID=America/New_York:20211103T110000
DTSTAMP:20260425T073546
CREATED:20210822T184058Z
LAST-MODIFIED:20210822T184518Z
UID:10000219-1635933600-1635937200@utruthcenter.org
SUMMARY:AIF 2021 Prayer Vigil
DESCRIPTION:Saturday\, September 4th\, 2021\n9:00 AM or 10:00 AM\nvia conference call\n(712)451-0011 – Access Code: 457533#\n \n\n 
URL:https://utruthcenter.org/event/aif-2021-prayer-vigil/2021-11-03/
LOCATION:THIS EVENT IS ONLINE ONLY.\, United States
CATEGORIES:Meetings,Worship
ATTACH;FMTTYPE=image/jpeg:https://utruthcenter.org/wp-content/uploads/2021/08/AIF2021_PrayerVigil-CalArt.jpg
END:VEVENT
BEGIN:VEVENT
DTSTART;TZID=America/New_York:20211102T180000
DTEND;TZID=America/New_York:20211102T200000
DTSTAMP:20260425T073546
CREATED:20201212T174501Z
LAST-MODIFIED:20210501T175633Z
UID:10000082-1635876000-1635883200@utruthcenter.org
SUMMARY:Tuesday Prayer Meeting
DESCRIPTION:Join us for a TUESDAY NIGHT PRAYER MEETING!\nThe dial-in number is: 712-451-0011 \nThe pin is: 457533# \nBE THERE!
URL:https://utruthcenter.org/event/tuesday-prayer-meeting-2/2021-11-02/
LOCATION:THIS IS AN ONLINE ONLY WORSHIP EXPERIENCE.\, THIS IS AN ONLINE ONLY WORSHIP EXPERIENCE.\, FL\, 33056\, United States
CATEGORIES:Meetings,Worship
ATTACH;FMTTYPE=image/jpeg:https://utruthcenter.org/wp-content/uploads/2020/12/prayerMTGs_2021-CalArt.jpg
END:VEVENT
BEGIN:VEVENT
DTSTART;TZID=America/New_York:20211102T100000
DTEND;TZID=America/New_York:20211102T110000
DTSTAMP:20260425T073546
CREATED:20210822T184058Z
LAST-MODIFIED:20210822T184518Z
UID:10000218-1635847200-1635850800@utruthcenter.org
SUMMARY:AIF 2021 Prayer Vigil
DESCRIPTION:Saturday\, September 4th\, 2021\n9:00 AM or 10:00 AM\nvia conference call\n(712)451-0011 – Access Code: 457533#\n \n\n 
URL:https://utruthcenter.org/event/aif-2021-prayer-vigil/2021-11-02/
LOCATION:THIS EVENT IS ONLINE ONLY.\, United States
CATEGORIES:Meetings,Worship
ATTACH;FMTTYPE=image/jpeg:https://utruthcenter.org/wp-content/uploads/2021/08/AIF2021_PrayerVigil-CalArt.jpg
END:VEVENT
BEGIN:VEVENT
DTSTART;TZID=America/New_York:20211101T100000
DTEND;TZID=America/New_York:20211101T110000
DTSTAMP:20260425T073546
CREATED:20210822T184058Z
LAST-MODIFIED:20210822T184518Z
UID:10000217-1635760800-1635764400@utruthcenter.org
SUMMARY:AIF 2021 Prayer Vigil
DESCRIPTION:Saturday\, September 4th\, 2021\n9:00 AM or 10:00 AM\nvia conference call\n(712)451-0011 – Access Code: 457533#\n \n\n 
URL:https://utruthcenter.org/event/aif-2021-prayer-vigil/2021-11-01/
LOCATION:THIS EVENT IS ONLINE ONLY.\, United States
CATEGORIES:Meetings,Worship
ATTACH;FMTTYPE=image/jpeg:https://utruthcenter.org/wp-content/uploads/2021/08/AIF2021_PrayerVigil-CalArt.jpg
END:VEVENT
BEGIN:VEVENT
DTSTART;TZID=America/New_York:20211101T080000
DTEND;TZID=America/New_York:20211101T090000
DTSTAMP:20260425T073546
CREATED:20210920T180022Z
LAST-MODIFIED:20210920T180838Z
UID:10000577-1635753600-1635757200@utruthcenter.org
SUMMARY:UTC Morning Prayer Line
DESCRIPTION:PRAYER LINE: 716-427-1108\nAccess Code: 457533\nCOME JOIN US EVERY MORNING @ 8AM.
URL:https://utruthcenter.org/event/utc-morning-prayer-line/2021-11-01/
LOCATION:THIS EVENT IS ONLINE ONLY.\, United States
CATEGORIES:Events,Meetings
ATTACH;FMTTYPE=image/png:https://utruthcenter.org/wp-content/uploads/2021/09/UTC-PRAYER_LINE-min-CalArt.png
END:VEVENT
BEGIN:VEVENT
DTSTART;TZID=America/New_York:20211031T100000
DTEND;TZID=America/New_York:20211031T123000
DTSTAMP:20260425T073546
CREATED:20210821T015505Z
LAST-MODIFIED:20211017T153509Z
UID:10000156-1635674400-1635683400@utruthcenter.org
SUMMARY:Level Up Your Flow
DESCRIPTION:AIF 2021: Level Up Your Success\nTITHING SUNDAY\n\nLESSON TITLE: \nLevel Up Your Flow\n\nTEACHER: \n \nRev. Charles M. Taylor\n\nAIF 2021 Text: Summary & Conclusion \n\nThe Seven Spiritual Laws of Success\nby Deepak Chopra \n\nRESPONSIVE READING: \nDaily Inspiration Pg. 55 \n\nSCRIPTURE: \nLuke 6:38  \n\nColor: Orange\nPower: Zeal\nDisciple: Simon\nWomen of the Chalice: Ruth\nPhysical Location: Medulla\nMinistry: Stewardship \n\n 
URL:https://utruthcenter.org/event/level-up-your-flow/
LOCATION:THIS IS AN ONLINE ONLY WORSHIP EXPERIENCE.\, THIS IS AN ONLINE ONLY WORSHIP EXPERIENCE.\, FL\, 33056\, United States
CATEGORIES:Events,Worship
ATTACH;FMTTYPE=image/jpeg:https://utruthcenter.org/wp-content/uploads/2021/10/tithingSunday_2021Goal-CalArt.jpg
END:VEVENT
BEGIN:VEVENT
DTSTART;TZID=America/New_York:20211031T100000
DTEND;TZID=America/New_York:20211031T110000
DTSTAMP:20260425T073546
CREATED:20210822T184058Z
LAST-MODIFIED:20210822T184518Z
UID:10000216-1635674400-1635678000@utruthcenter.org
SUMMARY:AIF 2021 Prayer Vigil
DESCRIPTION:Saturday\, September 4th\, 2021\n9:00 AM or 10:00 AM\nvia conference call\n(712)451-0011 – Access Code: 457533#\n \n\n 
URL:https://utruthcenter.org/event/aif-2021-prayer-vigil/2021-10-31/
LOCATION:THIS EVENT IS ONLINE ONLY.\, United States
CATEGORIES:Meetings,Worship
ATTACH;FMTTYPE=image/jpeg:https://utruthcenter.org/wp-content/uploads/2021/08/AIF2021_PrayerVigil-CalArt.jpg
END:VEVENT
BEGIN:VEVENT
DTSTART;TZID=America/New_York:20211030T150000
DTEND;TZID=America/New_York:20211030T180000
DTSTAMP:20260425T073546
CREATED:20211017T153106Z
LAST-MODIFIED:20211017T153106Z
UID:10000587-1635606000-1635616800@utruthcenter.org
SUMMARY:UTC Family Fun Fest
DESCRIPTION:UNIVERSAL TRUTH CENTER\npresents \nFAMILY FUN FESTIVAL\nOCTOBER 30TH\nFREE CANDY • KIDS GAMES\nCOSTUME CONTEST • FOOD & SNACKS \nJOIN US!
URL:https://utruthcenter.org/event/utc-family-fun-fest/
LOCATION:UTC\, 21310 NW 37th Avenue\, Miami Gardens\, FL\, 33056
CATEGORIES:Events
ATTACH;FMTTYPE=image/jpeg:https://utruthcenter.org/wp-content/uploads/2021/10/FamilyFunFest_2021-CalArt.jpg
GEO:25.9696213;-80.2633696
X-APPLE-STRUCTURED-LOCATION;VALUE=URI;X-ADDRESS=UTC 21310 NW 37th Avenue Miami Gardens FL 33056;X-APPLE-RADIUS=500;X-TITLE=21310 NW 37th Avenue:geo:-80.2633696,25.9696213
END:VEVENT
BEGIN:VEVENT
DTSTART;TZID=America/New_York:20211030T100000
DTEND;TZID=America/New_York:20211030T110000
DTSTAMP:20260425T073546
CREATED:20210822T184058Z
LAST-MODIFIED:20210822T184518Z
UID:10000215-1635588000-1635591600@utruthcenter.org
SUMMARY:AIF 2021 Prayer Vigil
DESCRIPTION:Saturday\, September 4th\, 2021\n9:00 AM or 10:00 AM\nvia conference call\n(712)451-0011 – Access Code: 457533#\n \n\n 
URL:https://utruthcenter.org/event/aif-2021-prayer-vigil/2021-10-30/
LOCATION:THIS EVENT IS ONLINE ONLY.\, United States
CATEGORIES:Meetings,Worship
ATTACH;FMTTYPE=image/jpeg:https://utruthcenter.org/wp-content/uploads/2021/08/AIF2021_PrayerVigil-CalArt.jpg
END:VEVENT
BEGIN:VEVENT
DTSTART;TZID=America/New_York:20211029T100000
DTEND;TZID=America/New_York:20211029T110000
DTSTAMP:20260425T073546
CREATED:20210822T184058Z
LAST-MODIFIED:20210822T184518Z
UID:10000214-1635501600-1635505200@utruthcenter.org
SUMMARY:AIF 2021 Prayer Vigil
DESCRIPTION:Saturday\, September 4th\, 2021\n9:00 AM or 10:00 AM\nvia conference call\n(712)451-0011 – Access Code: 457533#\n \n\n 
URL:https://utruthcenter.org/event/aif-2021-prayer-vigil/2021-10-29/
LOCATION:THIS EVENT IS ONLINE ONLY.\, United States
CATEGORIES:Meetings,Worship
ATTACH;FMTTYPE=image/jpeg:https://utruthcenter.org/wp-content/uploads/2021/08/AIF2021_PrayerVigil-CalArt.jpg
END:VEVENT
BEGIN:VEVENT
DTSTART;TZID=America/New_York:20211028T100000
DTEND;TZID=America/New_York:20211028T110000
DTSTAMP:20260425T073546
CREATED:20210822T184058Z
LAST-MODIFIED:20210822T184518Z
UID:10000213-1635415200-1635418800@utruthcenter.org
SUMMARY:AIF 2021 Prayer Vigil
DESCRIPTION:Saturday\, September 4th\, 2021\n9:00 AM or 10:00 AM\nvia conference call\n(712)451-0011 – Access Code: 457533#\n \n\n 
URL:https://utruthcenter.org/event/aif-2021-prayer-vigil/2021-10-28/
LOCATION:THIS EVENT IS ONLINE ONLY.\, United States
CATEGORIES:Meetings,Worship
ATTACH;FMTTYPE=image/jpeg:https://utruthcenter.org/wp-content/uploads/2021/08/AIF2021_PrayerVigil-CalArt.jpg
END:VEVENT
BEGIN:VEVENT
DTSTART;TZID=America/New_York:20211027T100000
DTEND;TZID=America/New_York:20211027T110000
DTSTAMP:20260425T073546
CREATED:20210822T184058Z
LAST-MODIFIED:20210822T184518Z
UID:10000212-1635328800-1635332400@utruthcenter.org
SUMMARY:AIF 2021 Prayer Vigil
DESCRIPTION:Saturday\, September 4th\, 2021\n9:00 AM or 10:00 AM\nvia conference call\n(712)451-0011 – Access Code: 457533#\n \n\n 
URL:https://utruthcenter.org/event/aif-2021-prayer-vigil/2021-10-27/
LOCATION:THIS EVENT IS ONLINE ONLY.\, United States
CATEGORIES:Meetings,Worship
ATTACH;FMTTYPE=image/jpeg:https://utruthcenter.org/wp-content/uploads/2021/08/AIF2021_PrayerVigil-CalArt.jpg
END:VEVENT
BEGIN:VEVENT
DTSTART;TZID=America/New_York:20211026T180000
DTEND;TZID=America/New_York:20211026T200000
DTSTAMP:20260425T073546
CREATED:20201212T174501Z
LAST-MODIFIED:20210501T175633Z
UID:10000081-1635271200-1635278400@utruthcenter.org
SUMMARY:Tuesday Prayer Meeting
DESCRIPTION:Join us for a TUESDAY NIGHT PRAYER MEETING!\nThe dial-in number is: 712-451-0011 \nThe pin is: 457533# \nBE THERE!
URL:https://utruthcenter.org/event/tuesday-prayer-meeting-2/2021-10-26/
LOCATION:THIS IS AN ONLINE ONLY WORSHIP EXPERIENCE.\, THIS IS AN ONLINE ONLY WORSHIP EXPERIENCE.\, FL\, 33056\, United States
CATEGORIES:Meetings,Worship
ATTACH;FMTTYPE=image/jpeg:https://utruthcenter.org/wp-content/uploads/2020/12/prayerMTGs_2021-CalArt.jpg
END:VEVENT
BEGIN:VEVENT
DTSTART;TZID=America/New_York:20211026T100000
DTEND;TZID=America/New_York:20211026T110000
DTSTAMP:20260425T073546
CREATED:20210822T184058Z
LAST-MODIFIED:20210822T184518Z
UID:10000211-1635242400-1635246000@utruthcenter.org
SUMMARY:AIF 2021 Prayer Vigil
DESCRIPTION:Saturday\, September 4th\, 2021\n9:00 AM or 10:00 AM\nvia conference call\n(712)451-0011 – Access Code: 457533#\n \n\n 
URL:https://utruthcenter.org/event/aif-2021-prayer-vigil/2021-10-26/
LOCATION:THIS EVENT IS ONLINE ONLY.\, United States
CATEGORIES:Meetings,Worship
ATTACH;FMTTYPE=image/jpeg:https://utruthcenter.org/wp-content/uploads/2021/08/AIF2021_PrayerVigil-CalArt.jpg
END:VEVENT
BEGIN:VEVENT
DTSTART;TZID=America/New_York:20211025T100000
DTEND;TZID=America/New_York:20211025T110000
DTSTAMP:20260425T073546
CREATED:20210822T184058Z
LAST-MODIFIED:20210822T184518Z
UID:10000210-1635156000-1635159600@utruthcenter.org
SUMMARY:AIF 2021 Prayer Vigil
DESCRIPTION:Saturday\, September 4th\, 2021\n9:00 AM or 10:00 AM\nvia conference call\n(712)451-0011 – Access Code: 457533#\n \n\n 
URL:https://utruthcenter.org/event/aif-2021-prayer-vigil/2021-10-25/
LOCATION:THIS EVENT IS ONLINE ONLY.\, United States
CATEGORIES:Meetings,Worship
ATTACH;FMTTYPE=image/jpeg:https://utruthcenter.org/wp-content/uploads/2021/08/AIF2021_PrayerVigil-CalArt.jpg
END:VEVENT
BEGIN:VEVENT
DTSTART;TZID=America/New_York:20211025T080000
DTEND;TZID=America/New_York:20211025T090000
DTSTAMP:20260425T073546
CREATED:20210920T180022Z
LAST-MODIFIED:20210920T180838Z
UID:10000576-1635148800-1635152400@utruthcenter.org
SUMMARY:UTC Morning Prayer Line
DESCRIPTION:PRAYER LINE: 716-427-1108\nAccess Code: 457533\nCOME JOIN US EVERY MORNING @ 8AM.
URL:https://utruthcenter.org/event/utc-morning-prayer-line/2021-10-25/
LOCATION:THIS EVENT IS ONLINE ONLY.\, United States
CATEGORIES:Events,Meetings
ATTACH;FMTTYPE=image/png:https://utruthcenter.org/wp-content/uploads/2021/09/UTC-PRAYER_LINE-min-CalArt.png
END:VEVENT
BEGIN:VEVENT
DTSTART;TZID=America/New_York:20211024T100000
DTEND;TZID=America/New_York:20211024T123000
DTSTAMP:20260425T073546
CREATED:20210821T014849Z
LAST-MODIFIED:20210904T221043Z
UID:10000155-1635069600-1635078600@utruthcenter.org
SUMMARY:Level Up Your Detachment
DESCRIPTION:AIF 2021: Level Up Your Success\nFINANCIAL UNFOLDMENT\n\nLESSON TITLE: \nLevel Up Your Detachment\n\nTEACHER: \n \nRev. Charles M. Taylor\n\nAIF 2021 Text: Chapter 6 \n\nThe Seven Spiritual Laws of Success\nby Deepak Chopra \n\nRESPONSIVE READING: \nDaily Inspiration Pg. 72 \n\nSCRIPTURE: \n3 John 1:2 (NKJV) \n\nColor: Orange\nPower: Zeal\nDisciple: Simon\nWomen of the Chalice: Ruth\nPhysical Location: Medulla\nMinistry: Stewardship \n\n 
URL:https://utruthcenter.org/event/level-up-your-detachment/
LOCATION:THIS IS AN ONLINE ONLY WORSHIP EXPERIENCE.\, THIS IS AN ONLINE ONLY WORSHIP EXPERIENCE.\, FL\, 33056\, United States
CATEGORIES:Events,Worship
ATTACH;FMTTYPE=image/jpeg:https://utruthcenter.org/wp-content/uploads/2021/08/AIF2021_CALART-financial.jpg
END:VEVENT
BEGIN:VEVENT
DTSTART;TZID=America/New_York:20211024T100000
DTEND;TZID=America/New_York:20211024T110000
DTSTAMP:20260425T073546
CREATED:20210822T184058Z
LAST-MODIFIED:20210822T184518Z
UID:10000209-1635069600-1635073200@utruthcenter.org
SUMMARY:AIF 2021 Prayer Vigil
DESCRIPTION:Saturday\, September 4th\, 2021\n9:00 AM or 10:00 AM\nvia conference call\n(712)451-0011 – Access Code: 457533#\n \n\n 
URL:https://utruthcenter.org/event/aif-2021-prayer-vigil/2021-10-24/
LOCATION:THIS EVENT IS ONLINE ONLY.\, United States
CATEGORIES:Meetings,Worship
ATTACH;FMTTYPE=image/jpeg:https://utruthcenter.org/wp-content/uploads/2021/08/AIF2021_PrayerVigil-CalArt.jpg
END:VEVENT
BEGIN:VEVENT
DTSTART;TZID=America/New_York:20211023T100000
DTEND;TZID=America/New_York:20211023T120000
DTSTAMP:20260425T073546
CREATED:20210908T200225Z
LAST-MODIFIED:20211018T181815Z
UID:10000569-1634983200-1634990400@utruthcenter.org
SUMMARY:The Gospel of Thomas Workshop
DESCRIPTION:PART 1: September 25th\, 2021\nPART 2: October 23rd\, 2021\nTeacher: Rev Yanick Douyon \n\nRegister and Pay Online\n\n 
URL:https://utruthcenter.org/event/the-gospel-of-thomas-workshop/2021-10-23/
LOCATION:THIS EVENT IS ONLINE ONLY.\, United States
CATEGORIES:Classes,Workshop
ATTACH;FMTTYPE=image/jpeg:https://utruthcenter.org/wp-content/uploads/2021/09/WS-gospel_of_Thomas-CalArt.jpg
END:VEVENT
BEGIN:VEVENT
DTSTART;TZID=America/New_York:20211023T100000
DTEND;TZID=America/New_York:20211023T110000
DTSTAMP:20260425T073546
CREATED:20210822T184058Z
LAST-MODIFIED:20210822T184518Z
UID:10000208-1634983200-1634986800@utruthcenter.org
SUMMARY:AIF 2021 Prayer Vigil
DESCRIPTION:Saturday\, September 4th\, 2021\n9:00 AM or 10:00 AM\nvia conference call\n(712)451-0011 – Access Code: 457533#\n \n\n 
URL:https://utruthcenter.org/event/aif-2021-prayer-vigil/2021-10-23/
LOCATION:THIS EVENT IS ONLINE ONLY.\, United States
CATEGORIES:Meetings,Worship
ATTACH;FMTTYPE=image/jpeg:https://utruthcenter.org/wp-content/uploads/2021/08/AIF2021_PrayerVigil-CalArt.jpg
END:VEVENT
BEGIN:VEVENT
DTSTART;TZID=America/New_York:20211022T190000
DTEND;TZID=America/New_York:20211022T210000
DTSTAMP:20260425T073546
CREATED:20211017T134038Z
LAST-MODIFIED:20211017T134038Z
UID:10000586-1634929200-1634936400@utruthcenter.org
SUMMARY:UTC Virtual Game Night
DESCRIPTION:UNIVERSAL TRUTH CENTER\npresents \nVIRTUAL GAME NIGHT\nA Night for Family Fun!\nVIA ZOOM\nMeeting ID: 820 7021 3657\nPasscode: 026178\nFamily Fued\, Trivia\, Music\, & Prizes!\nInvite your friends\, co-workers or family to join the event!
URL:https://utruthcenter.org/event/utc-virtual-game-night/
LOCATION:THIS EVENT IS ONLINE ONLY.\, United States
CATEGORIES:Events
ATTACH;FMTTYPE=image/gif:https://utruthcenter.org/wp-content/uploads/2021/10/UTC_Virtual_Game_Night_Oct2021-CalArt.gif
END:VEVENT
BEGIN:VEVENT
DTSTART;TZID=America/New_York:20211022T100000
DTEND;TZID=America/New_York:20211022T110000
DTSTAMP:20260425T073546
CREATED:20210822T184058Z
LAST-MODIFIED:20210822T184518Z
UID:10000207-1634896800-1634900400@utruthcenter.org
SUMMARY:AIF 2021 Prayer Vigil
DESCRIPTION:Saturday\, September 4th\, 2021\n9:00 AM or 10:00 AM\nvia conference call\n(712)451-0011 – Access Code: 457533#\n \n\n 
URL:https://utruthcenter.org/event/aif-2021-prayer-vigil/2021-10-22/
LOCATION:THIS EVENT IS ONLINE ONLY.\, United States
CATEGORIES:Meetings,Worship
ATTACH;FMTTYPE=image/jpeg:https://utruthcenter.org/wp-content/uploads/2021/08/AIF2021_PrayerVigil-CalArt.jpg
END:VEVENT
BEGIN:VEVENT
DTSTART;TZID=America/New_York:20211021T100000
DTEND;TZID=America/New_York:20211021T110000
DTSTAMP:20260425T073546
CREATED:20210822T184058Z
LAST-MODIFIED:20210822T184518Z
UID:10000206-1634810400-1634814000@utruthcenter.org
SUMMARY:AIF 2021 Prayer Vigil
DESCRIPTION:Saturday\, September 4th\, 2021\n9:00 AM or 10:00 AM\nvia conference call\n(712)451-0011 – Access Code: 457533#\n \n\n 
URL:https://utruthcenter.org/event/aif-2021-prayer-vigil/2021-10-21/
LOCATION:THIS EVENT IS ONLINE ONLY.\, United States
CATEGORIES:Meetings,Worship
ATTACH;FMTTYPE=image/jpeg:https://utruthcenter.org/wp-content/uploads/2021/08/AIF2021_PrayerVigil-CalArt.jpg
END:VEVENT
BEGIN:VEVENT
DTSTART;TZID=America/New_York:20211020T100000
DTEND;TZID=America/New_York:20211020T110000
DTSTAMP:20260425T073546
CREATED:20210822T184058Z
LAST-MODIFIED:20210822T184518Z
UID:10000205-1634724000-1634727600@utruthcenter.org
SUMMARY:AIF 2021 Prayer Vigil
DESCRIPTION:Saturday\, September 4th\, 2021\n9:00 AM or 10:00 AM\nvia conference call\n(712)451-0011 – Access Code: 457533#\n \n\n 
URL:https://utruthcenter.org/event/aif-2021-prayer-vigil/2021-10-20/
LOCATION:THIS EVENT IS ONLINE ONLY.\, United States
CATEGORIES:Meetings,Worship
ATTACH;FMTTYPE=image/jpeg:https://utruthcenter.org/wp-content/uploads/2021/08/AIF2021_PrayerVigil-CalArt.jpg
END:VEVENT
BEGIN:VEVENT
DTSTART;TZID=America/New_York:20211019T180000
DTEND;TZID=America/New_York:20211019T200000
DTSTAMP:20260425T073546
CREATED:20201212T174501Z
LAST-MODIFIED:20210501T175633Z
UID:10000080-1634666400-1634673600@utruthcenter.org
SUMMARY:Tuesday Prayer Meeting
DESCRIPTION:Join us for a TUESDAY NIGHT PRAYER MEETING!\nThe dial-in number is: 712-451-0011 \nThe pin is: 457533# \nBE THERE!
URL:https://utruthcenter.org/event/tuesday-prayer-meeting-2/2021-10-19/
LOCATION:THIS IS AN ONLINE ONLY WORSHIP EXPERIENCE.\, THIS IS AN ONLINE ONLY WORSHIP EXPERIENCE.\, FL\, 33056\, United States
CATEGORIES:Meetings,Worship
ATTACH;FMTTYPE=image/jpeg:https://utruthcenter.org/wp-content/uploads/2020/12/prayerMTGs_2021-CalArt.jpg
END:VEVENT
BEGIN:VEVENT
DTSTART;TZID=America/New_York:20211019T100000
DTEND;TZID=America/New_York:20211019T110000
DTSTAMP:20260425T073546
CREATED:20210822T184058Z
LAST-MODIFIED:20210822T184518Z
UID:10000204-1634637600-1634641200@utruthcenter.org
SUMMARY:AIF 2021 Prayer Vigil
DESCRIPTION:Saturday\, September 4th\, 2021\n9:00 AM or 10:00 AM\nvia conference call\n(712)451-0011 – Access Code: 457533#\n \n\n 
URL:https://utruthcenter.org/event/aif-2021-prayer-vigil/2021-10-19/
LOCATION:THIS EVENT IS ONLINE ONLY.\, United States
CATEGORIES:Meetings,Worship
ATTACH;FMTTYPE=image/jpeg:https://utruthcenter.org/wp-content/uploads/2021/08/AIF2021_PrayerVigil-CalArt.jpg
END:VEVENT
BEGIN:VEVENT
DTSTART;TZID=America/New_York:20211018T100000
DTEND;TZID=America/New_York:20211018T110000
DTSTAMP:20260425T073546
CREATED:20210822T184058Z
LAST-MODIFIED:20210822T184518Z
UID:10000203-1634551200-1634554800@utruthcenter.org
SUMMARY:AIF 2021 Prayer Vigil
DESCRIPTION:Saturday\, September 4th\, 2021\n9:00 AM or 10:00 AM\nvia conference call\n(712)451-0011 – Access Code: 457533#\n \n\n 
URL:https://utruthcenter.org/event/aif-2021-prayer-vigil/2021-10-18/
LOCATION:THIS EVENT IS ONLINE ONLY.\, United States
CATEGORIES:Meetings,Worship
ATTACH;FMTTYPE=image/jpeg:https://utruthcenter.org/wp-content/uploads/2021/08/AIF2021_PrayerVigil-CalArt.jpg
END:VEVENT
BEGIN:VEVENT
DTSTART;TZID=America/New_York:20211018T080000
DTEND;TZID=America/New_York:20211018T090000
DTSTAMP:20260425T073546
CREATED:20210920T180022Z
LAST-MODIFIED:20210920T180838Z
UID:10000575-1634544000-1634547600@utruthcenter.org
SUMMARY:UTC Morning Prayer Line
DESCRIPTION:PRAYER LINE: 716-427-1108\nAccess Code: 457533\nCOME JOIN US EVERY MORNING @ 8AM.
URL:https://utruthcenter.org/event/utc-morning-prayer-line/2021-10-18/
LOCATION:THIS EVENT IS ONLINE ONLY.\, United States
CATEGORIES:Events,Meetings
ATTACH;FMTTYPE=image/png:https://utruthcenter.org/wp-content/uploads/2021/09/UTC-PRAYER_LINE-min-CalArt.png
END:VEVENT
BEGIN:VEVENT
DTSTART;TZID=America/New_York:20211017T100000
DTEND;TZID=America/New_York:20211017T123000
DTSTAMP:20260425T073546
CREATED:20210821T014317Z
LAST-MODIFIED:20210904T220950Z
UID:10000154-1634464800-1634473800@utruthcenter.org
SUMMARY:Level Up Your Purpose
DESCRIPTION:AIF 2021: Level Up Your Success\nSOCIAL UNFOLDMENT\n\nLESSON TITLE: \nLevel Up Your Purpose\n\nTEACHER: \n \nRev. Charles M. Taylor\n\nAIF 2021 Text: Chapter 7 \n\nThe Seven Spiritual Laws of Success\nby Deepak Chopra \n\nRESPONSIVE READING: \nDaily Inspiration Pg. 68 \n\nSCRIPTURE: \nProverbs 19:21 \n\nColor: Orange\nPower: Zeal\nDisciple: Simon\nWomen of the Chalice: Ruth\nPhysical Location: Medulla\nMinistry: Stewardship \n\n 
URL:https://utruthcenter.org/event/level-up-your-purpose/
LOCATION:THIS IS AN ONLINE ONLY WORSHIP EXPERIENCE.\, THIS IS AN ONLINE ONLY WORSHIP EXPERIENCE.\, FL\, 33056\, United States
CATEGORIES:Events,Worship
ATTACH;FMTTYPE=image/jpeg:https://utruthcenter.org/wp-content/uploads/2021/08/AIF2021_CALART-vocational.jpg
END:VEVENT
END:VCALENDAR