BEGIN:VCALENDAR
VERSION:2.0
PRODID:-//Universal Truth Center - ECPv6.15.17//NONSGML v1.0//EN
CALSCALE:GREGORIAN
METHOD:PUBLISH
X-WR-CALNAME:Universal Truth Center
X-ORIGINAL-URL:https://utruthcenter.org
X-WR-CALDESC:Events for Universal Truth Center
REFRESH-INTERVAL;VALUE=DURATION:PT1H
X-Robots-Tag:noindex
X-PUBLISHED-TTL:PT1H
BEGIN:VTIMEZONE
TZID:America/New_York
BEGIN:DAYLIGHT
TZOFFSETFROM:-0500
TZOFFSETTO:-0400
TZNAME:EDT
DTSTART:20200308T070000
END:DAYLIGHT
BEGIN:STANDARD
TZOFFSETFROM:-0400
TZOFFSETTO:-0500
TZNAME:EST
DTSTART:20201101T060000
END:STANDARD
BEGIN:DAYLIGHT
TZOFFSETFROM:-0500
TZOFFSETTO:-0400
TZNAME:EDT
DTSTART:20210314T070000
END:DAYLIGHT
BEGIN:STANDARD
TZOFFSETFROM:-0400
TZOFFSETTO:-0500
TZNAME:EST
DTSTART:20211107T060000
END:STANDARD
BEGIN:DAYLIGHT
TZOFFSETFROM:-0500
TZOFFSETTO:-0400
TZNAME:EDT
DTSTART:20220313T070000
END:DAYLIGHT
BEGIN:STANDARD
TZOFFSETFROM:-0400
TZOFFSETTO:-0500
TZNAME:EST
DTSTART:20221106T060000
END:STANDARD
END:VTIMEZONE
BEGIN:VEVENT
DTSTART;TZID=America/New_York:20211122T100000
DTEND;TZID=America/New_York:20211122T110000
DTSTAMP:20260424T234101
CREATED:20210822T184058Z
LAST-MODIFIED:20210822T184518Z
UID:10000238-1637575200-1637578800@utruthcenter.org
SUMMARY:AIF 2021 Prayer Vigil
DESCRIPTION:Saturday\, September 4th\, 2021\n9:00 AM or 10:00 AM\nvia conference call\n(712)451-0011 – Access Code: 457533#\n \n\n 
URL:https://utruthcenter.org/event/aif-2021-prayer-vigil/2021-11-22/
LOCATION:THIS EVENT IS ONLINE ONLY.\, United States
CATEGORIES:Meetings,Worship
ATTACH;FMTTYPE=image/jpeg:https://utruthcenter.org/wp-content/uploads/2021/08/AIF2021_PrayerVigil-CalArt.jpg
END:VEVENT
BEGIN:VEVENT
DTSTART;TZID=America/New_York:20211122T080000
DTEND;TZID=America/New_York:20211122T090000
DTSTAMP:20260424T234101
CREATED:20210920T180022Z
LAST-MODIFIED:20210920T180838Z
UID:10000580-1637568000-1637571600@utruthcenter.org
SUMMARY:UTC Morning Prayer Line
DESCRIPTION:PRAYER LINE: 716-427-1108\nAccess Code: 457533\nCOME JOIN US EVERY MORNING @ 8AM.
URL:https://utruthcenter.org/event/utc-morning-prayer-line/2021-11-22/
LOCATION:THIS EVENT IS ONLINE ONLY.\, United States
CATEGORIES:Events,Meetings
ATTACH;FMTTYPE=image/png:https://utruthcenter.org/wp-content/uploads/2021/09/UTC-PRAYER_LINE-min-CalArt.png
END:VEVENT
BEGIN:VEVENT
DTSTART;TZID=America/New_York:20211121T100000
DTEND;TZID=America/New_York:20211121T123000
DTSTAMP:20260424T234101
CREATED:20211021T191244Z
LAST-MODIFIED:20211021T191244Z
UID:10000590-1637488800-1637497800@utruthcenter.org
SUMMARY:The Harvesting Power of Gratitude
DESCRIPTION:THEME: Level Up Your Gratitude Power\n“Founder’s Month”\n\nLESSON TITLE: \nThe Harvesting Power of Gratitude\n\nTEACHER: \n \nShakira Taylor\n\nRESPONSIVE READING: \nDaily Inspiration Pg. 00 \n\nSCRIPTURE: \n2 Corinthians 9:10 \n\nColor: Russet\nPower: Renunciation\nDisciple: Thaddeus\nWomen of the Chalice: Bathsheba\nPhysical Location: Eliminative Organs\nMinistry: Outreach \n\n 
URL:https://utruthcenter.org/event/the-harvesting-power-of-gratitude/
LOCATION:UTC\, 21310 NW 37th Avenue\, Miami Gardens\, FL\, 33056
CATEGORIES:Events,Worship
ATTACH;FMTTYPE=image/jpeg:https://utruthcenter.org/wp-content/uploads/2021/10/November2021_Lesson-CalArt.jpg
GEO:25.9696213;-80.2633696
X-APPLE-STRUCTURED-LOCATION;VALUE=URI;X-ADDRESS=UTC 21310 NW 37th Avenue Miami Gardens FL 33056;X-APPLE-RADIUS=500;X-TITLE=21310 NW 37th Avenue:geo:-80.2633696,25.9696213
END:VEVENT
BEGIN:VEVENT
DTSTART;TZID=America/New_York:20211121T100000
DTEND;TZID=America/New_York:20211121T110000
DTSTAMP:20260424T234101
CREATED:20210822T184058Z
LAST-MODIFIED:20210822T184518Z
UID:10000237-1637488800-1637492400@utruthcenter.org
SUMMARY:AIF 2021 Prayer Vigil
DESCRIPTION:Saturday\, September 4th\, 2021\n9:00 AM or 10:00 AM\nvia conference call\n(712)451-0011 – Access Code: 457533#\n \n\n 
URL:https://utruthcenter.org/event/aif-2021-prayer-vigil/2021-11-21/
LOCATION:THIS EVENT IS ONLINE ONLY.\, United States
CATEGORIES:Meetings,Worship
ATTACH;FMTTYPE=image/jpeg:https://utruthcenter.org/wp-content/uploads/2021/08/AIF2021_PrayerVigil-CalArt.jpg
END:VEVENT
BEGIN:VEVENT
DTSTART;TZID=America/New_York:20211120T100000
DTEND;TZID=America/New_York:20211120T110000
DTSTAMP:20260424T234101
CREATED:20210822T184058Z
LAST-MODIFIED:20210822T184518Z
UID:10000236-1637402400-1637406000@utruthcenter.org
SUMMARY:AIF 2021 Prayer Vigil
DESCRIPTION:Saturday\, September 4th\, 2021\n9:00 AM or 10:00 AM\nvia conference call\n(712)451-0011 – Access Code: 457533#\n \n\n 
URL:https://utruthcenter.org/event/aif-2021-prayer-vigil/2021-11-20/
LOCATION:THIS EVENT IS ONLINE ONLY.\, United States
CATEGORIES:Meetings,Worship
ATTACH;FMTTYPE=image/jpeg:https://utruthcenter.org/wp-content/uploads/2021/08/AIF2021_PrayerVigil-CalArt.jpg
END:VEVENT
BEGIN:VEVENT
DTSTART;TZID=America/New_York:20211120T090000
DTEND;TZID=America/New_York:20211120T100000
DTSTAMP:20260424T234101
CREATED:20211113T160623Z
LAST-MODIFIED:20211113T161159Z
UID:10000593-1637398800-1637402400@utruthcenter.org
SUMMARY:Thanksgiving Prayer Vigil 2021
DESCRIPTION:Join us online for a THANKSGIVING PRAYER VIGIL!\nSaturday\, November 20th @ 9am – 10am\nThe dial-in number is: 716-427-1108 \nThe pin is: 457533# \nBE THERE!\n\n 
URL:https://utruthcenter.org/event/thanksgiving-prayer-vigil/
LOCATION:THIS IS AN ONLINE ONLY WORSHIP EXPERIENCE.\, THIS IS AN ONLINE ONLY WORSHIP EXPERIENCE.\, FL\, 33056\, United States
CATEGORIES:Meetings,Worship
ATTACH;FMTTYPE=image/jpeg:https://utruthcenter.org/wp-content/uploads/2021/11/Thanksgiving2021_prayer_vigil-CalArt.jpg
END:VEVENT
BEGIN:VEVENT
DTSTART;TZID=America/New_York:20211119T100000
DTEND;TZID=America/New_York:20211119T110000
DTSTAMP:20260424T234101
CREATED:20210822T184058Z
LAST-MODIFIED:20210822T184518Z
UID:10000235-1637316000-1637319600@utruthcenter.org
SUMMARY:AIF 2021 Prayer Vigil
DESCRIPTION:Saturday\, September 4th\, 2021\n9:00 AM or 10:00 AM\nvia conference call\n(712)451-0011 – Access Code: 457533#\n \n\n 
URL:https://utruthcenter.org/event/aif-2021-prayer-vigil/2021-11-19/
LOCATION:THIS EVENT IS ONLINE ONLY.\, United States
CATEGORIES:Meetings,Worship
ATTACH;FMTTYPE=image/jpeg:https://utruthcenter.org/wp-content/uploads/2021/08/AIF2021_PrayerVigil-CalArt.jpg
END:VEVENT
BEGIN:VEVENT
DTSTART;TZID=America/New_York:20211118T100000
DTEND;TZID=America/New_York:20211118T110000
DTSTAMP:20260424T234101
CREATED:20210822T184058Z
LAST-MODIFIED:20210822T184518Z
UID:10000234-1637229600-1637233200@utruthcenter.org
SUMMARY:AIF 2021 Prayer Vigil
DESCRIPTION:Saturday\, September 4th\, 2021\n9:00 AM or 10:00 AM\nvia conference call\n(712)451-0011 – Access Code: 457533#\n \n\n 
URL:https://utruthcenter.org/event/aif-2021-prayer-vigil/2021-11-18/
LOCATION:THIS EVENT IS ONLINE ONLY.\, United States
CATEGORIES:Meetings,Worship
ATTACH;FMTTYPE=image/jpeg:https://utruthcenter.org/wp-content/uploads/2021/08/AIF2021_PrayerVigil-CalArt.jpg
END:VEVENT
BEGIN:VEVENT
DTSTART;TZID=America/New_York:20211117T100000
DTEND;TZID=America/New_York:20211117T110000
DTSTAMP:20260424T234101
CREATED:20210822T184058Z
LAST-MODIFIED:20210822T184518Z
UID:10000233-1637143200-1637146800@utruthcenter.org
SUMMARY:AIF 2021 Prayer Vigil
DESCRIPTION:Saturday\, September 4th\, 2021\n9:00 AM or 10:00 AM\nvia conference call\n(712)451-0011 – Access Code: 457533#\n \n\n 
URL:https://utruthcenter.org/event/aif-2021-prayer-vigil/2021-11-17/
LOCATION:THIS EVENT IS ONLINE ONLY.\, United States
CATEGORIES:Meetings,Worship
ATTACH;FMTTYPE=image/jpeg:https://utruthcenter.org/wp-content/uploads/2021/08/AIF2021_PrayerVigil-CalArt.jpg
END:VEVENT
BEGIN:VEVENT
DTSTART;TZID=America/New_York:20211116T180000
DTEND;TZID=America/New_York:20211116T200000
DTSTAMP:20260424T234101
CREATED:20201212T174501Z
LAST-MODIFIED:20210501T175633Z
UID:10000084-1637085600-1637092800@utruthcenter.org
SUMMARY:Tuesday Prayer Meeting
DESCRIPTION:Join us for a TUESDAY NIGHT PRAYER MEETING!\nThe dial-in number is: 712-451-0011 \nThe pin is: 457533# \nBE THERE!
URL:https://utruthcenter.org/event/tuesday-prayer-meeting-2/2021-11-16/
LOCATION:THIS IS AN ONLINE ONLY WORSHIP EXPERIENCE.\, THIS IS AN ONLINE ONLY WORSHIP EXPERIENCE.\, FL\, 33056\, United States
CATEGORIES:Meetings,Worship
ATTACH;FMTTYPE=image/jpeg:https://utruthcenter.org/wp-content/uploads/2020/12/prayerMTGs_2021-CalArt.jpg
END:VEVENT
BEGIN:VEVENT
DTSTART;TZID=America/New_York:20211116T100000
DTEND;TZID=America/New_York:20211116T110000
DTSTAMP:20260424T234101
CREATED:20210822T184058Z
LAST-MODIFIED:20210822T184518Z
UID:10000232-1637056800-1637060400@utruthcenter.org
SUMMARY:AIF 2021 Prayer Vigil
DESCRIPTION:Saturday\, September 4th\, 2021\n9:00 AM or 10:00 AM\nvia conference call\n(712)451-0011 – Access Code: 457533#\n \n\n 
URL:https://utruthcenter.org/event/aif-2021-prayer-vigil/2021-11-16/
LOCATION:THIS EVENT IS ONLINE ONLY.\, United States
CATEGORIES:Meetings,Worship
ATTACH;FMTTYPE=image/jpeg:https://utruthcenter.org/wp-content/uploads/2021/08/AIF2021_PrayerVigil-CalArt.jpg
END:VEVENT
BEGIN:VEVENT
DTSTART;TZID=America/New_York:20211115T100000
DTEND;TZID=America/New_York:20211115T110000
DTSTAMP:20260424T234101
CREATED:20210822T184058Z
LAST-MODIFIED:20210822T184518Z
UID:10000231-1636970400-1636974000@utruthcenter.org
SUMMARY:AIF 2021 Prayer Vigil
DESCRIPTION:Saturday\, September 4th\, 2021\n9:00 AM or 10:00 AM\nvia conference call\n(712)451-0011 – Access Code: 457533#\n \n\n 
URL:https://utruthcenter.org/event/aif-2021-prayer-vigil/2021-11-15/
LOCATION:THIS EVENT IS ONLINE ONLY.\, United States
CATEGORIES:Meetings,Worship
ATTACH;FMTTYPE=image/jpeg:https://utruthcenter.org/wp-content/uploads/2021/08/AIF2021_PrayerVigil-CalArt.jpg
END:VEVENT
BEGIN:VEVENT
DTSTART;TZID=America/New_York:20211115T080000
DTEND;TZID=America/New_York:20211115T090000
DTSTAMP:20260424T234101
CREATED:20210920T180022Z
LAST-MODIFIED:20210920T180838Z
UID:10000579-1636963200-1636966800@utruthcenter.org
SUMMARY:UTC Morning Prayer Line
DESCRIPTION:PRAYER LINE: 716-427-1108\nAccess Code: 457533\nCOME JOIN US EVERY MORNING @ 8AM.
URL:https://utruthcenter.org/event/utc-morning-prayer-line/2021-11-15/
LOCATION:THIS EVENT IS ONLINE ONLY.\, United States
CATEGORIES:Events,Meetings
ATTACH;FMTTYPE=image/png:https://utruthcenter.org/wp-content/uploads/2021/09/UTC-PRAYER_LINE-min-CalArt.png
END:VEVENT
BEGIN:VEVENT
DTSTART;TZID=America/New_York:20211114T100000
DTEND;TZID=America/New_York:20211114T123000
DTSTAMP:20260424T234101
CREATED:20211021T190937Z
LAST-MODIFIED:20211021T190937Z
UID:10000589-1636884000-1636893000@utruthcenter.org
SUMMARY:The Healing Power of Gratitude
DESCRIPTION:THEME: Level Up Your Gratitude Power\n“Founder’s Month”\n\nLESSON TITLE: \nThe Healing Power of Gratitude\nAnniversary/Graduation Sunday\n \n\nTEACHER: \n \nRev. Dr. Sheila McKeithen\n\nRESPONSIVE READING: \nDaily Inspiration Pg. 00 \n\nSCRIPTURE: \nLuke 17:11-14 \n\nColor: Russet\nPower: Renunciation\nDisciple: Thaddeus\nWomen of the Chalice: Bathsheba\nPhysical Location: Eliminative Organs\nMinistry: Outreach \n\n 
URL:https://utruthcenter.org/event/the-healing-power-of-gratitude/
LOCATION:UTC\, 21310 NW 37th Avenue\, Miami Gardens\, FL\, 33056
CATEGORIES:Events,Worship
ATTACH;FMTTYPE=image/jpeg:https://utruthcenter.org/wp-content/uploads/2021/10/November2021_Lesson-CalArt.jpg
GEO:25.9696213;-80.2633696
X-APPLE-STRUCTURED-LOCATION;VALUE=URI;X-ADDRESS=UTC 21310 NW 37th Avenue Miami Gardens FL 33056;X-APPLE-RADIUS=500;X-TITLE=21310 NW 37th Avenue:geo:-80.2633696,25.9696213
END:VEVENT
BEGIN:VEVENT
DTSTART;TZID=America/New_York:20211114T100000
DTEND;TZID=America/New_York:20211114T110000
DTSTAMP:20260424T234101
CREATED:20210822T184058Z
LAST-MODIFIED:20210822T184518Z
UID:10000230-1636884000-1636887600@utruthcenter.org
SUMMARY:AIF 2021 Prayer Vigil
DESCRIPTION:Saturday\, September 4th\, 2021\n9:00 AM or 10:00 AM\nvia conference call\n(712)451-0011 – Access Code: 457533#\n \n\n 
URL:https://utruthcenter.org/event/aif-2021-prayer-vigil/2021-11-14/
LOCATION:THIS EVENT IS ONLINE ONLY.\, United States
CATEGORIES:Meetings,Worship
ATTACH;FMTTYPE=image/jpeg:https://utruthcenter.org/wp-content/uploads/2021/08/AIF2021_PrayerVigil-CalArt.jpg
END:VEVENT
BEGIN:VEVENT
DTSTART;TZID=America/New_York:20211114T095500
DTEND;TZID=America/New_York:20211114T123000
DTSTAMP:20260424T234101
CREATED:20211021T192424Z
LAST-MODIFIED:20211021T192553Z
UID:10000592-1636883700-1636893000@utruthcenter.org
SUMMARY:Anniversary/Graduation Sunday
DESCRIPTION:Join us as we acknowledge all of our graduates! \n\n 
URL:https://utruthcenter.org/event/anniversary-graduation-sunday/
LOCATION:UTC Online\, THIS IS AN ONLINE SERVICE ONLY EXPERIENCE.
CATEGORIES:Events
ATTACH;FMTTYPE=image/png:https://utruthcenter.org/wp-content/uploads/2021/10/UTC_graduation-CalArt.png
END:VEVENT
BEGIN:VEVENT
DTSTART;TZID=America/New_York:20211113T100000
DTEND;TZID=America/New_York:20211113T110000
DTSTAMP:20260424T234101
CREATED:20210822T184058Z
LAST-MODIFIED:20210822T184518Z
UID:10000229-1636797600-1636801200@utruthcenter.org
SUMMARY:AIF 2021 Prayer Vigil
DESCRIPTION:Saturday\, September 4th\, 2021\n9:00 AM or 10:00 AM\nvia conference call\n(712)451-0011 – Access Code: 457533#\n \n\n 
URL:https://utruthcenter.org/event/aif-2021-prayer-vigil/2021-11-13/
LOCATION:THIS EVENT IS ONLINE ONLY.\, United States
CATEGORIES:Meetings,Worship
ATTACH;FMTTYPE=image/jpeg:https://utruthcenter.org/wp-content/uploads/2021/08/AIF2021_PrayerVigil-CalArt.jpg
END:VEVENT
BEGIN:VEVENT
DTSTART;TZID=America/New_York:20211112T100000
DTEND;TZID=America/New_York:20211112T110000
DTSTAMP:20260424T234101
CREATED:20210822T184058Z
LAST-MODIFIED:20210822T184518Z
UID:10000228-1636711200-1636714800@utruthcenter.org
SUMMARY:AIF 2021 Prayer Vigil
DESCRIPTION:Saturday\, September 4th\, 2021\n9:00 AM or 10:00 AM\nvia conference call\n(712)451-0011 – Access Code: 457533#\n \n\n 
URL:https://utruthcenter.org/event/aif-2021-prayer-vigil/2021-11-12/
LOCATION:THIS EVENT IS ONLINE ONLY.\, United States
CATEGORIES:Meetings,Worship
ATTACH;FMTTYPE=image/jpeg:https://utruthcenter.org/wp-content/uploads/2021/08/AIF2021_PrayerVigil-CalArt.jpg
END:VEVENT
BEGIN:VEVENT
DTSTART;TZID=America/New_York:20211111T100000
DTEND;TZID=America/New_York:20211111T110000
DTSTAMP:20260424T234101
CREATED:20210822T184058Z
LAST-MODIFIED:20210822T184518Z
UID:10000227-1636624800-1636628400@utruthcenter.org
SUMMARY:AIF 2021 Prayer Vigil
DESCRIPTION:Saturday\, September 4th\, 2021\n9:00 AM or 10:00 AM\nvia conference call\n(712)451-0011 – Access Code: 457533#\n \n\n 
URL:https://utruthcenter.org/event/aif-2021-prayer-vigil/2021-11-11/
LOCATION:THIS EVENT IS ONLINE ONLY.\, United States
CATEGORIES:Meetings,Worship
ATTACH;FMTTYPE=image/jpeg:https://utruthcenter.org/wp-content/uploads/2021/08/AIF2021_PrayerVigil-CalArt.jpg
END:VEVENT
BEGIN:VEVENT
DTSTART;TZID=America/New_York:20211110T100000
DTEND;TZID=America/New_York:20211110T110000
DTSTAMP:20260424T234101
CREATED:20210822T184058Z
LAST-MODIFIED:20210822T184518Z
UID:10000226-1636538400-1636542000@utruthcenter.org
SUMMARY:AIF 2021 Prayer Vigil
DESCRIPTION:Saturday\, September 4th\, 2021\n9:00 AM or 10:00 AM\nvia conference call\n(712)451-0011 – Access Code: 457533#\n \n\n 
URL:https://utruthcenter.org/event/aif-2021-prayer-vigil/2021-11-10/
LOCATION:THIS EVENT IS ONLINE ONLY.\, United States
CATEGORIES:Meetings,Worship
ATTACH;FMTTYPE=image/jpeg:https://utruthcenter.org/wp-content/uploads/2021/08/AIF2021_PrayerVigil-CalArt.jpg
END:VEVENT
BEGIN:VEVENT
DTSTART;TZID=America/New_York:20211109T180000
DTEND;TZID=America/New_York:20211109T200000
DTSTAMP:20260424T234101
CREATED:20201212T174501Z
LAST-MODIFIED:20210501T175633Z
UID:10000083-1636480800-1636488000@utruthcenter.org
SUMMARY:Tuesday Prayer Meeting
DESCRIPTION:Join us for a TUESDAY NIGHT PRAYER MEETING!\nThe dial-in number is: 712-451-0011 \nThe pin is: 457533# \nBE THERE!
URL:https://utruthcenter.org/event/tuesday-prayer-meeting-2/2021-11-09/
LOCATION:THIS IS AN ONLINE ONLY WORSHIP EXPERIENCE.\, THIS IS AN ONLINE ONLY WORSHIP EXPERIENCE.\, FL\, 33056\, United States
CATEGORIES:Meetings,Worship
ATTACH;FMTTYPE=image/jpeg:https://utruthcenter.org/wp-content/uploads/2020/12/prayerMTGs_2021-CalArt.jpg
END:VEVENT
BEGIN:VEVENT
DTSTART;TZID=America/New_York:20211109T100000
DTEND;TZID=America/New_York:20211109T110000
DTSTAMP:20260424T234101
CREATED:20210822T184058Z
LAST-MODIFIED:20210822T184518Z
UID:10000225-1636452000-1636455600@utruthcenter.org
SUMMARY:AIF 2021 Prayer Vigil
DESCRIPTION:Saturday\, September 4th\, 2021\n9:00 AM or 10:00 AM\nvia conference call\n(712)451-0011 – Access Code: 457533#\n \n\n 
URL:https://utruthcenter.org/event/aif-2021-prayer-vigil/2021-11-09/
LOCATION:THIS EVENT IS ONLINE ONLY.\, United States
CATEGORIES:Meetings,Worship
ATTACH;FMTTYPE=image/jpeg:https://utruthcenter.org/wp-content/uploads/2021/08/AIF2021_PrayerVigil-CalArt.jpg
END:VEVENT
BEGIN:VEVENT
DTSTART;TZID=America/New_York:20211108T100000
DTEND;TZID=America/New_York:20211108T110000
DTSTAMP:20260424T234101
CREATED:20210822T184058Z
LAST-MODIFIED:20210822T184518Z
UID:10000224-1636365600-1636369200@utruthcenter.org
SUMMARY:AIF 2021 Prayer Vigil
DESCRIPTION:Saturday\, September 4th\, 2021\n9:00 AM or 10:00 AM\nvia conference call\n(712)451-0011 – Access Code: 457533#\n \n\n 
URL:https://utruthcenter.org/event/aif-2021-prayer-vigil/2021-11-08/
LOCATION:THIS EVENT IS ONLINE ONLY.\, United States
CATEGORIES:Meetings,Worship
ATTACH;FMTTYPE=image/jpeg:https://utruthcenter.org/wp-content/uploads/2021/08/AIF2021_PrayerVigil-CalArt.jpg
END:VEVENT
BEGIN:VEVENT
DTSTART;TZID=America/New_York:20211108T080000
DTEND;TZID=America/New_York:20211108T090000
DTSTAMP:20260424T234101
CREATED:20210920T180022Z
LAST-MODIFIED:20210920T180838Z
UID:10000578-1636358400-1636362000@utruthcenter.org
SUMMARY:UTC Morning Prayer Line
DESCRIPTION:PRAYER LINE: 716-427-1108\nAccess Code: 457533\nCOME JOIN US EVERY MORNING @ 8AM.
URL:https://utruthcenter.org/event/utc-morning-prayer-line/2021-11-08/
LOCATION:THIS EVENT IS ONLINE ONLY.\, United States
CATEGORIES:Events,Meetings
ATTACH;FMTTYPE=image/png:https://utruthcenter.org/wp-content/uploads/2021/09/UTC-PRAYER_LINE-min-CalArt.png
END:VEVENT
BEGIN:VEVENT
DTSTART;TZID=America/New_York:20211107T100000
DTEND;TZID=America/New_York:20211107T123000
DTSTAMP:20260424T234101
CREATED:20211021T184603Z
LAST-MODIFIED:20211021T184808Z
UID:10000588-1636279200-1636288200@utruthcenter.org
SUMMARY:The Power of Gratitude
DESCRIPTION:THEME: Level Up Your Gratitude Power\n“Founder’s Month”\n\nLESSON TITLE: \nThe Power of Gratitude\n\nTEACHER: \n \nRev. Yanick Douyon\n\nRESPONSIVE READING: \nDaily Inspiration Pg. 00 \n\nSCRIPTURE: \n1 Thessalonians 5:16-18 \n\nColor: Russet\nPower: Renunciation\nDisciple: Thaddeus\nWomen of the Chalice: Bathsheba\nPhysical Location: Eliminative Organs\nMinistry: Outreach \n\n 
URL:https://utruthcenter.org/event/the-power-of-gratitude/
LOCATION:UTC\, 21310 NW 37th Avenue\, Miami Gardens\, FL\, 33056
CATEGORIES:Events,Worship
ATTACH;FMTTYPE=image/jpeg:https://utruthcenter.org/wp-content/uploads/2021/10/November2021_Lesson-CalArt.jpg
GEO:25.9696213;-80.2633696
X-APPLE-STRUCTURED-LOCATION;VALUE=URI;X-ADDRESS=UTC 21310 NW 37th Avenue Miami Gardens FL 33056;X-APPLE-RADIUS=500;X-TITLE=21310 NW 37th Avenue:geo:-80.2633696,25.9696213
END:VEVENT
BEGIN:VEVENT
DTSTART;TZID=America/New_York:20211107T100000
DTEND;TZID=America/New_York:20211107T110000
DTSTAMP:20260424T234101
CREATED:20210822T184058Z
LAST-MODIFIED:20210822T184518Z
UID:10000223-1636279200-1636282800@utruthcenter.org
SUMMARY:AIF 2021 Prayer Vigil
DESCRIPTION:Saturday\, September 4th\, 2021\n9:00 AM or 10:00 AM\nvia conference call\n(712)451-0011 – Access Code: 457533#\n \n\n 
URL:https://utruthcenter.org/event/aif-2021-prayer-vigil/2021-11-07/
LOCATION:THIS EVENT IS ONLINE ONLY.\, United States
CATEGORIES:Meetings,Worship
ATTACH;FMTTYPE=image/jpeg:https://utruthcenter.org/wp-content/uploads/2021/08/AIF2021_PrayerVigil-CalArt.jpg
END:VEVENT
BEGIN:VEVENT
DTSTART;TZID=America/New_York:20211106T100000
DTEND;TZID=America/New_York:20211106T110000
DTSTAMP:20260424T234101
CREATED:20210822T184058Z
LAST-MODIFIED:20210822T184518Z
UID:10000222-1636192800-1636196400@utruthcenter.org
SUMMARY:AIF 2021 Prayer Vigil
DESCRIPTION:Saturday\, September 4th\, 2021\n9:00 AM or 10:00 AM\nvia conference call\n(712)451-0011 – Access Code: 457533#\n \n\n 
URL:https://utruthcenter.org/event/aif-2021-prayer-vigil/2021-11-06/
LOCATION:THIS EVENT IS ONLINE ONLY.\, United States
CATEGORIES:Meetings,Worship
ATTACH;FMTTYPE=image/jpeg:https://utruthcenter.org/wp-content/uploads/2021/08/AIF2021_PrayerVigil-CalArt.jpg
END:VEVENT
BEGIN:VEVENT
DTSTART;TZID=America/New_York:20211105T100000
DTEND;TZID=America/New_York:20211105T110000
DTSTAMP:20260424T234101
CREATED:20210822T184058Z
LAST-MODIFIED:20210822T184518Z
UID:10000221-1636106400-1636110000@utruthcenter.org
SUMMARY:AIF 2021 Prayer Vigil
DESCRIPTION:Saturday\, September 4th\, 2021\n9:00 AM or 10:00 AM\nvia conference call\n(712)451-0011 – Access Code: 457533#\n \n\n 
URL:https://utruthcenter.org/event/aif-2021-prayer-vigil/2021-11-05/
LOCATION:THIS EVENT IS ONLINE ONLY.\, United States
CATEGORIES:Meetings,Worship
ATTACH;FMTTYPE=image/jpeg:https://utruthcenter.org/wp-content/uploads/2021/08/AIF2021_PrayerVigil-CalArt.jpg
END:VEVENT
BEGIN:VEVENT
DTSTART;TZID=America/New_York:20211104T100000
DTEND;TZID=America/New_York:20211104T110000
DTSTAMP:20260424T234101
CREATED:20210822T184058Z
LAST-MODIFIED:20210822T184518Z
UID:10000220-1636020000-1636023600@utruthcenter.org
SUMMARY:AIF 2021 Prayer Vigil
DESCRIPTION:Saturday\, September 4th\, 2021\n9:00 AM or 10:00 AM\nvia conference call\n(712)451-0011 – Access Code: 457533#\n \n\n 
URL:https://utruthcenter.org/event/aif-2021-prayer-vigil/2021-11-04/
LOCATION:THIS EVENT IS ONLINE ONLY.\, United States
CATEGORIES:Meetings,Worship
ATTACH;FMTTYPE=image/jpeg:https://utruthcenter.org/wp-content/uploads/2021/08/AIF2021_PrayerVigil-CalArt.jpg
END:VEVENT
BEGIN:VEVENT
DTSTART;TZID=America/New_York:20211103T183000
DTEND;TZID=America/New_York:20211103T203000
DTSTAMP:20260424T234101
CREATED:20210501T175313Z
LAST-MODIFIED:20210908T192357Z
UID:10000126-1635964200-1635971400@utruthcenter.org
SUMMARY:Conversations with the Minister
DESCRIPTION:JOIN THE CONVERSATION!\nEVERY FIRST WEDNESDAY OF THE MONTH @ 6:30 PM.\n \nONLINE MEETING VIA ZOOM\n\nMEETING ID: 917 2196 5277\nPASSWORD: 307706\n\n\nSEE YOU THERE!
URL:https://utruthcenter.org/event/conversations-with-the-minister/2021-11-03/
LOCATION:THIS IS AN ONLINE ONLY WORSHIP EXPERIENCE.\, THIS IS AN ONLINE ONLY WORSHIP EXPERIENCE.\, FL\, 33056\, United States
CATEGORIES:Events,Meetings
ATTACH;FMTTYPE=image/jpeg:https://utruthcenter.org/wp-content/uploads/2021/05/Conversation_with_the_Minister-Calendar2.jpg
END:VEVENT
END:VCALENDAR