BEGIN:VCALENDAR
VERSION:2.0
PRODID:-//Universal Truth Center - ECPv6.15.17//NONSGML v1.0//EN
CALSCALE:GREGORIAN
METHOD:PUBLISH
X-WR-CALNAME:Universal Truth Center
X-ORIGINAL-URL:https://utruthcenter.org
X-WR-CALDESC:Events for Universal Truth Center
REFRESH-INTERVAL;VALUE=DURATION:PT1H
X-Robots-Tag:noindex
X-PUBLISHED-TTL:PT1H
BEGIN:VTIMEZONE
TZID:America/New_York
BEGIN:DAYLIGHT
TZOFFSETFROM:-0500
TZOFFSETTO:-0400
TZNAME:EDT
DTSTART:20200308T070000
END:DAYLIGHT
BEGIN:STANDARD
TZOFFSETFROM:-0400
TZOFFSETTO:-0500
TZNAME:EST
DTSTART:20201101T060000
END:STANDARD
BEGIN:DAYLIGHT
TZOFFSETFROM:-0500
TZOFFSETTO:-0400
TZNAME:EDT
DTSTART:20210314T070000
END:DAYLIGHT
BEGIN:STANDARD
TZOFFSETFROM:-0400
TZOFFSETTO:-0500
TZNAME:EST
DTSTART:20211107T060000
END:STANDARD
BEGIN:DAYLIGHT
TZOFFSETFROM:-0500
TZOFFSETTO:-0400
TZNAME:EDT
DTSTART:20220313T070000
END:DAYLIGHT
BEGIN:STANDARD
TZOFFSETFROM:-0400
TZOFFSETTO:-0500
TZNAME:EST
DTSTART:20221106T060000
END:STANDARD
BEGIN:DAYLIGHT
TZOFFSETFROM:-0500
TZOFFSETTO:-0400
TZNAME:EDT
DTSTART:20230312T070000
END:DAYLIGHT
BEGIN:STANDARD
TZOFFSETFROM:-0400
TZOFFSETTO:-0500
TZNAME:EST
DTSTART:20231105T060000
END:STANDARD
END:VTIMEZONE
BEGIN:VEVENT
DTSTART;TZID=America/New_York:20220120T100000
DTEND;TZID=America/New_York:20220120T110000
DTSTAMP:20260424T114203
CREATED:20210822T184058Z
LAST-MODIFIED:20210822T184518Z
UID:10000297-1642672800-1642676400@utruthcenter.org
SUMMARY:AIF 2021 Prayer Vigil
DESCRIPTION:Saturday\, September 4th\, 2021\n9:00 AM or 10:00 AM\nvia conference call\n(712)451-0011 – Access Code: 457533#\n \n\n 
URL:https://utruthcenter.org/event/aif-2021-prayer-vigil/2022-01-20/
LOCATION:THIS EVENT IS ONLINE ONLY.\, United States
CATEGORIES:Meetings,Worship
ATTACH;FMTTYPE=image/jpeg:https://utruthcenter.org/wp-content/uploads/2021/08/AIF2021_PrayerVigil-CalArt.jpg
END:VEVENT
BEGIN:VEVENT
DTSTART;TZID=America/New_York:20220119T100000
DTEND;TZID=America/New_York:20220119T110000
DTSTAMP:20260424T114203
CREATED:20210822T184058Z
LAST-MODIFIED:20210822T184518Z
UID:10000296-1642586400-1642590000@utruthcenter.org
SUMMARY:AIF 2021 Prayer Vigil
DESCRIPTION:Saturday\, September 4th\, 2021\n9:00 AM or 10:00 AM\nvia conference call\n(712)451-0011 – Access Code: 457533#\n \n\n 
URL:https://utruthcenter.org/event/aif-2021-prayer-vigil/2022-01-19/
LOCATION:THIS EVENT IS ONLINE ONLY.\, United States
CATEGORIES:Meetings,Worship
ATTACH;FMTTYPE=image/jpeg:https://utruthcenter.org/wp-content/uploads/2021/08/AIF2021_PrayerVigil-CalArt.jpg
END:VEVENT
BEGIN:VEVENT
DTSTART;TZID=America/New_York:20220118T100000
DTEND;TZID=America/New_York:20220118T110000
DTSTAMP:20260424T114203
CREATED:20210822T184058Z
LAST-MODIFIED:20210822T184518Z
UID:10000295-1642500000-1642503600@utruthcenter.org
SUMMARY:AIF 2021 Prayer Vigil
DESCRIPTION:Saturday\, September 4th\, 2021\n9:00 AM or 10:00 AM\nvia conference call\n(712)451-0011 – Access Code: 457533#\n \n\n 
URL:https://utruthcenter.org/event/aif-2021-prayer-vigil/2022-01-18/
LOCATION:THIS EVENT IS ONLINE ONLY.\, United States
CATEGORIES:Meetings,Worship
ATTACH;FMTTYPE=image/jpeg:https://utruthcenter.org/wp-content/uploads/2021/08/AIF2021_PrayerVigil-CalArt.jpg
END:VEVENT
BEGIN:VEVENT
DTSTART;TZID=America/New_York:20220117T100000
DTEND;TZID=America/New_York:20220117T110000
DTSTAMP:20260424T114203
CREATED:20210822T184058Z
LAST-MODIFIED:20210822T184518Z
UID:10000294-1642413600-1642417200@utruthcenter.org
SUMMARY:AIF 2021 Prayer Vigil
DESCRIPTION:Saturday\, September 4th\, 2021\n9:00 AM or 10:00 AM\nvia conference call\n(712)451-0011 – Access Code: 457533#\n \n\n 
URL:https://utruthcenter.org/event/aif-2021-prayer-vigil/2022-01-17/
LOCATION:THIS EVENT IS ONLINE ONLY.\, United States
CATEGORIES:Meetings,Worship
ATTACH;FMTTYPE=image/jpeg:https://utruthcenter.org/wp-content/uploads/2021/08/AIF2021_PrayerVigil-CalArt.jpg
END:VEVENT
BEGIN:VEVENT
DTSTART;TZID=America/New_York:20220116T100000
DTEND;TZID=America/New_York:20220116T123000
DTSTAMP:20260424T114203
CREATED:20211219T030416Z
LAST-MODIFIED:20211224T062619Z
UID:10000601-1642327200-1642336200@utruthcenter.org
SUMMARY:Choose Freedom
DESCRIPTION:THEME: Choose Better Living \n\n\nLESSON TITLE: \nChoose Freedom\n\nTEACHER: \n \nRev. Charles M. Taylor\n\nRESPONSIVE READING: \nDaily Inspiration Pg. 25 \n\nSCRIPTURE: \nExodus 8:1 \n\nColor: Blue\nPower: Faith\nDisciple: Peter\nWomen of the Chalice: Elizabeth\nPhysical Location: Pineal Gland\nMinistry: Congregational Care \n\n 
URL:https://utruthcenter.org/event/choose-freedom/
LOCATION:UTC\, 21310 NW 37th Avenue\, Miami Gardens\, FL\, 33056
CATEGORIES:Events,Worship
ATTACH;FMTTYPE=image/jpeg:https://utruthcenter.org/wp-content/uploads/2021/12/UTC_CalArt-Jan2022-Lesson.jpg
GEO:25.9696213;-80.2633696
X-APPLE-STRUCTURED-LOCATION;VALUE=URI;X-ADDRESS=UTC 21310 NW 37th Avenue Miami Gardens FL 33056;X-APPLE-RADIUS=500;X-TITLE=21310 NW 37th Avenue:geo:-80.2633696,25.9696213
END:VEVENT
BEGIN:VEVENT
DTSTART;TZID=America/New_York:20220116T100000
DTEND;TZID=America/New_York:20220116T110000
DTSTAMP:20260424T114203
CREATED:20210822T184058Z
LAST-MODIFIED:20210822T184518Z
UID:10000293-1642327200-1642330800@utruthcenter.org
SUMMARY:AIF 2021 Prayer Vigil
DESCRIPTION:Saturday\, September 4th\, 2021\n9:00 AM or 10:00 AM\nvia conference call\n(712)451-0011 – Access Code: 457533#\n \n\n 
URL:https://utruthcenter.org/event/aif-2021-prayer-vigil/2022-01-16/
LOCATION:THIS EVENT IS ONLINE ONLY.\, United States
CATEGORIES:Meetings,Worship
ATTACH;FMTTYPE=image/jpeg:https://utruthcenter.org/wp-content/uploads/2021/08/AIF2021_PrayerVigil-CalArt.jpg
END:VEVENT
BEGIN:VEVENT
DTSTART;VALUE=DATE:20220116
DTEND;VALUE=DATE:20220117
DTSTAMP:20260424T114203
CREATED:20220116T182113Z
LAST-MODIFIED:20220116T182113Z
UID:10000659-1642291200-1642377599@utruthcenter.org
SUMMARY:Martin Luther King Jr Day
DESCRIPTION:Remembering & Celebrating Dr Martin Luther King\, Jr.\nMartin Luther King\, Jr.’s birthday was first observed as a national holiday in 1986. However\, his life had become a fixed part of American mythology for years prior to this. Indeed\, to many African Americans whose rights he helped expand\, to many other minorities whose lives his victories touched\, and to many whites who welcomed the changes his leadership brought\, King’s life seemed mythological even as he lived it. He is celebrated as a hero not only for the concrete legislation he enabled\, but for his articulation of dreams and hopes shared by many during an era of upheaval and change.
URL:https://utruthcenter.org/event/martin-luther-king-jr-day/
CATEGORIES:Holidays
ATTACH;FMTTYPE=image/jpeg:https://utruthcenter.org/wp-content/uploads/2022/01/UTC_CalArt-MLK_2022.jpg
END:VEVENT
BEGIN:VEVENT
DTSTART;TZID=America/New_York:20220115T100000
DTEND;TZID=America/New_York:20220115T110000
DTSTAMP:20260424T114203
CREATED:20210822T184058Z
LAST-MODIFIED:20210822T184518Z
UID:10000292-1642240800-1642244400@utruthcenter.org
SUMMARY:AIF 2021 Prayer Vigil
DESCRIPTION:Saturday\, September 4th\, 2021\n9:00 AM or 10:00 AM\nvia conference call\n(712)451-0011 – Access Code: 457533#\n \n\n 
URL:https://utruthcenter.org/event/aif-2021-prayer-vigil/2022-01-15/
LOCATION:THIS EVENT IS ONLINE ONLY.\, United States
CATEGORIES:Meetings,Worship
ATTACH;FMTTYPE=image/jpeg:https://utruthcenter.org/wp-content/uploads/2021/08/AIF2021_PrayerVigil-CalArt.jpg
END:VEVENT
BEGIN:VEVENT
DTSTART;TZID=America/New_York:20220115T090000
DTEND;TZID=America/New_York:20220115T100000
DTSTAMP:20260424T114203
CREATED:20220114T034527Z
LAST-MODIFIED:20220114T034527Z
UID:10000658-1642237200-1642240800@utruthcenter.org
SUMMARY:Peace Prayer Vigil
DESCRIPTION:“My peace\, I give to you”\nSaturday\, January 15th\, 2022\n9:00am & 10:00am\n716-427-1108\nAccess code: 457533\nDOWNLOAD WORKBOOK HERE\nDear Prayer Partner\, \nThank you for choosing to be here with us and part of the collective consciousness of peace at our Annual Peace Prayer Vigil. On behalf of our Senior Minister\, Rev. Charles Taylor\, the Board of Directors and the Staff of UTC\, we welcome you as we focus our attention on Peace. \n  \nWe congratulate Rev. Charles on his sixth anniversary as our Senior Minister. We pray for his continued strength and wisdom as he continues to fulfill his Divine Assignment. May he and his family be abundantly blessed. \n  \nWe take time to reflect on the lives of some great leaders who have embodied peace\, tolerance\, and reconciliation; these include Mahatma Gandhi\, Martin Luther King Jr.\, Saint Teresa of Calcutta\, Nelson Mandela and Bishop Desmond Tutu. We seek to follow their examples as we choose to live peacefully and harmoniously. \n  \nIn the midst of the appearance of chaos and disharmony globally and locally\, we are the change agents that can transform our planet. It only takes one to make a difference and we have the ability to choose peace at all times. Our Christian Scriptures remind us that we will be kept in perfect peace if we keep our minds focused on God. God is right here with us at all times\, always accessible and ready to help us choose peace regardless of the circumstances. \n  \nPeace and wholeness constitute part of our inheritance from Spirit. We should practice the teachings of UFBL Founder Johnnie Colemon\, as humanity continue to grapple with the COVID-19 Pandemic and other diseases. We are spiritual beings who can use spiritual tools such as meditation and prayer to bring about a change of consciousness allowing us to live healthy\, peaceful and harmonious lives. \n  \nWe invite you to relax\, center yourself\, focus on\, acknowledge\, claim\, and allow the peace of God\, that is within you\, “the peace that passeth all understanding”\, to manifest in your lives. Then share that peace with all humanity. \nLet us agree today to choose God as peace and love in all beings and situations. \n  \nPeace and Blessings \nThe Prayer and Healing Ministry \n  \n\n 
URL:https://utruthcenter.org/event/peace-prayer-vigil-2/
LOCATION:THIS IS AN ONLINE ONLY WORSHIP EXPERIENCE.\, THIS IS AN ONLINE ONLY WORSHIP EXPERIENCE.\, FL\, 33056\, United States
CATEGORIES:Workshop,Worship
ATTACH;FMTTYPE=image/png:https://utruthcenter.org/wp-content/uploads/2022/01/Peace-Prayer-Vigil-CalArt.png
END:VEVENT
BEGIN:VEVENT
DTSTART;TZID=America/New_York:20220114T100000
DTEND;TZID=America/New_York:20220114T110000
DTSTAMP:20260424T114203
CREATED:20210822T184058Z
LAST-MODIFIED:20210822T184518Z
UID:10000291-1642154400-1642158000@utruthcenter.org
SUMMARY:AIF 2021 Prayer Vigil
DESCRIPTION:Saturday\, September 4th\, 2021\n9:00 AM or 10:00 AM\nvia conference call\n(712)451-0011 – Access Code: 457533#\n \n\n 
URL:https://utruthcenter.org/event/aif-2021-prayer-vigil/2022-01-14/
LOCATION:THIS EVENT IS ONLINE ONLY.\, United States
CATEGORIES:Meetings,Worship
ATTACH;FMTTYPE=image/jpeg:https://utruthcenter.org/wp-content/uploads/2021/08/AIF2021_PrayerVigil-CalArt.jpg
END:VEVENT
BEGIN:VEVENT
DTSTART;TZID=America/New_York:20220113T100000
DTEND;TZID=America/New_York:20220113T110000
DTSTAMP:20260424T114203
CREATED:20210822T184058Z
LAST-MODIFIED:20210822T184518Z
UID:10000290-1642068000-1642071600@utruthcenter.org
SUMMARY:AIF 2021 Prayer Vigil
DESCRIPTION:Saturday\, September 4th\, 2021\n9:00 AM or 10:00 AM\nvia conference call\n(712)451-0011 – Access Code: 457533#\n \n\n 
URL:https://utruthcenter.org/event/aif-2021-prayer-vigil/2022-01-13/
LOCATION:THIS EVENT IS ONLINE ONLY.\, United States
CATEGORIES:Meetings,Worship
ATTACH;FMTTYPE=image/jpeg:https://utruthcenter.org/wp-content/uploads/2021/08/AIF2021_PrayerVigil-CalArt.jpg
END:VEVENT
BEGIN:VEVENT
DTSTART;TZID=America/New_York:20220112T100000
DTEND;TZID=America/New_York:20220112T110000
DTSTAMP:20260424T114203
CREATED:20210822T184058Z
LAST-MODIFIED:20210822T184518Z
UID:10000289-1641981600-1641985200@utruthcenter.org
SUMMARY:AIF 2021 Prayer Vigil
DESCRIPTION:Saturday\, September 4th\, 2021\n9:00 AM or 10:00 AM\nvia conference call\n(712)451-0011 – Access Code: 457533#\n \n\n 
URL:https://utruthcenter.org/event/aif-2021-prayer-vigil/2022-01-12/
LOCATION:THIS EVENT IS ONLINE ONLY.\, United States
CATEGORIES:Meetings,Worship
ATTACH;FMTTYPE=image/jpeg:https://utruthcenter.org/wp-content/uploads/2021/08/AIF2021_PrayerVigil-CalArt.jpg
END:VEVENT
BEGIN:VEVENT
DTSTART;TZID=America/New_York:20220111T100000
DTEND;TZID=America/New_York:20220111T110000
DTSTAMP:20260424T114203
CREATED:20210822T184058Z
LAST-MODIFIED:20210822T184518Z
UID:10000288-1641895200-1641898800@utruthcenter.org
SUMMARY:AIF 2021 Prayer Vigil
DESCRIPTION:Saturday\, September 4th\, 2021\n9:00 AM or 10:00 AM\nvia conference call\n(712)451-0011 – Access Code: 457533#\n \n\n 
URL:https://utruthcenter.org/event/aif-2021-prayer-vigil/2022-01-11/
LOCATION:THIS EVENT IS ONLINE ONLY.\, United States
CATEGORIES:Meetings,Worship
ATTACH;FMTTYPE=image/jpeg:https://utruthcenter.org/wp-content/uploads/2021/08/AIF2021_PrayerVigil-CalArt.jpg
END:VEVENT
BEGIN:VEVENT
DTSTART;TZID=America/New_York:20220110T100000
DTEND;TZID=America/New_York:20220110T110000
DTSTAMP:20260424T114203
CREATED:20210822T184058Z
LAST-MODIFIED:20210822T184518Z
UID:10000287-1641808800-1641812400@utruthcenter.org
SUMMARY:AIF 2021 Prayer Vigil
DESCRIPTION:Saturday\, September 4th\, 2021\n9:00 AM or 10:00 AM\nvia conference call\n(712)451-0011 – Access Code: 457533#\n \n\n 
URL:https://utruthcenter.org/event/aif-2021-prayer-vigil/2022-01-10/
LOCATION:THIS EVENT IS ONLINE ONLY.\, United States
CATEGORIES:Meetings,Worship
ATTACH;FMTTYPE=image/jpeg:https://utruthcenter.org/wp-content/uploads/2021/08/AIF2021_PrayerVigil-CalArt.jpg
END:VEVENT
BEGIN:VEVENT
DTSTART;TZID=America/New_York:20220109T100000
DTEND;TZID=America/New_York:20220109T123000
DTSTAMP:20260424T114203
CREATED:20211219T031326Z
LAST-MODIFIED:20211224T062352Z
UID:10000603-1641722400-1641731400@utruthcenter.org
SUMMARY:Choose to Live Better
DESCRIPTION:THEME: Choose Better Living\nPASTOR’S ANNIVERSARY\n\nLESSON TITLE: \nChoose to Live Better\n\nTEACHER: \n \nBishop Dr. Jack Bomar\n\nRESPONSIVE READING: \nDaily Inspiration Pg. 28 \n\nSCRIPTURE: \nJeremiah 29:11 \n\nColor: Blue\nPower: Faith\nDisciple: Peter\nWomen of the Chalice: Elizabeth\nPhysical Location: Pineal Gland\nMinistry: Congregational Care \n\n 
URL:https://utruthcenter.org/event/choose-to-live-better/
LOCATION:UTC\, 21310 NW 37th Avenue\, Miami Gardens\, FL\, 33056
CATEGORIES:Events,Worship
ATTACH;FMTTYPE=image/jpeg:https://utruthcenter.org/wp-content/uploads/2021/12/UTC_CalArt-Jan2022-DrBomar.jpg
GEO:25.9696213;-80.2633696
X-APPLE-STRUCTURED-LOCATION;VALUE=URI;X-ADDRESS=UTC 21310 NW 37th Avenue Miami Gardens FL 33056;X-APPLE-RADIUS=500;X-TITLE=21310 NW 37th Avenue:geo:-80.2633696,25.9696213
END:VEVENT
BEGIN:VEVENT
DTSTART;TZID=America/New_York:20220109T100000
DTEND;TZID=America/New_York:20220109T110000
DTSTAMP:20260424T114203
CREATED:20210822T184058Z
LAST-MODIFIED:20210822T184518Z
UID:10000286-1641722400-1641726000@utruthcenter.org
SUMMARY:AIF 2021 Prayer Vigil
DESCRIPTION:Saturday\, September 4th\, 2021\n9:00 AM or 10:00 AM\nvia conference call\n(712)451-0011 – Access Code: 457533#\n \n\n 
URL:https://utruthcenter.org/event/aif-2021-prayer-vigil/2022-01-09/
LOCATION:THIS EVENT IS ONLINE ONLY.\, United States
CATEGORIES:Meetings,Worship
ATTACH;FMTTYPE=image/jpeg:https://utruthcenter.org/wp-content/uploads/2021/08/AIF2021_PrayerVigil-CalArt.jpg
END:VEVENT
BEGIN:VEVENT
DTSTART;VALUE=DATE:20220109
DTEND;VALUE=DATE:20220110
DTSTAMP:20260424T114203
CREATED:20211219T031828Z
LAST-MODIFIED:20211219T031828Z
UID:10000604-1641686400-1641772799@utruthcenter.org
SUMMARY:Pastor's Anniversary 2022
DESCRIPTION:Join us on January 9th as we celebrate the Pastor’s Anniversary during our Worship Service.
URL:https://utruthcenter.org/event/pastors-anniversary-2022/
CATEGORIES:Celebration
ATTACH;FMTTYPE=image/jpeg:https://utruthcenter.org/wp-content/uploads/2021/12/UTC_CalArt-Jan2022-HPA.jpg
END:VEVENT
BEGIN:VEVENT
DTSTART;TZID=America/New_York:20220108T100000
DTEND;TZID=America/New_York:20220108T110000
DTSTAMP:20260424T114203
CREATED:20210822T184058Z
LAST-MODIFIED:20210822T184518Z
UID:10000285-1641636000-1641639600@utruthcenter.org
SUMMARY:AIF 2021 Prayer Vigil
DESCRIPTION:Saturday\, September 4th\, 2021\n9:00 AM or 10:00 AM\nvia conference call\n(712)451-0011 – Access Code: 457533#\n \n\n 
URL:https://utruthcenter.org/event/aif-2021-prayer-vigil/2022-01-08/
LOCATION:THIS EVENT IS ONLINE ONLY.\, United States
CATEGORIES:Meetings,Worship
ATTACH;FMTTYPE=image/jpeg:https://utruthcenter.org/wp-content/uploads/2021/08/AIF2021_PrayerVigil-CalArt.jpg
END:VEVENT
BEGIN:VEVENT
DTSTART;TZID=America/New_York:20220107T100000
DTEND;TZID=America/New_York:20220107T110000
DTSTAMP:20260424T114203
CREATED:20210822T184058Z
LAST-MODIFIED:20210822T184518Z
UID:10000284-1641549600-1641553200@utruthcenter.org
SUMMARY:AIF 2021 Prayer Vigil
DESCRIPTION:Saturday\, September 4th\, 2021\n9:00 AM or 10:00 AM\nvia conference call\n(712)451-0011 – Access Code: 457533#\n \n\n 
URL:https://utruthcenter.org/event/aif-2021-prayer-vigil/2022-01-07/
LOCATION:THIS EVENT IS ONLINE ONLY.\, United States
CATEGORIES:Meetings,Worship
ATTACH;FMTTYPE=image/jpeg:https://utruthcenter.org/wp-content/uploads/2021/08/AIF2021_PrayerVigil-CalArt.jpg
END:VEVENT
BEGIN:VEVENT
DTSTART;TZID=America/New_York:20220106T100000
DTEND;TZID=America/New_York:20220106T110000
DTSTAMP:20260424T114203
CREATED:20210822T184058Z
LAST-MODIFIED:20210822T184518Z
UID:10000283-1641463200-1641466800@utruthcenter.org
SUMMARY:AIF 2021 Prayer Vigil
DESCRIPTION:Saturday\, September 4th\, 2021\n9:00 AM or 10:00 AM\nvia conference call\n(712)451-0011 – Access Code: 457533#\n \n\n 
URL:https://utruthcenter.org/event/aif-2021-prayer-vigil/2022-01-06/
LOCATION:THIS EVENT IS ONLINE ONLY.\, United States
CATEGORIES:Meetings,Worship
ATTACH;FMTTYPE=image/jpeg:https://utruthcenter.org/wp-content/uploads/2021/08/AIF2021_PrayerVigil-CalArt.jpg
END:VEVENT
BEGIN:VEVENT
DTSTART;TZID=America/New_York:20220105T100000
DTEND;TZID=America/New_York:20220105T110000
DTSTAMP:20260424T114203
CREATED:20210822T184058Z
LAST-MODIFIED:20210822T184518Z
UID:10000282-1641376800-1641380400@utruthcenter.org
SUMMARY:AIF 2021 Prayer Vigil
DESCRIPTION:Saturday\, September 4th\, 2021\n9:00 AM or 10:00 AM\nvia conference call\n(712)451-0011 – Access Code: 457533#\n \n\n 
URL:https://utruthcenter.org/event/aif-2021-prayer-vigil/2022-01-05/
LOCATION:THIS EVENT IS ONLINE ONLY.\, United States
CATEGORIES:Meetings,Worship
ATTACH;FMTTYPE=image/jpeg:https://utruthcenter.org/wp-content/uploads/2021/08/AIF2021_PrayerVigil-CalArt.jpg
END:VEVENT
BEGIN:VEVENT
DTSTART;TZID=America/New_York:20220104T100000
DTEND;TZID=America/New_York:20220104T110000
DTSTAMP:20260424T114203
CREATED:20210822T184058Z
LAST-MODIFIED:20210822T184518Z
UID:10000281-1641290400-1641294000@utruthcenter.org
SUMMARY:AIF 2021 Prayer Vigil
DESCRIPTION:Saturday\, September 4th\, 2021\n9:00 AM or 10:00 AM\nvia conference call\n(712)451-0011 – Access Code: 457533#\n \n\n 
URL:https://utruthcenter.org/event/aif-2021-prayer-vigil/2022-01-04/
LOCATION:THIS EVENT IS ONLINE ONLY.\, United States
CATEGORIES:Meetings,Worship
ATTACH;FMTTYPE=image/jpeg:https://utruthcenter.org/wp-content/uploads/2021/08/AIF2021_PrayerVigil-CalArt.jpg
END:VEVENT
BEGIN:VEVENT
DTSTART;TZID=America/New_York:20220103T100000
DTEND;TZID=America/New_York:20220103T110000
DTSTAMP:20260424T114203
CREATED:20210822T184058Z
LAST-MODIFIED:20210822T184518Z
UID:10000280-1641204000-1641207600@utruthcenter.org
SUMMARY:AIF 2021 Prayer Vigil
DESCRIPTION:Saturday\, September 4th\, 2021\n9:00 AM or 10:00 AM\nvia conference call\n(712)451-0011 – Access Code: 457533#\n \n\n 
URL:https://utruthcenter.org/event/aif-2021-prayer-vigil/2022-01-03/
LOCATION:THIS EVENT IS ONLINE ONLY.\, United States
CATEGORIES:Meetings,Worship
ATTACH;FMTTYPE=image/jpeg:https://utruthcenter.org/wp-content/uploads/2021/08/AIF2021_PrayerVigil-CalArt.jpg
END:VEVENT
BEGIN:VEVENT
DTSTART;TZID=America/New_York:20220102T100000
DTEND;TZID=America/New_York:20220102T123000
DTSTAMP:20260424T114203
CREATED:20211219T030041Z
LAST-MODIFIED:20211224T062210Z
UID:10000599-1641117600-1641126600@utruthcenter.org
SUMMARY:Choose Vision
DESCRIPTION:THEME: Choose Better Living \n\n\nLESSON TITLE: \nChoose Vision\n\nTEACHER: \n \nRev. Charles M. Taylor\n\nRESPONSIVE READING: \nDaily Inspiration Pg. 19 \n\nSCRIPTURE: \nGenesis 13:14-17 \n\nColor: Blue\nPower: Faith\nDisciple: Peter\nWomen of the Chalice: Elizabeth\nPhysical Location: Pineal Gland\nMinistry: Congregational Care \n\n 
URL:https://utruthcenter.org/event/choose-vision/
LOCATION:UTC\, 21310 NW 37th Avenue\, Miami Gardens\, FL\, 33056
CATEGORIES:Events,Worship
ATTACH;FMTTYPE=image/jpeg:https://utruthcenter.org/wp-content/uploads/2021/12/UTC_CalArt-Jan2022-Lesson.jpg
GEO:25.9696213;-80.2633696
X-APPLE-STRUCTURED-LOCATION;VALUE=URI;X-ADDRESS=UTC 21310 NW 37th Avenue Miami Gardens FL 33056;X-APPLE-RADIUS=500;X-TITLE=21310 NW 37th Avenue:geo:-80.2633696,25.9696213
END:VEVENT
BEGIN:VEVENT
DTSTART;TZID=America/New_York:20220102T100000
DTEND;TZID=America/New_York:20220102T110000
DTSTAMP:20260424T114203
CREATED:20210822T184058Z
LAST-MODIFIED:20210822T184518Z
UID:10000279-1641117600-1641121200@utruthcenter.org
SUMMARY:AIF 2021 Prayer Vigil
DESCRIPTION:Saturday\, September 4th\, 2021\n9:00 AM or 10:00 AM\nvia conference call\n(712)451-0011 – Access Code: 457533#\n \n\n 
URL:https://utruthcenter.org/event/aif-2021-prayer-vigil/2022-01-02/
LOCATION:THIS EVENT IS ONLINE ONLY.\, United States
CATEGORIES:Meetings,Worship
ATTACH;FMTTYPE=image/jpeg:https://utruthcenter.org/wp-content/uploads/2021/08/AIF2021_PrayerVigil-CalArt.jpg
END:VEVENT
BEGIN:VEVENT
DTSTART;TZID=America/New_York:20220101T100000
DTEND;TZID=America/New_York:20220101T110000
DTSTAMP:20260424T114203
CREATED:20210822T184058Z
LAST-MODIFIED:20210822T184518Z
UID:10000278-1641031200-1641034800@utruthcenter.org
SUMMARY:AIF 2021 Prayer Vigil
DESCRIPTION:Saturday\, September 4th\, 2021\n9:00 AM or 10:00 AM\nvia conference call\n(712)451-0011 – Access Code: 457533#\n \n\n 
URL:https://utruthcenter.org/event/aif-2021-prayer-vigil/2022-01-01/
LOCATION:THIS EVENT IS ONLINE ONLY.\, United States
CATEGORIES:Meetings,Worship
ATTACH;FMTTYPE=image/jpeg:https://utruthcenter.org/wp-content/uploads/2021/08/AIF2021_PrayerVigil-CalArt.jpg
END:VEVENT
BEGIN:VEVENT
DTSTART;TZID=America/New_York:20211231T190000
DTEND;TZID=America/New_York:20211231T203000
DTSTAMP:20260424T114203
CREATED:20211207T175553Z
LAST-MODIFIED:20211207T175553Z
UID:10000598-1640977200-1640982600@utruthcenter.org
SUMMARY:Burning Bowl 2021: Choose Better Living
DESCRIPTION:COME JOIN US!
URL:https://utruthcenter.org/event/burning-bowl-2021-choose-better-living/
LOCATION:UTC\, 21310 NW 37th Avenue\, Miami Gardens\, FL\, 33056
CATEGORIES:Celebration,Worship
ATTACH;FMTTYPE=image/jpeg:https://utruthcenter.org/wp-content/uploads/2021/12/UTC_BBowl2021-CalArt.jpg
GEO:25.9696213;-80.2633696
X-APPLE-STRUCTURED-LOCATION;VALUE=URI;X-ADDRESS=UTC 21310 NW 37th Avenue Miami Gardens FL 33056;X-APPLE-RADIUS=500;X-TITLE=21310 NW 37th Avenue:geo:-80.2633696,25.9696213
END:VEVENT
BEGIN:VEVENT
DTSTART;TZID=America/New_York:20211231T100000
DTEND;TZID=America/New_York:20211231T110000
DTSTAMP:20260424T114203
CREATED:20210822T184058Z
LAST-MODIFIED:20210822T184518Z
UID:10000277-1640944800-1640948400@utruthcenter.org
SUMMARY:AIF 2021 Prayer Vigil
DESCRIPTION:Saturday\, September 4th\, 2021\n9:00 AM or 10:00 AM\nvia conference call\n(712)451-0011 – Access Code: 457533#\n \n\n 
URL:https://utruthcenter.org/event/aif-2021-prayer-vigil/2021-12-31/
LOCATION:THIS EVENT IS ONLINE ONLY.\, United States
CATEGORIES:Meetings,Worship
ATTACH;FMTTYPE=image/jpeg:https://utruthcenter.org/wp-content/uploads/2021/08/AIF2021_PrayerVigil-CalArt.jpg
END:VEVENT
BEGIN:VEVENT
DTSTART;TZID=America/New_York:20211230T100000
DTEND;TZID=America/New_York:20211230T110000
DTSTAMP:20260424T114203
CREATED:20210822T184058Z
LAST-MODIFIED:20210822T184518Z
UID:10000276-1640858400-1640862000@utruthcenter.org
SUMMARY:AIF 2021 Prayer Vigil
DESCRIPTION:Saturday\, September 4th\, 2021\n9:00 AM or 10:00 AM\nvia conference call\n(712)451-0011 – Access Code: 457533#\n \n\n 
URL:https://utruthcenter.org/event/aif-2021-prayer-vigil/2021-12-30/
LOCATION:THIS EVENT IS ONLINE ONLY.\, United States
CATEGORIES:Meetings,Worship
ATTACH;FMTTYPE=image/jpeg:https://utruthcenter.org/wp-content/uploads/2021/08/AIF2021_PrayerVigil-CalArt.jpg
END:VEVENT
BEGIN:VEVENT
DTSTART;TZID=America/New_York:20211229T100000
DTEND;TZID=America/New_York:20211229T110000
DTSTAMP:20260424T114203
CREATED:20210822T184058Z
LAST-MODIFIED:20210822T184518Z
UID:10000275-1640772000-1640775600@utruthcenter.org
SUMMARY:AIF 2021 Prayer Vigil
DESCRIPTION:Saturday\, September 4th\, 2021\n9:00 AM or 10:00 AM\nvia conference call\n(712)451-0011 – Access Code: 457533#\n \n\n 
URL:https://utruthcenter.org/event/aif-2021-prayer-vigil/2021-12-29/
LOCATION:THIS EVENT IS ONLINE ONLY.\, United States
CATEGORIES:Meetings,Worship
ATTACH;FMTTYPE=image/jpeg:https://utruthcenter.org/wp-content/uploads/2021/08/AIF2021_PrayerVigil-CalArt.jpg
END:VEVENT
END:VCALENDAR