BEGIN:VCALENDAR
VERSION:2.0
PRODID:-//Universal Truth Center - ECPv6.15.17//NONSGML v1.0//EN
CALSCALE:GREGORIAN
METHOD:PUBLISH
X-WR-CALNAME:Universal Truth Center
X-ORIGINAL-URL:https://utruthcenter.org
X-WR-CALDESC:Events for Universal Truth Center
REFRESH-INTERVAL;VALUE=DURATION:PT1H
X-Robots-Tag:noindex
X-PUBLISHED-TTL:PT1H
BEGIN:VTIMEZONE
TZID:America/New_York
BEGIN:DAYLIGHT
TZOFFSETFROM:-0500
TZOFFSETTO:-0400
TZNAME:EDT
DTSTART:20210314T070000
END:DAYLIGHT
BEGIN:STANDARD
TZOFFSETFROM:-0400
TZOFFSETTO:-0500
TZNAME:EST
DTSTART:20211107T060000
END:STANDARD
BEGIN:DAYLIGHT
TZOFFSETFROM:-0500
TZOFFSETTO:-0400
TZNAME:EDT
DTSTART:20220313T070000
END:DAYLIGHT
BEGIN:STANDARD
TZOFFSETFROM:-0400
TZOFFSETTO:-0500
TZNAME:EST
DTSTART:20221106T060000
END:STANDARD
BEGIN:DAYLIGHT
TZOFFSETFROM:-0500
TZOFFSETTO:-0400
TZNAME:EDT
DTSTART:20230312T070000
END:DAYLIGHT
BEGIN:STANDARD
TZOFFSETFROM:-0400
TZOFFSETTO:-0500
TZNAME:EST
DTSTART:20231105T060000
END:STANDARD
END:VTIMEZONE
BEGIN:VEVENT
DTSTART;TZID=America/New_York:20220319T100000
DTEND;TZID=America/New_York:20220319T110000
DTSTAMP:20260423T235027
CREATED:20210822T184058Z
LAST-MODIFIED:20210822T184518Z
UID:10000355-1647684000-1647687600@utruthcenter.org
SUMMARY:AIF 2021 Prayer Vigil
DESCRIPTION:Saturday\, September 4th\, 2021\n9:00 AM or 10:00 AM\nvia conference call\n(712)451-0011 – Access Code: 457533#\n \n\n 
URL:https://utruthcenter.org/event/aif-2021-prayer-vigil/2022-03-19/
LOCATION:THIS EVENT IS ONLINE ONLY.\, United States
CATEGORIES:Meetings,Worship
ATTACH;FMTTYPE=image/jpeg:https://utruthcenter.org/wp-content/uploads/2021/08/AIF2021_PrayerVigil-CalArt.jpg
END:VEVENT
BEGIN:VEVENT
DTSTART;TZID=America/New_York:20220318T100000
DTEND;TZID=America/New_York:20220318T110000
DTSTAMP:20260423T235027
CREATED:20210822T184058Z
LAST-MODIFIED:20210822T184518Z
UID:10000354-1647597600-1647601200@utruthcenter.org
SUMMARY:AIF 2021 Prayer Vigil
DESCRIPTION:Saturday\, September 4th\, 2021\n9:00 AM or 10:00 AM\nvia conference call\n(712)451-0011 – Access Code: 457533#\n \n\n 
URL:https://utruthcenter.org/event/aif-2021-prayer-vigil/2022-03-18/
LOCATION:THIS EVENT IS ONLINE ONLY.\, United States
CATEGORIES:Meetings,Worship
ATTACH;FMTTYPE=image/jpeg:https://utruthcenter.org/wp-content/uploads/2021/08/AIF2021_PrayerVigil-CalArt.jpg
END:VEVENT
BEGIN:VEVENT
DTSTART;TZID=America/New_York:20220317T100000
DTEND;TZID=America/New_York:20220317T110000
DTSTAMP:20260423T235027
CREATED:20210822T184058Z
LAST-MODIFIED:20210822T184518Z
UID:10000353-1647511200-1647514800@utruthcenter.org
SUMMARY:AIF 2021 Prayer Vigil
DESCRIPTION:Saturday\, September 4th\, 2021\n9:00 AM or 10:00 AM\nvia conference call\n(712)451-0011 – Access Code: 457533#\n \n\n 
URL:https://utruthcenter.org/event/aif-2021-prayer-vigil/2022-03-17/
LOCATION:THIS EVENT IS ONLINE ONLY.\, United States
CATEGORIES:Meetings,Worship
ATTACH;FMTTYPE=image/jpeg:https://utruthcenter.org/wp-content/uploads/2021/08/AIF2021_PrayerVigil-CalArt.jpg
END:VEVENT
BEGIN:VEVENT
DTSTART;TZID=America/New_York:20220316T100000
DTEND;TZID=America/New_York:20220316T110000
DTSTAMP:20260423T235027
CREATED:20210822T184058Z
LAST-MODIFIED:20210822T184518Z
UID:10000352-1647424800-1647428400@utruthcenter.org
SUMMARY:AIF 2021 Prayer Vigil
DESCRIPTION:Saturday\, September 4th\, 2021\n9:00 AM or 10:00 AM\nvia conference call\n(712)451-0011 – Access Code: 457533#\n \n\n 
URL:https://utruthcenter.org/event/aif-2021-prayer-vigil/2022-03-16/
LOCATION:THIS EVENT IS ONLINE ONLY.\, United States
CATEGORIES:Meetings,Worship
ATTACH;FMTTYPE=image/jpeg:https://utruthcenter.org/wp-content/uploads/2021/08/AIF2021_PrayerVigil-CalArt.jpg
END:VEVENT
BEGIN:VEVENT
DTSTART;TZID=America/New_York:20220315T100000
DTEND;TZID=America/New_York:20220315T110000
DTSTAMP:20260423T235027
CREATED:20210822T184058Z
LAST-MODIFIED:20210822T184518Z
UID:10000351-1647338400-1647342000@utruthcenter.org
SUMMARY:AIF 2021 Prayer Vigil
DESCRIPTION:Saturday\, September 4th\, 2021\n9:00 AM or 10:00 AM\nvia conference call\n(712)451-0011 – Access Code: 457533#\n \n\n 
URL:https://utruthcenter.org/event/aif-2021-prayer-vigil/2022-03-15/
LOCATION:THIS EVENT IS ONLINE ONLY.\, United States
CATEGORIES:Meetings,Worship
ATTACH;FMTTYPE=image/jpeg:https://utruthcenter.org/wp-content/uploads/2021/08/AIF2021_PrayerVigil-CalArt.jpg
END:VEVENT
BEGIN:VEVENT
DTSTART;TZID=America/New_York:20220314T100000
DTEND;TZID=America/New_York:20220314T110000
DTSTAMP:20260423T235027
CREATED:20210822T184058Z
LAST-MODIFIED:20210822T184518Z
UID:10000350-1647252000-1647255600@utruthcenter.org
SUMMARY:AIF 2021 Prayer Vigil
DESCRIPTION:Saturday\, September 4th\, 2021\n9:00 AM or 10:00 AM\nvia conference call\n(712)451-0011 – Access Code: 457533#\n \n\n 
URL:https://utruthcenter.org/event/aif-2021-prayer-vigil/2022-03-14/
LOCATION:THIS EVENT IS ONLINE ONLY.\, United States
CATEGORIES:Meetings,Worship
ATTACH;FMTTYPE=image/jpeg:https://utruthcenter.org/wp-content/uploads/2021/08/AIF2021_PrayerVigil-CalArt.jpg
END:VEVENT
BEGIN:VEVENT
DTSTART;TZID=America/New_York:20220313T100000
DTEND;TZID=America/New_York:20220313T123000
DTSTAMP:20260423T235027
CREATED:20220301T161144Z
LAST-MODIFIED:20220301T161144Z
UID:10000667-1647165600-1647174600@utruthcenter.org
SUMMARY:Choose Divine Love
DESCRIPTION:THEME: Choose to Follow Jesus\n\n\nLESSON TITLE: \nChoose Divine Love\n\nLESSON BOOK: \nA Closer Walk with Jesus\n\nBOOK TEXT: 2nd Sunday-page 67 \n\nTEACHER: \n \nRev. Anna Price\n\nRESPONSIVE READING: \nDaily Inspiration Pg. TBA \n\nSCRIPTURE: \nLuke 22:50-51 \n\nColor: Light Green\nPower: Strength\nDisciple: Andrew\nWomen of the Chalice: Tamar\nPhysical Location: Lower Back\nMinistry: Creative Expressions \n\n 
URL:https://utruthcenter.org/event/choose-divine-love-2/
LOCATION:UTC\, 21310 NW 37th Avenue\, Miami Gardens\, FL\, 33056
CATEGORIES:Events,Worship
ATTACH;FMTTYPE=image/jpeg:https://utruthcenter.org/wp-content/uploads/2022/01/UTC_CalArt-March2022.jpg
GEO:25.9696213;-80.2633696
X-APPLE-STRUCTURED-LOCATION;VALUE=URI;X-ADDRESS=UTC 21310 NW 37th Avenue Miami Gardens FL 33056;X-APPLE-RADIUS=500;X-TITLE=21310 NW 37th Avenue:geo:-80.2633696,25.9696213
END:VEVENT
BEGIN:VEVENT
DTSTART;TZID=America/New_York:20220313T100000
DTEND;TZID=America/New_York:20220313T110000
DTSTAMP:20260423T235027
CREATED:20210822T184058Z
LAST-MODIFIED:20210822T184518Z
UID:10000349-1647165600-1647169200@utruthcenter.org
SUMMARY:AIF 2021 Prayer Vigil
DESCRIPTION:Saturday\, September 4th\, 2021\n9:00 AM or 10:00 AM\nvia conference call\n(712)451-0011 – Access Code: 457533#\n \n\n 
URL:https://utruthcenter.org/event/aif-2021-prayer-vigil/2022-03-13/
LOCATION:THIS EVENT IS ONLINE ONLY.\, United States
CATEGORIES:Meetings,Worship
ATTACH;FMTTYPE=image/jpeg:https://utruthcenter.org/wp-content/uploads/2021/08/AIF2021_PrayerVigil-CalArt.jpg
END:VEVENT
BEGIN:VEVENT
DTSTART;TZID=America/New_York:20220312T100000
DTEND;TZID=America/New_York:20220312T110000
DTSTAMP:20260423T235027
CREATED:20210822T184058Z
LAST-MODIFIED:20210822T184518Z
UID:10000348-1647079200-1647082800@utruthcenter.org
SUMMARY:AIF 2021 Prayer Vigil
DESCRIPTION:Saturday\, September 4th\, 2021\n9:00 AM or 10:00 AM\nvia conference call\n(712)451-0011 – Access Code: 457533#\n \n\n 
URL:https://utruthcenter.org/event/aif-2021-prayer-vigil/2022-03-12/
LOCATION:THIS EVENT IS ONLINE ONLY.\, United States
CATEGORIES:Meetings,Worship
ATTACH;FMTTYPE=image/jpeg:https://utruthcenter.org/wp-content/uploads/2021/08/AIF2021_PrayerVigil-CalArt.jpg
END:VEVENT
BEGIN:VEVENT
DTSTART;TZID=America/New_York:20220311T100000
DTEND;TZID=America/New_York:20220311T110000
DTSTAMP:20260423T235027
CREATED:20210822T184058Z
LAST-MODIFIED:20210822T184518Z
UID:10000347-1646992800-1646996400@utruthcenter.org
SUMMARY:AIF 2021 Prayer Vigil
DESCRIPTION:Saturday\, September 4th\, 2021\n9:00 AM or 10:00 AM\nvia conference call\n(712)451-0011 – Access Code: 457533#\n \n\n 
URL:https://utruthcenter.org/event/aif-2021-prayer-vigil/2022-03-11/
LOCATION:THIS EVENT IS ONLINE ONLY.\, United States
CATEGORIES:Meetings,Worship
ATTACH;FMTTYPE=image/jpeg:https://utruthcenter.org/wp-content/uploads/2021/08/AIF2021_PrayerVigil-CalArt.jpg
END:VEVENT
BEGIN:VEVENT
DTSTART;TZID=America/New_York:20220310T100000
DTEND;TZID=America/New_York:20220310T110000
DTSTAMP:20260423T235027
CREATED:20210822T184058Z
LAST-MODIFIED:20210822T184518Z
UID:10000346-1646906400-1646910000@utruthcenter.org
SUMMARY:AIF 2021 Prayer Vigil
DESCRIPTION:Saturday\, September 4th\, 2021\n9:00 AM or 10:00 AM\nvia conference call\n(712)451-0011 – Access Code: 457533#\n \n\n 
URL:https://utruthcenter.org/event/aif-2021-prayer-vigil/2022-03-10/
LOCATION:THIS EVENT IS ONLINE ONLY.\, United States
CATEGORIES:Meetings,Worship
ATTACH;FMTTYPE=image/jpeg:https://utruthcenter.org/wp-content/uploads/2021/08/AIF2021_PrayerVigil-CalArt.jpg
END:VEVENT
BEGIN:VEVENT
DTSTART;TZID=America/New_York:20220309T100000
DTEND;TZID=America/New_York:20220309T110000
DTSTAMP:20260423T235027
CREATED:20210822T184058Z
LAST-MODIFIED:20210822T184518Z
UID:10000345-1646820000-1646823600@utruthcenter.org
SUMMARY:AIF 2021 Prayer Vigil
DESCRIPTION:Saturday\, September 4th\, 2021\n9:00 AM or 10:00 AM\nvia conference call\n(712)451-0011 – Access Code: 457533#\n \n\n 
URL:https://utruthcenter.org/event/aif-2021-prayer-vigil/2022-03-09/
LOCATION:THIS EVENT IS ONLINE ONLY.\, United States
CATEGORIES:Meetings,Worship
ATTACH;FMTTYPE=image/jpeg:https://utruthcenter.org/wp-content/uploads/2021/08/AIF2021_PrayerVigil-CalArt.jpg
END:VEVENT
BEGIN:VEVENT
DTSTART;TZID=America/New_York:20220308T100000
DTEND;TZID=America/New_York:20220308T110000
DTSTAMP:20260423T235027
CREATED:20210822T184058Z
LAST-MODIFIED:20210822T184518Z
UID:10000344-1646733600-1646737200@utruthcenter.org
SUMMARY:AIF 2021 Prayer Vigil
DESCRIPTION:Saturday\, September 4th\, 2021\n9:00 AM or 10:00 AM\nvia conference call\n(712)451-0011 – Access Code: 457533#\n \n\n 
URL:https://utruthcenter.org/event/aif-2021-prayer-vigil/2022-03-08/
LOCATION:THIS EVENT IS ONLINE ONLY.\, United States
CATEGORIES:Meetings,Worship
ATTACH;FMTTYPE=image/jpeg:https://utruthcenter.org/wp-content/uploads/2021/08/AIF2021_PrayerVigil-CalArt.jpg
END:VEVENT
BEGIN:VEVENT
DTSTART;TZID=America/New_York:20220307T100000
DTEND;TZID=America/New_York:20220307T110000
DTSTAMP:20260423T235027
CREATED:20210822T184058Z
LAST-MODIFIED:20210822T184518Z
UID:10000343-1646647200-1646650800@utruthcenter.org
SUMMARY:AIF 2021 Prayer Vigil
DESCRIPTION:Saturday\, September 4th\, 2021\n9:00 AM or 10:00 AM\nvia conference call\n(712)451-0011 – Access Code: 457533#\n \n\n 
URL:https://utruthcenter.org/event/aif-2021-prayer-vigil/2022-03-07/
LOCATION:THIS EVENT IS ONLINE ONLY.\, United States
CATEGORIES:Meetings,Worship
ATTACH;FMTTYPE=image/jpeg:https://utruthcenter.org/wp-content/uploads/2021/08/AIF2021_PrayerVigil-CalArt.jpg
END:VEVENT
BEGIN:VEVENT
DTSTART;TZID=America/New_York:20220306T100000
DTEND;TZID=America/New_York:20220306T123000
DTSTAMP:20260423T235027
CREATED:20220214T180417Z
LAST-MODIFIED:20220301T160639Z
UID:10000664-1646560800-1646569800@utruthcenter.org
SUMMARY:Choose A Spiritual Attitude
DESCRIPTION:THEME: Choose to Follow Jesus\n\n\nLESSON TITLE: \nChoose A Spiritual Attitude\n\nLESSON BOOK: \nA Closer Walk with Jesus\n\nBOOK TEXT: Day 5-page 41 \n\nTEACHER: \n \nTawnicia Rowan\n\nRESPONSIVE READING: \nDaily Inspiration Pg. 14 \n\nSCRIPTURE: \nMatthew 26:34 \n\nColor: Light Green\nPower: Strength\nDisciple: Andrew\nWomen of the Chalice: Tamar\nPhysical Location: Lower Back\nMinistry: Creative Expressions \n\n 
URL:https://utruthcenter.org/event/choose-a-spiritual-attitude/
LOCATION:UTC\, 21310 NW 37th Avenue\, Miami Gardens\, FL\, 33056
CATEGORIES:Events,Worship
ATTACH;FMTTYPE=image/jpeg:https://utruthcenter.org/wp-content/uploads/2022/01/UTC_CalArt-March2022.jpg
GEO:25.9696213;-80.2633696
X-APPLE-STRUCTURED-LOCATION;VALUE=URI;X-ADDRESS=UTC 21310 NW 37th Avenue Miami Gardens FL 33056;X-APPLE-RADIUS=500;X-TITLE=21310 NW 37th Avenue:geo:-80.2633696,25.9696213
END:VEVENT
BEGIN:VEVENT
DTSTART;TZID=America/New_York:20220306T100000
DTEND;TZID=America/New_York:20220306T110000
DTSTAMP:20260423T235027
CREATED:20210822T184058Z
LAST-MODIFIED:20210822T184518Z
UID:10000342-1646560800-1646564400@utruthcenter.org
SUMMARY:AIF 2021 Prayer Vigil
DESCRIPTION:Saturday\, September 4th\, 2021\n9:00 AM or 10:00 AM\nvia conference call\n(712)451-0011 – Access Code: 457533#\n \n\n 
URL:https://utruthcenter.org/event/aif-2021-prayer-vigil/2022-03-06/
LOCATION:THIS EVENT IS ONLINE ONLY.\, United States
CATEGORIES:Meetings,Worship
ATTACH;FMTTYPE=image/jpeg:https://utruthcenter.org/wp-content/uploads/2021/08/AIF2021_PrayerVigil-CalArt.jpg
END:VEVENT
BEGIN:VEVENT
DTSTART;TZID=America/New_York:20220305T100000
DTEND;TZID=America/New_York:20220305T110000
DTSTAMP:20260423T235027
CREATED:20210822T184058Z
LAST-MODIFIED:20210822T184518Z
UID:10000341-1646474400-1646478000@utruthcenter.org
SUMMARY:AIF 2021 Prayer Vigil
DESCRIPTION:Saturday\, September 4th\, 2021\n9:00 AM or 10:00 AM\nvia conference call\n(712)451-0011 – Access Code: 457533#\n \n\n 
URL:https://utruthcenter.org/event/aif-2021-prayer-vigil/2022-03-05/
LOCATION:THIS EVENT IS ONLINE ONLY.\, United States
CATEGORIES:Meetings,Worship
ATTACH;FMTTYPE=image/jpeg:https://utruthcenter.org/wp-content/uploads/2021/08/AIF2021_PrayerVigil-CalArt.jpg
END:VEVENT
BEGIN:VEVENT
DTSTART;TZID=America/New_York:20220304T100000
DTEND;TZID=America/New_York:20220304T110000
DTSTAMP:20260423T235027
CREATED:20210822T184058Z
LAST-MODIFIED:20210822T184518Z
UID:10000340-1646388000-1646391600@utruthcenter.org
SUMMARY:AIF 2021 Prayer Vigil
DESCRIPTION:Saturday\, September 4th\, 2021\n9:00 AM or 10:00 AM\nvia conference call\n(712)451-0011 – Access Code: 457533#\n \n\n 
URL:https://utruthcenter.org/event/aif-2021-prayer-vigil/2022-03-04/
LOCATION:THIS EVENT IS ONLINE ONLY.\, United States
CATEGORIES:Meetings,Worship
ATTACH;FMTTYPE=image/jpeg:https://utruthcenter.org/wp-content/uploads/2021/08/AIF2021_PrayerVigil-CalArt.jpg
END:VEVENT
BEGIN:VEVENT
DTSTART;TZID=America/New_York:20220303T100000
DTEND;TZID=America/New_York:20220303T110000
DTSTAMP:20260423T235027
CREATED:20210822T184058Z
LAST-MODIFIED:20210822T184518Z
UID:10000339-1646301600-1646305200@utruthcenter.org
SUMMARY:AIF 2021 Prayer Vigil
DESCRIPTION:Saturday\, September 4th\, 2021\n9:00 AM or 10:00 AM\nvia conference call\n(712)451-0011 – Access Code: 457533#\n \n\n 
URL:https://utruthcenter.org/event/aif-2021-prayer-vigil/2022-03-03/
LOCATION:THIS EVENT IS ONLINE ONLY.\, United States
CATEGORIES:Meetings,Worship
ATTACH;FMTTYPE=image/jpeg:https://utruthcenter.org/wp-content/uploads/2021/08/AIF2021_PrayerVigil-CalArt.jpg
END:VEVENT
BEGIN:VEVENT
DTSTART;TZID=America/New_York:20220302T100000
DTEND;TZID=America/New_York:20220302T110000
DTSTAMP:20260423T235027
CREATED:20210822T184058Z
LAST-MODIFIED:20210822T184518Z
UID:10000338-1646215200-1646218800@utruthcenter.org
SUMMARY:AIF 2021 Prayer Vigil
DESCRIPTION:Saturday\, September 4th\, 2021\n9:00 AM or 10:00 AM\nvia conference call\n(712)451-0011 – Access Code: 457533#\n \n\n 
URL:https://utruthcenter.org/event/aif-2021-prayer-vigil/2022-03-02/
LOCATION:THIS EVENT IS ONLINE ONLY.\, United States
CATEGORIES:Meetings,Worship
ATTACH;FMTTYPE=image/jpeg:https://utruthcenter.org/wp-content/uploads/2021/08/AIF2021_PrayerVigil-CalArt.jpg
END:VEVENT
BEGIN:VEVENT
DTSTART;TZID=America/New_York:20220301T100000
DTEND;TZID=America/New_York:20220301T110000
DTSTAMP:20260423T235027
CREATED:20210822T184058Z
LAST-MODIFIED:20210822T184518Z
UID:10000337-1646128800-1646132400@utruthcenter.org
SUMMARY:AIF 2021 Prayer Vigil
DESCRIPTION:Saturday\, September 4th\, 2021\n9:00 AM or 10:00 AM\nvia conference call\n(712)451-0011 – Access Code: 457533#\n \n\n 
URL:https://utruthcenter.org/event/aif-2021-prayer-vigil/2022-03-01/
LOCATION:THIS EVENT IS ONLINE ONLY.\, United States
CATEGORIES:Meetings,Worship
ATTACH;FMTTYPE=image/jpeg:https://utruthcenter.org/wp-content/uploads/2021/08/AIF2021_PrayerVigil-CalArt.jpg
END:VEVENT
BEGIN:VEVENT
DTSTART;TZID=America/New_York:20220228T100000
DTEND;TZID=America/New_York:20220228T110000
DTSTAMP:20260423T235027
CREATED:20210822T184058Z
LAST-MODIFIED:20210822T184518Z
UID:10000336-1646042400-1646046000@utruthcenter.org
SUMMARY:AIF 2021 Prayer Vigil
DESCRIPTION:Saturday\, September 4th\, 2021\n9:00 AM or 10:00 AM\nvia conference call\n(712)451-0011 – Access Code: 457533#\n \n\n 
URL:https://utruthcenter.org/event/aif-2021-prayer-vigil/2022-02-28/
LOCATION:THIS EVENT IS ONLINE ONLY.\, United States
CATEGORIES:Meetings,Worship
ATTACH;FMTTYPE=image/jpeg:https://utruthcenter.org/wp-content/uploads/2021/08/AIF2021_PrayerVigil-CalArt.jpg
END:VEVENT
BEGIN:VEVENT
DTSTART;TZID=America/New_York:20220227T100000
DTEND;TZID=America/New_York:20220227T123000
DTSTAMP:20260423T235027
CREATED:20220124T195027Z
LAST-MODIFIED:20220124T195027Z
UID:10000663-1645956000-1645965000@utruthcenter.org
SUMMARY:Choose Forgiveness
DESCRIPTION:THEME: Choose Better Relationships\n\n\nLESSON TITLE: \nChoose Forgiveness\n\nTEACHER: \n \nRev. Charles M. Taylor\n\nRESPONSIVE READING: \nDaily Inspiration Pg. TBA \n\nSCRIPTURE: \nEphesians 4:32 \n\nColor: Pink\nPower: Love\nDisciple: John\nWomen of the Chalice: Mary of Nazareth\nPhysical Location: Back of the Heart\nMinistry: Fellowship \n\n 
URL:https://utruthcenter.org/event/choose-forgiveness/
LOCATION:UTC\, 21310 NW 37th Avenue\, Miami Gardens\, FL\, 33056
CATEGORIES:Events,Worship
ATTACH;FMTTYPE=image/jpeg:https://utruthcenter.org/wp-content/uploads/2022/01/UTC_CalArt-FEB2022.jpg
GEO:25.9696213;-80.2633696
X-APPLE-STRUCTURED-LOCATION;VALUE=URI;X-ADDRESS=UTC 21310 NW 37th Avenue Miami Gardens FL 33056;X-APPLE-RADIUS=500;X-TITLE=21310 NW 37th Avenue:geo:-80.2633696,25.9696213
END:VEVENT
BEGIN:VEVENT
DTSTART;TZID=America/New_York:20220227T100000
DTEND;TZID=America/New_York:20220227T110000
DTSTAMP:20260423T235027
CREATED:20210822T184058Z
LAST-MODIFIED:20210822T184518Z
UID:10000335-1645956000-1645959600@utruthcenter.org
SUMMARY:AIF 2021 Prayer Vigil
DESCRIPTION:Saturday\, September 4th\, 2021\n9:00 AM or 10:00 AM\nvia conference call\n(712)451-0011 – Access Code: 457533#\n \n\n 
URL:https://utruthcenter.org/event/aif-2021-prayer-vigil/2022-02-27/
LOCATION:THIS EVENT IS ONLINE ONLY.\, United States
CATEGORIES:Meetings,Worship
ATTACH;FMTTYPE=image/jpeg:https://utruthcenter.org/wp-content/uploads/2021/08/AIF2021_PrayerVigil-CalArt.jpg
END:VEVENT
BEGIN:VEVENT
DTSTART;TZID=America/New_York:20220226T100000
DTEND;TZID=America/New_York:20220226T110000
DTSTAMP:20260423T235027
CREATED:20210822T184058Z
LAST-MODIFIED:20210822T184518Z
UID:10000334-1645869600-1645873200@utruthcenter.org
SUMMARY:AIF 2021 Prayer Vigil
DESCRIPTION:Saturday\, September 4th\, 2021\n9:00 AM or 10:00 AM\nvia conference call\n(712)451-0011 – Access Code: 457533#\n \n\n 
URL:https://utruthcenter.org/event/aif-2021-prayer-vigil/2022-02-26/
LOCATION:THIS EVENT IS ONLINE ONLY.\, United States
CATEGORIES:Meetings,Worship
ATTACH;FMTTYPE=image/jpeg:https://utruthcenter.org/wp-content/uploads/2021/08/AIF2021_PrayerVigil-CalArt.jpg
END:VEVENT
BEGIN:VEVENT
DTSTART;TZID=America/New_York:20220225T100000
DTEND;TZID=America/New_York:20220225T110000
DTSTAMP:20260423T235027
CREATED:20210822T184058Z
LAST-MODIFIED:20210822T184518Z
UID:10000333-1645783200-1645786800@utruthcenter.org
SUMMARY:AIF 2021 Prayer Vigil
DESCRIPTION:Saturday\, September 4th\, 2021\n9:00 AM or 10:00 AM\nvia conference call\n(712)451-0011 – Access Code: 457533#\n \n\n 
URL:https://utruthcenter.org/event/aif-2021-prayer-vigil/2022-02-25/
LOCATION:THIS EVENT IS ONLINE ONLY.\, United States
CATEGORIES:Meetings,Worship
ATTACH;FMTTYPE=image/jpeg:https://utruthcenter.org/wp-content/uploads/2021/08/AIF2021_PrayerVigil-CalArt.jpg
END:VEVENT
BEGIN:VEVENT
DTSTART;TZID=America/New_York:20220224T100000
DTEND;TZID=America/New_York:20220224T110000
DTSTAMP:20260423T235027
CREATED:20210822T184058Z
LAST-MODIFIED:20210822T184518Z
UID:10000332-1645696800-1645700400@utruthcenter.org
SUMMARY:AIF 2021 Prayer Vigil
DESCRIPTION:Saturday\, September 4th\, 2021\n9:00 AM or 10:00 AM\nvia conference call\n(712)451-0011 – Access Code: 457533#\n \n\n 
URL:https://utruthcenter.org/event/aif-2021-prayer-vigil/2022-02-24/
LOCATION:THIS EVENT IS ONLINE ONLY.\, United States
CATEGORIES:Meetings,Worship
ATTACH;FMTTYPE=image/jpeg:https://utruthcenter.org/wp-content/uploads/2021/08/AIF2021_PrayerVigil-CalArt.jpg
END:VEVENT
BEGIN:VEVENT
DTSTART;TZID=America/New_York:20220223T100000
DTEND;TZID=America/New_York:20220223T110000
DTSTAMP:20260423T235027
CREATED:20210822T184058Z
LAST-MODIFIED:20210822T184518Z
UID:10000331-1645610400-1645614000@utruthcenter.org
SUMMARY:AIF 2021 Prayer Vigil
DESCRIPTION:Saturday\, September 4th\, 2021\n9:00 AM or 10:00 AM\nvia conference call\n(712)451-0011 – Access Code: 457533#\n \n\n 
URL:https://utruthcenter.org/event/aif-2021-prayer-vigil/2022-02-23/
LOCATION:THIS EVENT IS ONLINE ONLY.\, United States
CATEGORIES:Meetings,Worship
ATTACH;FMTTYPE=image/jpeg:https://utruthcenter.org/wp-content/uploads/2021/08/AIF2021_PrayerVigil-CalArt.jpg
END:VEVENT
BEGIN:VEVENT
DTSTART;TZID=America/New_York:20220222T100000
DTEND;TZID=America/New_York:20220222T110000
DTSTAMP:20260423T235027
CREATED:20210822T184058Z
LAST-MODIFIED:20210822T184518Z
UID:10000330-1645524000-1645527600@utruthcenter.org
SUMMARY:AIF 2021 Prayer Vigil
DESCRIPTION:Saturday\, September 4th\, 2021\n9:00 AM or 10:00 AM\nvia conference call\n(712)451-0011 – Access Code: 457533#\n \n\n 
URL:https://utruthcenter.org/event/aif-2021-prayer-vigil/2022-02-22/
LOCATION:THIS EVENT IS ONLINE ONLY.\, United States
CATEGORIES:Meetings,Worship
ATTACH;FMTTYPE=image/jpeg:https://utruthcenter.org/wp-content/uploads/2021/08/AIF2021_PrayerVigil-CalArt.jpg
END:VEVENT
BEGIN:VEVENT
DTSTART;TZID=America/New_York:20220221T100000
DTEND;TZID=America/New_York:20220221T110000
DTSTAMP:20260423T235027
CREATED:20210822T184058Z
LAST-MODIFIED:20210822T184518Z
UID:10000329-1645437600-1645441200@utruthcenter.org
SUMMARY:AIF 2021 Prayer Vigil
DESCRIPTION:Saturday\, September 4th\, 2021\n9:00 AM or 10:00 AM\nvia conference call\n(712)451-0011 – Access Code: 457533#\n \n\n 
URL:https://utruthcenter.org/event/aif-2021-prayer-vigil/2022-02-21/
LOCATION:THIS EVENT IS ONLINE ONLY.\, United States
CATEGORIES:Meetings,Worship
ATTACH;FMTTYPE=image/jpeg:https://utruthcenter.org/wp-content/uploads/2021/08/AIF2021_PrayerVigil-CalArt.jpg
END:VEVENT
END:VCALENDAR