BEGIN:VCALENDAR
VERSION:2.0
PRODID:-//Universal Truth Center - ECPv6.15.17//NONSGML v1.0//EN
CALSCALE:GREGORIAN
METHOD:PUBLISH
X-WR-CALNAME:Universal Truth Center
X-ORIGINAL-URL:https://utruthcenter.org
X-WR-CALDESC:Events for Universal Truth Center
REFRESH-INTERVAL;VALUE=DURATION:PT1H
X-Robots-Tag:noindex
X-PUBLISHED-TTL:PT1H
BEGIN:VTIMEZONE
TZID:America/New_York
BEGIN:DAYLIGHT
TZOFFSETFROM:-0500
TZOFFSETTO:-0400
TZNAME:EDT
DTSTART:20210314T070000
END:DAYLIGHT
BEGIN:STANDARD
TZOFFSETFROM:-0400
TZOFFSETTO:-0500
TZNAME:EST
DTSTART:20211107T060000
END:STANDARD
BEGIN:DAYLIGHT
TZOFFSETFROM:-0500
TZOFFSETTO:-0400
TZNAME:EDT
DTSTART:20220313T070000
END:DAYLIGHT
BEGIN:STANDARD
TZOFFSETFROM:-0400
TZOFFSETTO:-0500
TZNAME:EST
DTSTART:20221106T060000
END:STANDARD
BEGIN:DAYLIGHT
TZOFFSETFROM:-0500
TZOFFSETTO:-0400
TZNAME:EDT
DTSTART:20230312T070000
END:DAYLIGHT
BEGIN:STANDARD
TZOFFSETFROM:-0400
TZOFFSETTO:-0500
TZNAME:EST
DTSTART:20231105T060000
END:STANDARD
END:VTIMEZONE
BEGIN:VEVENT
DTSTART;TZID=America/New_York:20220305T100000
DTEND;TZID=America/New_York:20220305T110000
DTSTAMP:20260424T014751
CREATED:20210822T184058Z
LAST-MODIFIED:20210822T184518Z
UID:10000341-1646474400-1646478000@utruthcenter.org
SUMMARY:AIF 2021 Prayer Vigil
DESCRIPTION:Saturday\, September 4th\, 2021\n9:00 AM or 10:00 AM\nvia conference call\n(712)451-0011 – Access Code: 457533#\n \n\n 
URL:https://utruthcenter.org/event/aif-2021-prayer-vigil/2022-03-05/
LOCATION:THIS EVENT IS ONLINE ONLY.\, United States
CATEGORIES:Meetings,Worship
ATTACH;FMTTYPE=image/jpeg:https://utruthcenter.org/wp-content/uploads/2021/08/AIF2021_PrayerVigil-CalArt.jpg
END:VEVENT
BEGIN:VEVENT
DTSTART;TZID=America/New_York:20220304T100000
DTEND;TZID=America/New_York:20220304T110000
DTSTAMP:20260424T014751
CREATED:20210822T184058Z
LAST-MODIFIED:20210822T184518Z
UID:10000340-1646388000-1646391600@utruthcenter.org
SUMMARY:AIF 2021 Prayer Vigil
DESCRIPTION:Saturday\, September 4th\, 2021\n9:00 AM or 10:00 AM\nvia conference call\n(712)451-0011 – Access Code: 457533#\n \n\n 
URL:https://utruthcenter.org/event/aif-2021-prayer-vigil/2022-03-04/
LOCATION:THIS EVENT IS ONLINE ONLY.\, United States
CATEGORIES:Meetings,Worship
ATTACH;FMTTYPE=image/jpeg:https://utruthcenter.org/wp-content/uploads/2021/08/AIF2021_PrayerVigil-CalArt.jpg
END:VEVENT
BEGIN:VEVENT
DTSTART;TZID=America/New_York:20220303T100000
DTEND;TZID=America/New_York:20220303T110000
DTSTAMP:20260424T014751
CREATED:20210822T184058Z
LAST-MODIFIED:20210822T184518Z
UID:10000339-1646301600-1646305200@utruthcenter.org
SUMMARY:AIF 2021 Prayer Vigil
DESCRIPTION:Saturday\, September 4th\, 2021\n9:00 AM or 10:00 AM\nvia conference call\n(712)451-0011 – Access Code: 457533#\n \n\n 
URL:https://utruthcenter.org/event/aif-2021-prayer-vigil/2022-03-03/
LOCATION:THIS EVENT IS ONLINE ONLY.\, United States
CATEGORIES:Meetings,Worship
ATTACH;FMTTYPE=image/jpeg:https://utruthcenter.org/wp-content/uploads/2021/08/AIF2021_PrayerVigil-CalArt.jpg
END:VEVENT
BEGIN:VEVENT
DTSTART;TZID=America/New_York:20220302T100000
DTEND;TZID=America/New_York:20220302T110000
DTSTAMP:20260424T014751
CREATED:20210822T184058Z
LAST-MODIFIED:20210822T184518Z
UID:10000338-1646215200-1646218800@utruthcenter.org
SUMMARY:AIF 2021 Prayer Vigil
DESCRIPTION:Saturday\, September 4th\, 2021\n9:00 AM or 10:00 AM\nvia conference call\n(712)451-0011 – Access Code: 457533#\n \n\n 
URL:https://utruthcenter.org/event/aif-2021-prayer-vigil/2022-03-02/
LOCATION:THIS EVENT IS ONLINE ONLY.\, United States
CATEGORIES:Meetings,Worship
ATTACH;FMTTYPE=image/jpeg:https://utruthcenter.org/wp-content/uploads/2021/08/AIF2021_PrayerVigil-CalArt.jpg
END:VEVENT
BEGIN:VEVENT
DTSTART;TZID=America/New_York:20220301T100000
DTEND;TZID=America/New_York:20220301T110000
DTSTAMP:20260424T014751
CREATED:20210822T184058Z
LAST-MODIFIED:20210822T184518Z
UID:10000337-1646128800-1646132400@utruthcenter.org
SUMMARY:AIF 2021 Prayer Vigil
DESCRIPTION:Saturday\, September 4th\, 2021\n9:00 AM or 10:00 AM\nvia conference call\n(712)451-0011 – Access Code: 457533#\n \n\n 
URL:https://utruthcenter.org/event/aif-2021-prayer-vigil/2022-03-01/
LOCATION:THIS EVENT IS ONLINE ONLY.\, United States
CATEGORIES:Meetings,Worship
ATTACH;FMTTYPE=image/jpeg:https://utruthcenter.org/wp-content/uploads/2021/08/AIF2021_PrayerVigil-CalArt.jpg
END:VEVENT
BEGIN:VEVENT
DTSTART;TZID=America/New_York:20220228T100000
DTEND;TZID=America/New_York:20220228T110000
DTSTAMP:20260424T014751
CREATED:20210822T184058Z
LAST-MODIFIED:20210822T184518Z
UID:10000336-1646042400-1646046000@utruthcenter.org
SUMMARY:AIF 2021 Prayer Vigil
DESCRIPTION:Saturday\, September 4th\, 2021\n9:00 AM or 10:00 AM\nvia conference call\n(712)451-0011 – Access Code: 457533#\n \n\n 
URL:https://utruthcenter.org/event/aif-2021-prayer-vigil/2022-02-28/
LOCATION:THIS EVENT IS ONLINE ONLY.\, United States
CATEGORIES:Meetings,Worship
ATTACH;FMTTYPE=image/jpeg:https://utruthcenter.org/wp-content/uploads/2021/08/AIF2021_PrayerVigil-CalArt.jpg
END:VEVENT
BEGIN:VEVENT
DTSTART;TZID=America/New_York:20220227T100000
DTEND;TZID=America/New_York:20220227T123000
DTSTAMP:20260424T014751
CREATED:20220124T195027Z
LAST-MODIFIED:20220124T195027Z
UID:10000663-1645956000-1645965000@utruthcenter.org
SUMMARY:Choose Forgiveness
DESCRIPTION:THEME: Choose Better Relationships\n\n\nLESSON TITLE: \nChoose Forgiveness\n\nTEACHER: \n \nRev. Charles M. Taylor\n\nRESPONSIVE READING: \nDaily Inspiration Pg. TBA \n\nSCRIPTURE: \nEphesians 4:32 \n\nColor: Pink\nPower: Love\nDisciple: John\nWomen of the Chalice: Mary of Nazareth\nPhysical Location: Back of the Heart\nMinistry: Fellowship \n\n 
URL:https://utruthcenter.org/event/choose-forgiveness/
LOCATION:UTC\, 21310 NW 37th Avenue\, Miami Gardens\, FL\, 33056
CATEGORIES:Events,Worship
ATTACH;FMTTYPE=image/jpeg:https://utruthcenter.org/wp-content/uploads/2022/01/UTC_CalArt-FEB2022.jpg
GEO:25.9696213;-80.2633696
X-APPLE-STRUCTURED-LOCATION;VALUE=URI;X-ADDRESS=UTC 21310 NW 37th Avenue Miami Gardens FL 33056;X-APPLE-RADIUS=500;X-TITLE=21310 NW 37th Avenue:geo:-80.2633696,25.9696213
END:VEVENT
BEGIN:VEVENT
DTSTART;TZID=America/New_York:20220227T100000
DTEND;TZID=America/New_York:20220227T110000
DTSTAMP:20260424T014751
CREATED:20210822T184058Z
LAST-MODIFIED:20210822T184518Z
UID:10000335-1645956000-1645959600@utruthcenter.org
SUMMARY:AIF 2021 Prayer Vigil
DESCRIPTION:Saturday\, September 4th\, 2021\n9:00 AM or 10:00 AM\nvia conference call\n(712)451-0011 – Access Code: 457533#\n \n\n 
URL:https://utruthcenter.org/event/aif-2021-prayer-vigil/2022-02-27/
LOCATION:THIS EVENT IS ONLINE ONLY.\, United States
CATEGORIES:Meetings,Worship
ATTACH;FMTTYPE=image/jpeg:https://utruthcenter.org/wp-content/uploads/2021/08/AIF2021_PrayerVigil-CalArt.jpg
END:VEVENT
BEGIN:VEVENT
DTSTART;TZID=America/New_York:20220226T100000
DTEND;TZID=America/New_York:20220226T110000
DTSTAMP:20260424T014751
CREATED:20210822T184058Z
LAST-MODIFIED:20210822T184518Z
UID:10000334-1645869600-1645873200@utruthcenter.org
SUMMARY:AIF 2021 Prayer Vigil
DESCRIPTION:Saturday\, September 4th\, 2021\n9:00 AM or 10:00 AM\nvia conference call\n(712)451-0011 – Access Code: 457533#\n \n\n 
URL:https://utruthcenter.org/event/aif-2021-prayer-vigil/2022-02-26/
LOCATION:THIS EVENT IS ONLINE ONLY.\, United States
CATEGORIES:Meetings,Worship
ATTACH;FMTTYPE=image/jpeg:https://utruthcenter.org/wp-content/uploads/2021/08/AIF2021_PrayerVigil-CalArt.jpg
END:VEVENT
BEGIN:VEVENT
DTSTART;TZID=America/New_York:20220225T100000
DTEND;TZID=America/New_York:20220225T110000
DTSTAMP:20260424T014751
CREATED:20210822T184058Z
LAST-MODIFIED:20210822T184518Z
UID:10000333-1645783200-1645786800@utruthcenter.org
SUMMARY:AIF 2021 Prayer Vigil
DESCRIPTION:Saturday\, September 4th\, 2021\n9:00 AM or 10:00 AM\nvia conference call\n(712)451-0011 – Access Code: 457533#\n \n\n 
URL:https://utruthcenter.org/event/aif-2021-prayer-vigil/2022-02-25/
LOCATION:THIS EVENT IS ONLINE ONLY.\, United States
CATEGORIES:Meetings,Worship
ATTACH;FMTTYPE=image/jpeg:https://utruthcenter.org/wp-content/uploads/2021/08/AIF2021_PrayerVigil-CalArt.jpg
END:VEVENT
BEGIN:VEVENT
DTSTART;TZID=America/New_York:20220224T100000
DTEND;TZID=America/New_York:20220224T110000
DTSTAMP:20260424T014751
CREATED:20210822T184058Z
LAST-MODIFIED:20210822T184518Z
UID:10000332-1645696800-1645700400@utruthcenter.org
SUMMARY:AIF 2021 Prayer Vigil
DESCRIPTION:Saturday\, September 4th\, 2021\n9:00 AM or 10:00 AM\nvia conference call\n(712)451-0011 – Access Code: 457533#\n \n\n 
URL:https://utruthcenter.org/event/aif-2021-prayer-vigil/2022-02-24/
LOCATION:THIS EVENT IS ONLINE ONLY.\, United States
CATEGORIES:Meetings,Worship
ATTACH;FMTTYPE=image/jpeg:https://utruthcenter.org/wp-content/uploads/2021/08/AIF2021_PrayerVigil-CalArt.jpg
END:VEVENT
BEGIN:VEVENT
DTSTART;TZID=America/New_York:20220223T100000
DTEND;TZID=America/New_York:20220223T110000
DTSTAMP:20260424T014751
CREATED:20210822T184058Z
LAST-MODIFIED:20210822T184518Z
UID:10000331-1645610400-1645614000@utruthcenter.org
SUMMARY:AIF 2021 Prayer Vigil
DESCRIPTION:Saturday\, September 4th\, 2021\n9:00 AM or 10:00 AM\nvia conference call\n(712)451-0011 – Access Code: 457533#\n \n\n 
URL:https://utruthcenter.org/event/aif-2021-prayer-vigil/2022-02-23/
LOCATION:THIS EVENT IS ONLINE ONLY.\, United States
CATEGORIES:Meetings,Worship
ATTACH;FMTTYPE=image/jpeg:https://utruthcenter.org/wp-content/uploads/2021/08/AIF2021_PrayerVigil-CalArt.jpg
END:VEVENT
BEGIN:VEVENT
DTSTART;TZID=America/New_York:20220222T100000
DTEND;TZID=America/New_York:20220222T110000
DTSTAMP:20260424T014751
CREATED:20210822T184058Z
LAST-MODIFIED:20210822T184518Z
UID:10000330-1645524000-1645527600@utruthcenter.org
SUMMARY:AIF 2021 Prayer Vigil
DESCRIPTION:Saturday\, September 4th\, 2021\n9:00 AM or 10:00 AM\nvia conference call\n(712)451-0011 – Access Code: 457533#\n \n\n 
URL:https://utruthcenter.org/event/aif-2021-prayer-vigil/2022-02-22/
LOCATION:THIS EVENT IS ONLINE ONLY.\, United States
CATEGORIES:Meetings,Worship
ATTACH;FMTTYPE=image/jpeg:https://utruthcenter.org/wp-content/uploads/2021/08/AIF2021_PrayerVigil-CalArt.jpg
END:VEVENT
BEGIN:VEVENT
DTSTART;TZID=America/New_York:20220221T100000
DTEND;TZID=America/New_York:20220221T110000
DTSTAMP:20260424T014751
CREATED:20210822T184058Z
LAST-MODIFIED:20210822T184518Z
UID:10000329-1645437600-1645441200@utruthcenter.org
SUMMARY:AIF 2021 Prayer Vigil
DESCRIPTION:Saturday\, September 4th\, 2021\n9:00 AM or 10:00 AM\nvia conference call\n(712)451-0011 – Access Code: 457533#\n \n\n 
URL:https://utruthcenter.org/event/aif-2021-prayer-vigil/2022-02-21/
LOCATION:THIS EVENT IS ONLINE ONLY.\, United States
CATEGORIES:Meetings,Worship
ATTACH;FMTTYPE=image/jpeg:https://utruthcenter.org/wp-content/uploads/2021/08/AIF2021_PrayerVigil-CalArt.jpg
END:VEVENT
BEGIN:VEVENT
DTSTART;TZID=America/New_York:20220220T100000
DTEND;TZID=America/New_York:20220220T123000
DTSTAMP:20260424T014751
CREATED:20220124T194905Z
LAST-MODIFIED:20220124T194905Z
UID:10000662-1645351200-1645360200@utruthcenter.org
SUMMARY:Choose Listening
DESCRIPTION:THEME: Choose Better Relationships\n\n\nLESSON TITLE: \nChoose Listening\n\nTEACHER: \n \nRev. Charles M. Taylor\n\nRESPONSIVE READING: \nDaily Inspiration Pg. TBA \n\nSCRIPTURE: \nJames 1:19 \n\nColor: Pink\nPower: Love\nDisciple: John\nWomen of the Chalice: Mary of Nazareth\nPhysical Location: Back of the Heart\nMinistry: Fellowship \n\n 
URL:https://utruthcenter.org/event/choose-listening/
LOCATION:UTC\, 21310 NW 37th Avenue\, Miami Gardens\, FL\, 33056
CATEGORIES:Events,Worship
ATTACH;FMTTYPE=image/jpeg:https://utruthcenter.org/wp-content/uploads/2022/01/UTC_CalArt-FEB2022.jpg
GEO:25.9696213;-80.2633696
X-APPLE-STRUCTURED-LOCATION;VALUE=URI;X-ADDRESS=UTC 21310 NW 37th Avenue Miami Gardens FL 33056;X-APPLE-RADIUS=500;X-TITLE=21310 NW 37th Avenue:geo:-80.2633696,25.9696213
END:VEVENT
BEGIN:VEVENT
DTSTART;TZID=America/New_York:20220220T100000
DTEND;TZID=America/New_York:20220220T110000
DTSTAMP:20260424T014751
CREATED:20210822T184058Z
LAST-MODIFIED:20210822T184518Z
UID:10000328-1645351200-1645354800@utruthcenter.org
SUMMARY:AIF 2021 Prayer Vigil
DESCRIPTION:Saturday\, September 4th\, 2021\n9:00 AM or 10:00 AM\nvia conference call\n(712)451-0011 – Access Code: 457533#\n \n\n 
URL:https://utruthcenter.org/event/aif-2021-prayer-vigil/2022-02-20/
LOCATION:THIS EVENT IS ONLINE ONLY.\, United States
CATEGORIES:Meetings,Worship
ATTACH;FMTTYPE=image/jpeg:https://utruthcenter.org/wp-content/uploads/2021/08/AIF2021_PrayerVigil-CalArt.jpg
END:VEVENT
BEGIN:VEVENT
DTSTART;TZID=America/New_York:20220219T100000
DTEND;TZID=America/New_York:20220219T110000
DTSTAMP:20260424T014751
CREATED:20210822T184058Z
LAST-MODIFIED:20210822T184518Z
UID:10000327-1645264800-1645268400@utruthcenter.org
SUMMARY:AIF 2021 Prayer Vigil
DESCRIPTION:Saturday\, September 4th\, 2021\n9:00 AM or 10:00 AM\nvia conference call\n(712)451-0011 – Access Code: 457533#\n \n\n 
URL:https://utruthcenter.org/event/aif-2021-prayer-vigil/2022-02-19/
LOCATION:THIS EVENT IS ONLINE ONLY.\, United States
CATEGORIES:Meetings,Worship
ATTACH;FMTTYPE=image/jpeg:https://utruthcenter.org/wp-content/uploads/2021/08/AIF2021_PrayerVigil-CalArt.jpg
END:VEVENT
BEGIN:VEVENT
DTSTART;TZID=America/New_York:20220218T100000
DTEND;TZID=America/New_York:20220218T110000
DTSTAMP:20260424T014751
CREATED:20210822T184058Z
LAST-MODIFIED:20210822T184518Z
UID:10000326-1645178400-1645182000@utruthcenter.org
SUMMARY:AIF 2021 Prayer Vigil
DESCRIPTION:Saturday\, September 4th\, 2021\n9:00 AM or 10:00 AM\nvia conference call\n(712)451-0011 – Access Code: 457533#\n \n\n 
URL:https://utruthcenter.org/event/aif-2021-prayer-vigil/2022-02-18/
LOCATION:THIS EVENT IS ONLINE ONLY.\, United States
CATEGORIES:Meetings,Worship
ATTACH;FMTTYPE=image/jpeg:https://utruthcenter.org/wp-content/uploads/2021/08/AIF2021_PrayerVigil-CalArt.jpg
END:VEVENT
BEGIN:VEVENT
DTSTART;TZID=America/New_York:20220217T100000
DTEND;TZID=America/New_York:20220217T110000
DTSTAMP:20260424T014751
CREATED:20210822T184058Z
LAST-MODIFIED:20210822T184518Z
UID:10000325-1645092000-1645095600@utruthcenter.org
SUMMARY:AIF 2021 Prayer Vigil
DESCRIPTION:Saturday\, September 4th\, 2021\n9:00 AM or 10:00 AM\nvia conference call\n(712)451-0011 – Access Code: 457533#\n \n\n 
URL:https://utruthcenter.org/event/aif-2021-prayer-vigil/2022-02-17/
LOCATION:THIS EVENT IS ONLINE ONLY.\, United States
CATEGORIES:Meetings,Worship
ATTACH;FMTTYPE=image/jpeg:https://utruthcenter.org/wp-content/uploads/2021/08/AIF2021_PrayerVigil-CalArt.jpg
END:VEVENT
BEGIN:VEVENT
DTSTART;TZID=America/New_York:20220216T100000
DTEND;TZID=America/New_York:20220216T110000
DTSTAMP:20260424T014751
CREATED:20210822T184058Z
LAST-MODIFIED:20210822T184518Z
UID:10000324-1645005600-1645009200@utruthcenter.org
SUMMARY:AIF 2021 Prayer Vigil
DESCRIPTION:Saturday\, September 4th\, 2021\n9:00 AM or 10:00 AM\nvia conference call\n(712)451-0011 – Access Code: 457533#\n \n\n 
URL:https://utruthcenter.org/event/aif-2021-prayer-vigil/2022-02-16/
LOCATION:THIS EVENT IS ONLINE ONLY.\, United States
CATEGORIES:Meetings,Worship
ATTACH;FMTTYPE=image/jpeg:https://utruthcenter.org/wp-content/uploads/2021/08/AIF2021_PrayerVigil-CalArt.jpg
END:VEVENT
BEGIN:VEVENT
DTSTART;TZID=America/New_York:20220215T100000
DTEND;TZID=America/New_York:20220215T110000
DTSTAMP:20260424T014751
CREATED:20210822T184058Z
LAST-MODIFIED:20210822T184518Z
UID:10000323-1644919200-1644922800@utruthcenter.org
SUMMARY:AIF 2021 Prayer Vigil
DESCRIPTION:Saturday\, September 4th\, 2021\n9:00 AM or 10:00 AM\nvia conference call\n(712)451-0011 – Access Code: 457533#\n \n\n 
URL:https://utruthcenter.org/event/aif-2021-prayer-vigil/2022-02-15/
LOCATION:THIS EVENT IS ONLINE ONLY.\, United States
CATEGORIES:Meetings,Worship
ATTACH;FMTTYPE=image/jpeg:https://utruthcenter.org/wp-content/uploads/2021/08/AIF2021_PrayerVigil-CalArt.jpg
END:VEVENT
BEGIN:VEVENT
DTSTART;TZID=America/New_York:20220214T100000
DTEND;TZID=America/New_York:20220214T110000
DTSTAMP:20260424T014751
CREATED:20210822T184058Z
LAST-MODIFIED:20210822T184518Z
UID:10000322-1644832800-1644836400@utruthcenter.org
SUMMARY:AIF 2021 Prayer Vigil
DESCRIPTION:Saturday\, September 4th\, 2021\n9:00 AM or 10:00 AM\nvia conference call\n(712)451-0011 – Access Code: 457533#\n \n\n 
URL:https://utruthcenter.org/event/aif-2021-prayer-vigil/2022-02-14/
LOCATION:THIS EVENT IS ONLINE ONLY.\, United States
CATEGORIES:Meetings,Worship
ATTACH;FMTTYPE=image/jpeg:https://utruthcenter.org/wp-content/uploads/2021/08/AIF2021_PrayerVigil-CalArt.jpg
END:VEVENT
BEGIN:VEVENT
DTSTART;TZID=America/New_York:20220213T100000
DTEND;TZID=America/New_York:20220213T123000
DTSTAMP:20260424T014751
CREATED:20220124T194741Z
LAST-MODIFIED:20220124T194741Z
UID:10000661-1644746400-1644755400@utruthcenter.org
SUMMARY:Choose Giving
DESCRIPTION:THEME: Choose Better Relationships\n\n\nLESSON TITLE: \nChoose Giving\n\nTEACHER: \n \nRev. Charles M. Taylor\n\nRESPONSIVE READING: \nDaily Inspiration Pg. TBA \n\nSCRIPTURE: \n2 Corinthians 9:6-8 \n\nColor: Pink\nPower: Love\nDisciple: John\nWomen of the Chalice: Mary of Nazareth\nPhysical Location: Back of the Heart\nMinistry: Fellowship \n\n 
URL:https://utruthcenter.org/event/choose-giving/
LOCATION:UTC\, 21310 NW 37th Avenue\, Miami Gardens\, FL\, 33056
CATEGORIES:Events,Worship
ATTACH;FMTTYPE=image/jpeg:https://utruthcenter.org/wp-content/uploads/2022/01/UTC_CalArt-FEB2022.jpg
GEO:25.9696213;-80.2633696
X-APPLE-STRUCTURED-LOCATION;VALUE=URI;X-ADDRESS=UTC 21310 NW 37th Avenue Miami Gardens FL 33056;X-APPLE-RADIUS=500;X-TITLE=21310 NW 37th Avenue:geo:-80.2633696,25.9696213
END:VEVENT
BEGIN:VEVENT
DTSTART;TZID=America/New_York:20220213T100000
DTEND;TZID=America/New_York:20220213T110000
DTSTAMP:20260424T014751
CREATED:20210822T184058Z
LAST-MODIFIED:20210822T184518Z
UID:10000321-1644746400-1644750000@utruthcenter.org
SUMMARY:AIF 2021 Prayer Vigil
DESCRIPTION:Saturday\, September 4th\, 2021\n9:00 AM or 10:00 AM\nvia conference call\n(712)451-0011 – Access Code: 457533#\n \n\n 
URL:https://utruthcenter.org/event/aif-2021-prayer-vigil/2022-02-13/
LOCATION:THIS EVENT IS ONLINE ONLY.\, United States
CATEGORIES:Meetings,Worship
ATTACH;FMTTYPE=image/jpeg:https://utruthcenter.org/wp-content/uploads/2021/08/AIF2021_PrayerVigil-CalArt.jpg
END:VEVENT
BEGIN:VEVENT
DTSTART;TZID=America/New_York:20220212T100000
DTEND;TZID=America/New_York:20220212T110000
DTSTAMP:20260424T014751
CREATED:20210822T184058Z
LAST-MODIFIED:20210822T184518Z
UID:10000320-1644660000-1644663600@utruthcenter.org
SUMMARY:AIF 2021 Prayer Vigil
DESCRIPTION:Saturday\, September 4th\, 2021\n9:00 AM or 10:00 AM\nvia conference call\n(712)451-0011 – Access Code: 457533#\n \n\n 
URL:https://utruthcenter.org/event/aif-2021-prayer-vigil/2022-02-12/
LOCATION:THIS EVENT IS ONLINE ONLY.\, United States
CATEGORIES:Meetings,Worship
ATTACH;FMTTYPE=image/jpeg:https://utruthcenter.org/wp-content/uploads/2021/08/AIF2021_PrayerVigil-CalArt.jpg
END:VEVENT
BEGIN:VEVENT
DTSTART;TZID=America/New_York:20220211T100000
DTEND;TZID=America/New_York:20220211T110000
DTSTAMP:20260424T014751
CREATED:20210822T184058Z
LAST-MODIFIED:20210822T184518Z
UID:10000319-1644573600-1644577200@utruthcenter.org
SUMMARY:AIF 2021 Prayer Vigil
DESCRIPTION:Saturday\, September 4th\, 2021\n9:00 AM or 10:00 AM\nvia conference call\n(712)451-0011 – Access Code: 457533#\n \n\n 
URL:https://utruthcenter.org/event/aif-2021-prayer-vigil/2022-02-11/
LOCATION:THIS EVENT IS ONLINE ONLY.\, United States
CATEGORIES:Meetings,Worship
ATTACH;FMTTYPE=image/jpeg:https://utruthcenter.org/wp-content/uploads/2021/08/AIF2021_PrayerVigil-CalArt.jpg
END:VEVENT
BEGIN:VEVENT
DTSTART;TZID=America/New_York:20220210T100000
DTEND;TZID=America/New_York:20220210T110000
DTSTAMP:20260424T014751
CREATED:20210822T184058Z
LAST-MODIFIED:20210822T184518Z
UID:10000318-1644487200-1644490800@utruthcenter.org
SUMMARY:AIF 2021 Prayer Vigil
DESCRIPTION:Saturday\, September 4th\, 2021\n9:00 AM or 10:00 AM\nvia conference call\n(712)451-0011 – Access Code: 457533#\n \n\n 
URL:https://utruthcenter.org/event/aif-2021-prayer-vigil/2022-02-10/
LOCATION:THIS EVENT IS ONLINE ONLY.\, United States
CATEGORIES:Meetings,Worship
ATTACH;FMTTYPE=image/jpeg:https://utruthcenter.org/wp-content/uploads/2021/08/AIF2021_PrayerVigil-CalArt.jpg
END:VEVENT
BEGIN:VEVENT
DTSTART;TZID=America/New_York:20220209T100000
DTEND;TZID=America/New_York:20220209T110000
DTSTAMP:20260424T014751
CREATED:20210822T184058Z
LAST-MODIFIED:20210822T184518Z
UID:10000317-1644400800-1644404400@utruthcenter.org
SUMMARY:AIF 2021 Prayer Vigil
DESCRIPTION:Saturday\, September 4th\, 2021\n9:00 AM or 10:00 AM\nvia conference call\n(712)451-0011 – Access Code: 457533#\n \n\n 
URL:https://utruthcenter.org/event/aif-2021-prayer-vigil/2022-02-09/
LOCATION:THIS EVENT IS ONLINE ONLY.\, United States
CATEGORIES:Meetings,Worship
ATTACH;FMTTYPE=image/jpeg:https://utruthcenter.org/wp-content/uploads/2021/08/AIF2021_PrayerVigil-CalArt.jpg
END:VEVENT
BEGIN:VEVENT
DTSTART;TZID=America/New_York:20220208T100000
DTEND;TZID=America/New_York:20220208T110000
DTSTAMP:20260424T014751
CREATED:20210822T184058Z
LAST-MODIFIED:20210822T184518Z
UID:10000316-1644314400-1644318000@utruthcenter.org
SUMMARY:AIF 2021 Prayer Vigil
DESCRIPTION:Saturday\, September 4th\, 2021\n9:00 AM or 10:00 AM\nvia conference call\n(712)451-0011 – Access Code: 457533#\n \n\n 
URL:https://utruthcenter.org/event/aif-2021-prayer-vigil/2022-02-08/
LOCATION:THIS EVENT IS ONLINE ONLY.\, United States
CATEGORIES:Meetings,Worship
ATTACH;FMTTYPE=image/jpeg:https://utruthcenter.org/wp-content/uploads/2021/08/AIF2021_PrayerVigil-CalArt.jpg
END:VEVENT
BEGIN:VEVENT
DTSTART;TZID=America/New_York:20220207T100000
DTEND;TZID=America/New_York:20220207T110000
DTSTAMP:20260424T014751
CREATED:20210822T184058Z
LAST-MODIFIED:20210822T184518Z
UID:10000315-1644228000-1644231600@utruthcenter.org
SUMMARY:AIF 2021 Prayer Vigil
DESCRIPTION:Saturday\, September 4th\, 2021\n9:00 AM or 10:00 AM\nvia conference call\n(712)451-0011 – Access Code: 457533#\n \n\n 
URL:https://utruthcenter.org/event/aif-2021-prayer-vigil/2022-02-07/
LOCATION:THIS EVENT IS ONLINE ONLY.\, United States
CATEGORIES:Meetings,Worship
ATTACH;FMTTYPE=image/jpeg:https://utruthcenter.org/wp-content/uploads/2021/08/AIF2021_PrayerVigil-CalArt.jpg
END:VEVENT
END:VCALENDAR