BEGIN:VCALENDAR
VERSION:2.0
PRODID:-//Universal Truth Center - ECPv6.15.17//NONSGML v1.0//EN
CALSCALE:GREGORIAN
METHOD:PUBLISH
X-WR-CALNAME:Universal Truth Center
X-ORIGINAL-URL:https://utruthcenter.org
X-WR-CALDESC:Events for Universal Truth Center
REFRESH-INTERVAL;VALUE=DURATION:PT1H
X-Robots-Tag:noindex
X-PUBLISHED-TTL:PT1H
BEGIN:VTIMEZONE
TZID:America/New_York
BEGIN:DAYLIGHT
TZOFFSETFROM:-0500
TZOFFSETTO:-0400
TZNAME:EDT
DTSTART:20210314T070000
END:DAYLIGHT
BEGIN:STANDARD
TZOFFSETFROM:-0400
TZOFFSETTO:-0500
TZNAME:EST
DTSTART:20211107T060000
END:STANDARD
BEGIN:DAYLIGHT
TZOFFSETFROM:-0500
TZOFFSETTO:-0400
TZNAME:EDT
DTSTART:20220313T070000
END:DAYLIGHT
BEGIN:STANDARD
TZOFFSETFROM:-0400
TZOFFSETTO:-0500
TZNAME:EST
DTSTART:20221106T060000
END:STANDARD
BEGIN:DAYLIGHT
TZOFFSETFROM:-0500
TZOFFSETTO:-0400
TZNAME:EDT
DTSTART:20230312T070000
END:DAYLIGHT
BEGIN:STANDARD
TZOFFSETFROM:-0400
TZOFFSETTO:-0500
TZNAME:EST
DTSTART:20231105T060000
END:STANDARD
END:VTIMEZONE
BEGIN:VEVENT
DTSTART;TZID=America/New_York:20220601T100000
DTEND;TZID=America/New_York:20220601T110000
DTSTAMP:20260423T043329
CREATED:20210822T184058Z
LAST-MODIFIED:20210822T184518Z
UID:10000429-1654077600-1654081200@utruthcenter.org
SUMMARY:AIF 2021 Prayer Vigil
DESCRIPTION:Saturday\, September 4th\, 2021\n9:00 AM or 10:00 AM\nvia conference call\n(712)451-0011 – Access Code: 457533#\n \n\n 
URL:https://utruthcenter.org/event/aif-2021-prayer-vigil/2022-06-01/
LOCATION:THIS EVENT IS ONLINE ONLY.\, United States
CATEGORIES:Meetings,Worship
ATTACH;FMTTYPE=image/jpeg:https://utruthcenter.org/wp-content/uploads/2021/08/AIF2021_PrayerVigil-CalArt.jpg
END:VEVENT
BEGIN:VEVENT
DTSTART;TZID=America/New_York:20220531T100000
DTEND;TZID=America/New_York:20220531T110000
DTSTAMP:20260423T043329
CREATED:20210822T184058Z
LAST-MODIFIED:20210822T184518Z
UID:10000428-1653991200-1653994800@utruthcenter.org
SUMMARY:AIF 2021 Prayer Vigil
DESCRIPTION:Saturday\, September 4th\, 2021\n9:00 AM or 10:00 AM\nvia conference call\n(712)451-0011 – Access Code: 457533#\n \n\n 
URL:https://utruthcenter.org/event/aif-2021-prayer-vigil/2022-05-31/
LOCATION:THIS EVENT IS ONLINE ONLY.\, United States
CATEGORIES:Meetings,Worship
ATTACH;FMTTYPE=image/jpeg:https://utruthcenter.org/wp-content/uploads/2021/08/AIF2021_PrayerVigil-CalArt.jpg
END:VEVENT
BEGIN:VEVENT
DTSTART;TZID=America/New_York:20220530T100000
DTEND;TZID=America/New_York:20220530T110000
DTSTAMP:20260423T043329
CREATED:20210822T184058Z
LAST-MODIFIED:20210822T184518Z
UID:10000427-1653904800-1653908400@utruthcenter.org
SUMMARY:AIF 2021 Prayer Vigil
DESCRIPTION:Saturday\, September 4th\, 2021\n9:00 AM or 10:00 AM\nvia conference call\n(712)451-0011 – Access Code: 457533#\n \n\n 
URL:https://utruthcenter.org/event/aif-2021-prayer-vigil/2022-05-30/
LOCATION:THIS EVENT IS ONLINE ONLY.\, United States
CATEGORIES:Meetings,Worship
ATTACH;FMTTYPE=image/jpeg:https://utruthcenter.org/wp-content/uploads/2021/08/AIF2021_PrayerVigil-CalArt.jpg
END:VEVENT
BEGIN:VEVENT
DTSTART;TZID=America/New_York:20220529T100000
DTEND;TZID=America/New_York:20220529T123000
DTSTAMP:20260423T043329
CREATED:20220416T214434Z
LAST-MODIFIED:20220424T151509Z
UID:10000678-1653818400-1653827400@utruthcenter.org
SUMMARY:A Crying Shame
DESCRIPTION:Choose Healthy SistaHood\n\nLESSON TITLE: \nA Crying Shame\n\nTEACHER: \n \nRev. Lameteria Hall\n\nRESPONSIVE READING: \nDaily Inspiration Pg. 39 \n\nSCRIPTURE: \nLameteria Hall 11:33 \n\nColor: Purple\nPower: Power\nDisciple: Phillip\nWomen of the Chalice: Mary the Magdalene\nPhysical Location: Root of the Tongue\nMinistry: Service \n\n 
URL:https://utruthcenter.org/event/a-crying-shame/
LOCATION:UTC\, 21310 NW 37th Avenue\, Miami Gardens\, FL\, 33056
CATEGORIES:Events,Worship
ATTACH;FMTTYPE=image/jpeg:https://utruthcenter.org/wp-content/uploads/2022/04/UTC_CalArt-May2022.jpg
GEO:25.9696213;-80.2633696
X-APPLE-STRUCTURED-LOCATION;VALUE=URI;X-ADDRESS=UTC 21310 NW 37th Avenue Miami Gardens FL 33056;X-APPLE-RADIUS=500;X-TITLE=21310 NW 37th Avenue:geo:-80.2633696,25.9696213
END:VEVENT
BEGIN:VEVENT
DTSTART;TZID=America/New_York:20220529T100000
DTEND;TZID=America/New_York:20220529T110000
DTSTAMP:20260423T043329
CREATED:20210822T184058Z
LAST-MODIFIED:20210822T184518Z
UID:10000426-1653818400-1653822000@utruthcenter.org
SUMMARY:AIF 2021 Prayer Vigil
DESCRIPTION:Saturday\, September 4th\, 2021\n9:00 AM or 10:00 AM\nvia conference call\n(712)451-0011 – Access Code: 457533#\n \n\n 
URL:https://utruthcenter.org/event/aif-2021-prayer-vigil/2022-05-29/
LOCATION:THIS EVENT IS ONLINE ONLY.\, United States
CATEGORIES:Meetings,Worship
ATTACH;FMTTYPE=image/jpeg:https://utruthcenter.org/wp-content/uploads/2021/08/AIF2021_PrayerVigil-CalArt.jpg
END:VEVENT
BEGIN:VEVENT
DTSTART;TZID=America/New_York:20220528T100000
DTEND;TZID=America/New_York:20220528T110000
DTSTAMP:20260423T043329
CREATED:20210822T184058Z
LAST-MODIFIED:20210822T184518Z
UID:10000425-1653732000-1653735600@utruthcenter.org
SUMMARY:AIF 2021 Prayer Vigil
DESCRIPTION:Saturday\, September 4th\, 2021\n9:00 AM or 10:00 AM\nvia conference call\n(712)451-0011 – Access Code: 457533#\n \n\n 
URL:https://utruthcenter.org/event/aif-2021-prayer-vigil/2022-05-28/
LOCATION:THIS EVENT IS ONLINE ONLY.\, United States
CATEGORIES:Meetings,Worship
ATTACH;FMTTYPE=image/jpeg:https://utruthcenter.org/wp-content/uploads/2021/08/AIF2021_PrayerVigil-CalArt.jpg
END:VEVENT
BEGIN:VEVENT
DTSTART;TZID=America/New_York:20220527T100000
DTEND;TZID=America/New_York:20220527T110000
DTSTAMP:20260423T043329
CREATED:20210822T184058Z
LAST-MODIFIED:20210822T184518Z
UID:10000424-1653645600-1653649200@utruthcenter.org
SUMMARY:AIF 2021 Prayer Vigil
DESCRIPTION:Saturday\, September 4th\, 2021\n9:00 AM or 10:00 AM\nvia conference call\n(712)451-0011 – Access Code: 457533#\n \n\n 
URL:https://utruthcenter.org/event/aif-2021-prayer-vigil/2022-05-27/
LOCATION:THIS EVENT IS ONLINE ONLY.\, United States
CATEGORIES:Meetings,Worship
ATTACH;FMTTYPE=image/jpeg:https://utruthcenter.org/wp-content/uploads/2021/08/AIF2021_PrayerVigil-CalArt.jpg
END:VEVENT
BEGIN:VEVENT
DTSTART;TZID=America/New_York:20220526T100000
DTEND;TZID=America/New_York:20220526T110000
DTSTAMP:20260423T043329
CREATED:20210822T184058Z
LAST-MODIFIED:20210822T184518Z
UID:10000423-1653559200-1653562800@utruthcenter.org
SUMMARY:AIF 2021 Prayer Vigil
DESCRIPTION:Saturday\, September 4th\, 2021\n9:00 AM or 10:00 AM\nvia conference call\n(712)451-0011 – Access Code: 457533#\n \n\n 
URL:https://utruthcenter.org/event/aif-2021-prayer-vigil/2022-05-26/
LOCATION:THIS EVENT IS ONLINE ONLY.\, United States
CATEGORIES:Meetings,Worship
ATTACH;FMTTYPE=image/jpeg:https://utruthcenter.org/wp-content/uploads/2021/08/AIF2021_PrayerVigil-CalArt.jpg
END:VEVENT
BEGIN:VEVENT
DTSTART;TZID=America/New_York:20220525T100000
DTEND;TZID=America/New_York:20220525T110000
DTSTAMP:20260423T043329
CREATED:20210822T184058Z
LAST-MODIFIED:20210822T184518Z
UID:10000422-1653472800-1653476400@utruthcenter.org
SUMMARY:AIF 2021 Prayer Vigil
DESCRIPTION:Saturday\, September 4th\, 2021\n9:00 AM or 10:00 AM\nvia conference call\n(712)451-0011 – Access Code: 457533#\n \n\n 
URL:https://utruthcenter.org/event/aif-2021-prayer-vigil/2022-05-25/
LOCATION:THIS EVENT IS ONLINE ONLY.\, United States
CATEGORIES:Meetings,Worship
ATTACH;FMTTYPE=image/jpeg:https://utruthcenter.org/wp-content/uploads/2021/08/AIF2021_PrayerVigil-CalArt.jpg
END:VEVENT
BEGIN:VEVENT
DTSTART;TZID=America/New_York:20220524T100000
DTEND;TZID=America/New_York:20220524T110000
DTSTAMP:20260423T043329
CREATED:20210822T184058Z
LAST-MODIFIED:20210822T184518Z
UID:10000421-1653386400-1653390000@utruthcenter.org
SUMMARY:AIF 2021 Prayer Vigil
DESCRIPTION:Saturday\, September 4th\, 2021\n9:00 AM or 10:00 AM\nvia conference call\n(712)451-0011 – Access Code: 457533#\n \n\n 
URL:https://utruthcenter.org/event/aif-2021-prayer-vigil/2022-05-24/
LOCATION:THIS EVENT IS ONLINE ONLY.\, United States
CATEGORIES:Meetings,Worship
ATTACH;FMTTYPE=image/jpeg:https://utruthcenter.org/wp-content/uploads/2021/08/AIF2021_PrayerVigil-CalArt.jpg
END:VEVENT
BEGIN:VEVENT
DTSTART;TZID=America/New_York:20220523T100000
DTEND;TZID=America/New_York:20220523T110000
DTSTAMP:20260423T043329
CREATED:20210822T184058Z
LAST-MODIFIED:20210822T184518Z
UID:10000420-1653300000-1653303600@utruthcenter.org
SUMMARY:AIF 2021 Prayer Vigil
DESCRIPTION:Saturday\, September 4th\, 2021\n9:00 AM or 10:00 AM\nvia conference call\n(712)451-0011 – Access Code: 457533#\n \n\n 
URL:https://utruthcenter.org/event/aif-2021-prayer-vigil/2022-05-23/
LOCATION:THIS EVENT IS ONLINE ONLY.\, United States
CATEGORIES:Meetings,Worship
ATTACH;FMTTYPE=image/jpeg:https://utruthcenter.org/wp-content/uploads/2021/08/AIF2021_PrayerVigil-CalArt.jpg
END:VEVENT
BEGIN:VEVENT
DTSTART;TZID=America/New_York:20220522T100000
DTEND;TZID=America/New_York:20220522T123000
DTSTAMP:20260423T043329
CREATED:20220416T213714Z
LAST-MODIFIED:20220424T151045Z
UID:10000677-1653213600-1653222600@utruthcenter.org
SUMMARY:A Mistress\, A Maid and No Mercy
DESCRIPTION:Choose Healthy SistaHood\n\nLESSON TITLE: \nA Mistress\, A Maid and No Mercy\n\nTEACHER: \n \nRev. Jacqueline Atkins\n\nRESPONSIVE READING: \nDaily Inspiration Pg. 30 \n\nSCRIPTURE: \nGenesis 16:1-16 \n\nColor: Purple\nPower: Power\nDisciple: Phillip\nWomen of the Chalice: Mary the Magdalene\nPhysical Location: Root of the Tongue\nMinistry: Service \n\n 
URL:https://utruthcenter.org/event/a-mistress-a-maid-and-no-mercy/
LOCATION:UTC\, 21310 NW 37th Avenue\, Miami Gardens\, FL\, 33056
CATEGORIES:Events,Worship
ATTACH;FMTTYPE=image/jpeg:https://utruthcenter.org/wp-content/uploads/2022/04/UTC_CalArt-May2022.jpg
GEO:25.9696213;-80.2633696
X-APPLE-STRUCTURED-LOCATION;VALUE=URI;X-ADDRESS=UTC 21310 NW 37th Avenue Miami Gardens FL 33056;X-APPLE-RADIUS=500;X-TITLE=21310 NW 37th Avenue:geo:-80.2633696,25.9696213
END:VEVENT
BEGIN:VEVENT
DTSTART;TZID=America/New_York:20220522T100000
DTEND;TZID=America/New_York:20220522T110000
DTSTAMP:20260423T043329
CREATED:20210822T184058Z
LAST-MODIFIED:20210822T184518Z
UID:10000419-1653213600-1653217200@utruthcenter.org
SUMMARY:AIF 2021 Prayer Vigil
DESCRIPTION:Saturday\, September 4th\, 2021\n9:00 AM or 10:00 AM\nvia conference call\n(712)451-0011 – Access Code: 457533#\n \n\n 
URL:https://utruthcenter.org/event/aif-2021-prayer-vigil/2022-05-22/
LOCATION:THIS EVENT IS ONLINE ONLY.\, United States
CATEGORIES:Meetings,Worship
ATTACH;FMTTYPE=image/jpeg:https://utruthcenter.org/wp-content/uploads/2021/08/AIF2021_PrayerVigil-CalArt.jpg
END:VEVENT
BEGIN:VEVENT
DTSTART;TZID=America/New_York:20220521T100000
DTEND;TZID=America/New_York:20220521T110000
DTSTAMP:20260423T043329
CREATED:20210822T184058Z
LAST-MODIFIED:20210822T184518Z
UID:10000418-1653127200-1653130800@utruthcenter.org
SUMMARY:AIF 2021 Prayer Vigil
DESCRIPTION:Saturday\, September 4th\, 2021\n9:00 AM or 10:00 AM\nvia conference call\n(712)451-0011 – Access Code: 457533#\n \n\n 
URL:https://utruthcenter.org/event/aif-2021-prayer-vigil/2022-05-21/
LOCATION:THIS EVENT IS ONLINE ONLY.\, United States
CATEGORIES:Meetings,Worship
ATTACH;FMTTYPE=image/jpeg:https://utruthcenter.org/wp-content/uploads/2021/08/AIF2021_PrayerVigil-CalArt.jpg
END:VEVENT
BEGIN:VEVENT
DTSTART;TZID=America/New_York:20220520T100000
DTEND;TZID=America/New_York:20220520T110000
DTSTAMP:20260423T043329
CREATED:20210822T184058Z
LAST-MODIFIED:20210822T184518Z
UID:10000417-1653040800-1653044400@utruthcenter.org
SUMMARY:AIF 2021 Prayer Vigil
DESCRIPTION:Saturday\, September 4th\, 2021\n9:00 AM or 10:00 AM\nvia conference call\n(712)451-0011 – Access Code: 457533#\n \n\n 
URL:https://utruthcenter.org/event/aif-2021-prayer-vigil/2022-05-20/
LOCATION:THIS EVENT IS ONLINE ONLY.\, United States
CATEGORIES:Meetings,Worship
ATTACH;FMTTYPE=image/jpeg:https://utruthcenter.org/wp-content/uploads/2021/08/AIF2021_PrayerVigil-CalArt.jpg
END:VEVENT
BEGIN:VEVENT
DTSTART;TZID=America/New_York:20220519T100000
DTEND;TZID=America/New_York:20220519T110000
DTSTAMP:20260423T043329
CREATED:20210822T184058Z
LAST-MODIFIED:20210822T184518Z
UID:10000416-1652954400-1652958000@utruthcenter.org
SUMMARY:AIF 2021 Prayer Vigil
DESCRIPTION:Saturday\, September 4th\, 2021\n9:00 AM or 10:00 AM\nvia conference call\n(712)451-0011 – Access Code: 457533#\n \n\n 
URL:https://utruthcenter.org/event/aif-2021-prayer-vigil/2022-05-19/
LOCATION:THIS EVENT IS ONLINE ONLY.\, United States
CATEGORIES:Meetings,Worship
ATTACH;FMTTYPE=image/jpeg:https://utruthcenter.org/wp-content/uploads/2021/08/AIF2021_PrayerVigil-CalArt.jpg
END:VEVENT
BEGIN:VEVENT
DTSTART;TZID=America/New_York:20220518T100000
DTEND;TZID=America/New_York:20220518T110000
DTSTAMP:20260423T043329
CREATED:20210822T184058Z
LAST-MODIFIED:20210822T184518Z
UID:10000415-1652868000-1652871600@utruthcenter.org
SUMMARY:AIF 2021 Prayer Vigil
DESCRIPTION:Saturday\, September 4th\, 2021\n9:00 AM or 10:00 AM\nvia conference call\n(712)451-0011 – Access Code: 457533#\n \n\n 
URL:https://utruthcenter.org/event/aif-2021-prayer-vigil/2022-05-18/
LOCATION:THIS EVENT IS ONLINE ONLY.\, United States
CATEGORIES:Meetings,Worship
ATTACH;FMTTYPE=image/jpeg:https://utruthcenter.org/wp-content/uploads/2021/08/AIF2021_PrayerVigil-CalArt.jpg
END:VEVENT
BEGIN:VEVENT
DTSTART;TZID=America/New_York:20220517T100000
DTEND;TZID=America/New_York:20220517T110000
DTSTAMP:20260423T043329
CREATED:20210822T184058Z
LAST-MODIFIED:20210822T184518Z
UID:10000414-1652781600-1652785200@utruthcenter.org
SUMMARY:AIF 2021 Prayer Vigil
DESCRIPTION:Saturday\, September 4th\, 2021\n9:00 AM or 10:00 AM\nvia conference call\n(712)451-0011 – Access Code: 457533#\n \n\n 
URL:https://utruthcenter.org/event/aif-2021-prayer-vigil/2022-05-17/
LOCATION:THIS EVENT IS ONLINE ONLY.\, United States
CATEGORIES:Meetings,Worship
ATTACH;FMTTYPE=image/jpeg:https://utruthcenter.org/wp-content/uploads/2021/08/AIF2021_PrayerVigil-CalArt.jpg
END:VEVENT
BEGIN:VEVENT
DTSTART;TZID=America/New_York:20220516T100000
DTEND;TZID=America/New_York:20220516T110000
DTSTAMP:20260423T043329
CREATED:20210822T184058Z
LAST-MODIFIED:20210822T184518Z
UID:10000413-1652695200-1652698800@utruthcenter.org
SUMMARY:AIF 2021 Prayer Vigil
DESCRIPTION:Saturday\, September 4th\, 2021\n9:00 AM or 10:00 AM\nvia conference call\n(712)451-0011 – Access Code: 457533#\n \n\n 
URL:https://utruthcenter.org/event/aif-2021-prayer-vigil/2022-05-16/
LOCATION:THIS EVENT IS ONLINE ONLY.\, United States
CATEGORIES:Meetings,Worship
ATTACH;FMTTYPE=image/jpeg:https://utruthcenter.org/wp-content/uploads/2021/08/AIF2021_PrayerVigil-CalArt.jpg
END:VEVENT
BEGIN:VEVENT
DTSTART;TZID=America/New_York:20220515T100000
DTEND;TZID=America/New_York:20220515T123000
DTSTAMP:20260423T043329
CREATED:20220416T213243Z
LAST-MODIFIED:20220424T151000Z
UID:10000676-1652608800-1652617800@utruthcenter.org
SUMMARY:My Sister’s Keeper
DESCRIPTION:Choose Healthy SistaHood\n\nLESSON TITLE: \nMy Sister’s Keeper\n\nTEACHER: \n \nTawnicia Rowan\n\nRESPONSIVE READING: \nDaily Inspiration Pg. 38 \n\nSCRIPTURE: \nLuke 10: 38-42 \n\nColor: Purple\nPower: Power\nDisciple: Phillip\nWomen of the Chalice: Mary the Magdalene\nPhysical Location: Root of the Tongue\nMinistry: Service \n\n 
URL:https://utruthcenter.org/event/my-sisters-keeper/
LOCATION:UTC\, 21310 NW 37th Avenue\, Miami Gardens\, FL\, 33056
CATEGORIES:Events,Worship
ATTACH;FMTTYPE=image/jpeg:https://utruthcenter.org/wp-content/uploads/2022/04/UTC_CalArt-May2022.jpg
GEO:25.9696213;-80.2633696
X-APPLE-STRUCTURED-LOCATION;VALUE=URI;X-ADDRESS=UTC 21310 NW 37th Avenue Miami Gardens FL 33056;X-APPLE-RADIUS=500;X-TITLE=21310 NW 37th Avenue:geo:-80.2633696,25.9696213
END:VEVENT
BEGIN:VEVENT
DTSTART;TZID=America/New_York:20220515T100000
DTEND;TZID=America/New_York:20220515T110000
DTSTAMP:20260423T043329
CREATED:20210822T184058Z
LAST-MODIFIED:20210822T184518Z
UID:10000412-1652608800-1652612400@utruthcenter.org
SUMMARY:AIF 2021 Prayer Vigil
DESCRIPTION:Saturday\, September 4th\, 2021\n9:00 AM or 10:00 AM\nvia conference call\n(712)451-0011 – Access Code: 457533#\n \n\n 
URL:https://utruthcenter.org/event/aif-2021-prayer-vigil/2022-05-15/
LOCATION:THIS EVENT IS ONLINE ONLY.\, United States
CATEGORIES:Meetings,Worship
ATTACH;FMTTYPE=image/jpeg:https://utruthcenter.org/wp-content/uploads/2021/08/AIF2021_PrayerVigil-CalArt.jpg
END:VEVENT
BEGIN:VEVENT
DTSTART;TZID=America/New_York:20220514T100000
DTEND;TZID=America/New_York:20220514T110000
DTSTAMP:20260423T043329
CREATED:20210822T184058Z
LAST-MODIFIED:20210822T184518Z
UID:10000411-1652522400-1652526000@utruthcenter.org
SUMMARY:AIF 2021 Prayer Vigil
DESCRIPTION:Saturday\, September 4th\, 2021\n9:00 AM or 10:00 AM\nvia conference call\n(712)451-0011 – Access Code: 457533#\n \n\n 
URL:https://utruthcenter.org/event/aif-2021-prayer-vigil/2022-05-14/
LOCATION:THIS EVENT IS ONLINE ONLY.\, United States
CATEGORIES:Meetings,Worship
ATTACH;FMTTYPE=image/jpeg:https://utruthcenter.org/wp-content/uploads/2021/08/AIF2021_PrayerVigil-CalArt.jpg
END:VEVENT
BEGIN:VEVENT
DTSTART;TZID=America/New_York:20220513T100000
DTEND;TZID=America/New_York:20220513T110000
DTSTAMP:20260423T043329
CREATED:20210822T184058Z
LAST-MODIFIED:20210822T184518Z
UID:10000410-1652436000-1652439600@utruthcenter.org
SUMMARY:AIF 2021 Prayer Vigil
DESCRIPTION:Saturday\, September 4th\, 2021\n9:00 AM or 10:00 AM\nvia conference call\n(712)451-0011 – Access Code: 457533#\n \n\n 
URL:https://utruthcenter.org/event/aif-2021-prayer-vigil/2022-05-13/
LOCATION:THIS EVENT IS ONLINE ONLY.\, United States
CATEGORIES:Meetings,Worship
ATTACH;FMTTYPE=image/jpeg:https://utruthcenter.org/wp-content/uploads/2021/08/AIF2021_PrayerVigil-CalArt.jpg
END:VEVENT
BEGIN:VEVENT
DTSTART;TZID=America/New_York:20220512T100000
DTEND;TZID=America/New_York:20220512T110000
DTSTAMP:20260423T043329
CREATED:20210822T184058Z
LAST-MODIFIED:20210822T184518Z
UID:10000409-1652349600-1652353200@utruthcenter.org
SUMMARY:AIF 2021 Prayer Vigil
DESCRIPTION:Saturday\, September 4th\, 2021\n9:00 AM or 10:00 AM\nvia conference call\n(712)451-0011 – Access Code: 457533#\n \n\n 
URL:https://utruthcenter.org/event/aif-2021-prayer-vigil/2022-05-12/
LOCATION:THIS EVENT IS ONLINE ONLY.\, United States
CATEGORIES:Meetings,Worship
ATTACH;FMTTYPE=image/jpeg:https://utruthcenter.org/wp-content/uploads/2021/08/AIF2021_PrayerVigil-CalArt.jpg
END:VEVENT
BEGIN:VEVENT
DTSTART;TZID=America/New_York:20220511T100000
DTEND;TZID=America/New_York:20220511T110000
DTSTAMP:20260423T043329
CREATED:20210822T184058Z
LAST-MODIFIED:20210822T184518Z
UID:10000408-1652263200-1652266800@utruthcenter.org
SUMMARY:AIF 2021 Prayer Vigil
DESCRIPTION:Saturday\, September 4th\, 2021\n9:00 AM or 10:00 AM\nvia conference call\n(712)451-0011 – Access Code: 457533#\n \n\n 
URL:https://utruthcenter.org/event/aif-2021-prayer-vigil/2022-05-11/
LOCATION:THIS EVENT IS ONLINE ONLY.\, United States
CATEGORIES:Meetings,Worship
ATTACH;FMTTYPE=image/jpeg:https://utruthcenter.org/wp-content/uploads/2021/08/AIF2021_PrayerVigil-CalArt.jpg
END:VEVENT
BEGIN:VEVENT
DTSTART;TZID=America/New_York:20220510T100000
DTEND;TZID=America/New_York:20220510T110000
DTSTAMP:20260423T043329
CREATED:20210822T184058Z
LAST-MODIFIED:20210822T184518Z
UID:10000407-1652176800-1652180400@utruthcenter.org
SUMMARY:AIF 2021 Prayer Vigil
DESCRIPTION:Saturday\, September 4th\, 2021\n9:00 AM or 10:00 AM\nvia conference call\n(712)451-0011 – Access Code: 457533#\n \n\n 
URL:https://utruthcenter.org/event/aif-2021-prayer-vigil/2022-05-10/
LOCATION:THIS EVENT IS ONLINE ONLY.\, United States
CATEGORIES:Meetings,Worship
ATTACH;FMTTYPE=image/jpeg:https://utruthcenter.org/wp-content/uploads/2021/08/AIF2021_PrayerVigil-CalArt.jpg
END:VEVENT
BEGIN:VEVENT
DTSTART;TZID=America/New_York:20220509T100000
DTEND;TZID=America/New_York:20220509T110000
DTSTAMP:20260423T043329
CREATED:20210822T184058Z
LAST-MODIFIED:20210822T184518Z
UID:10000406-1652090400-1652094000@utruthcenter.org
SUMMARY:AIF 2021 Prayer Vigil
DESCRIPTION:Saturday\, September 4th\, 2021\n9:00 AM or 10:00 AM\nvia conference call\n(712)451-0011 – Access Code: 457533#\n \n\n 
URL:https://utruthcenter.org/event/aif-2021-prayer-vigil/2022-05-09/
LOCATION:THIS EVENT IS ONLINE ONLY.\, United States
CATEGORIES:Meetings,Worship
ATTACH;FMTTYPE=image/jpeg:https://utruthcenter.org/wp-content/uploads/2021/08/AIF2021_PrayerVigil-CalArt.jpg
END:VEVENT
BEGIN:VEVENT
DTSTART;TZID=America/New_York:20220508T100000
DTEND;TZID=America/New_York:20220508T123000
DTSTAMP:20260423T043329
CREATED:20220416T212815Z
LAST-MODIFIED:20220424T150810Z
UID:10000675-1652004000-1652013000@utruthcenter.org
SUMMARY:Certain Women
DESCRIPTION:Choose Healthy SistaHood\n\nLESSON TITLE: \nCertain Women\n\nTEACHER: \n \nShakira Taylor\n\nRESPONSIVE READING: \nDaily Inspiration Pg. 16 \n\nSCRIPTURE: \nLuke 24:1-11 \n\nColor: Purple\nPower: Power\nDisciple: Phillip\nWomen of the Chalice: Mary the Magdalene\nPhysical Location: Root of the Tongue\nMinistry: Service \n\n 
URL:https://utruthcenter.org/event/certain-women/
LOCATION:UTC\, 21310 NW 37th Avenue\, Miami Gardens\, FL\, 33056
CATEGORIES:Events,Worship
ATTACH;FMTTYPE=image/jpeg:https://utruthcenter.org/wp-content/uploads/2022/04/UTC_CalArt-May2022.jpg
GEO:25.9696213;-80.2633696
X-APPLE-STRUCTURED-LOCATION;VALUE=URI;X-ADDRESS=UTC 21310 NW 37th Avenue Miami Gardens FL 33056;X-APPLE-RADIUS=500;X-TITLE=21310 NW 37th Avenue:geo:-80.2633696,25.9696213
END:VEVENT
BEGIN:VEVENT
DTSTART;TZID=America/New_York:20220508T100000
DTEND;TZID=America/New_York:20220508T110000
DTSTAMP:20260423T043329
CREATED:20210822T184058Z
LAST-MODIFIED:20210822T184518Z
UID:10000405-1652004000-1652007600@utruthcenter.org
SUMMARY:AIF 2021 Prayer Vigil
DESCRIPTION:Saturday\, September 4th\, 2021\n9:00 AM or 10:00 AM\nvia conference call\n(712)451-0011 – Access Code: 457533#\n \n\n 
URL:https://utruthcenter.org/event/aif-2021-prayer-vigil/2022-05-08/
LOCATION:THIS EVENT IS ONLINE ONLY.\, United States
CATEGORIES:Meetings,Worship
ATTACH;FMTTYPE=image/jpeg:https://utruthcenter.org/wp-content/uploads/2021/08/AIF2021_PrayerVigil-CalArt.jpg
END:VEVENT
BEGIN:VEVENT
DTSTART;VALUE=DATE:20220508
DTEND;VALUE=DATE:20220509
DTSTAMP:20260423T043329
CREATED:20220502T165807Z
LAST-MODIFIED:20220502T165807Z
UID:10000684-1651968000-1652054399@utruthcenter.org
SUMMARY:Happy Mother's Day 2022
DESCRIPTION:Mother’s Day comes once a year. Some think that if they buy their mother flowers and a card that they have fulfilled their obligation for the rest of the year. If we would only comprehend a small part of what our mothers did for us as children. How they would literally die for us if needed. We would realize that one day is not sufficient. Mother’s Day should be a time to remind us that we have been neglecting our duties as sons and daughters. This relationship is sacred. Let us honor our mothers. \n\nYou Are My Heart & Soul\nThank you…\nFor standing by me through thick and thin\,\nFor not giving up on me when I didn’t win\,\nFor your patience when I kept pushing you away\,\nFor caring when I said I didn’t need you anyway. \nI am grateful knowing…\nI can count on your strength\,\nAsk for your support and know you’ll go to any length.\nWhen I lose my way\,\nYou help me get back on track.\nWhen in pain\,\nYour comfort soothes and brings me back. \nI am lucky because…\nWhen I was sad\, you gave me faith and hope.\nWhen I was confused\, you taught me how to cope.\nWhen I felt I couldn’t go on\,\nYou carried me long miles.\nWhen I didn’t believe\,\nYou restored my smiles. \nMom\, thank you…\nFor your guidance and the faith you’ve shown\,\nFor giving me a safe place where I have grown\,\nFor showing me how to strive.\nBecause of your love\,\nI will survive. \n© 2006 Elizabeth A. Robinson \nSource: familyfriendpoems.com
URL:https://utruthcenter.org/event/happy-mothers-day-2022/
CATEGORIES:Holidays
ATTACH;FMTTYPE=image/jpeg:https://utruthcenter.org/wp-content/uploads/2022/04/UTC_CalArt-MothersDay.jpg
END:VEVENT
END:VCALENDAR