BEGIN:VCALENDAR
VERSION:2.0
PRODID:-//Universal Truth Center - ECPv6.15.17//NONSGML v1.0//EN
CALSCALE:GREGORIAN
METHOD:PUBLISH
X-WR-CALNAME:Universal Truth Center
X-ORIGINAL-URL:https://utruthcenter.org
X-WR-CALDESC:Events for Universal Truth Center
REFRESH-INTERVAL;VALUE=DURATION:PT1H
X-Robots-Tag:noindex
X-PUBLISHED-TTL:PT1H
BEGIN:VTIMEZONE
TZID:America/New_York
BEGIN:DAYLIGHT
TZOFFSETFROM:-0500
TZOFFSETTO:-0400
TZNAME:EDT
DTSTART:20210314T070000
END:DAYLIGHT
BEGIN:STANDARD
TZOFFSETFROM:-0400
TZOFFSETTO:-0500
TZNAME:EST
DTSTART:20211107T060000
END:STANDARD
BEGIN:DAYLIGHT
TZOFFSETFROM:-0500
TZOFFSETTO:-0400
TZNAME:EDT
DTSTART:20220313T070000
END:DAYLIGHT
BEGIN:STANDARD
TZOFFSETFROM:-0400
TZOFFSETTO:-0500
TZNAME:EST
DTSTART:20221106T060000
END:STANDARD
BEGIN:DAYLIGHT
TZOFFSETFROM:-0500
TZOFFSETTO:-0400
TZNAME:EDT
DTSTART:20230312T070000
END:DAYLIGHT
BEGIN:STANDARD
TZOFFSETFROM:-0400
TZOFFSETTO:-0500
TZNAME:EST
DTSTART:20231105T060000
END:STANDARD
END:VTIMEZONE
BEGIN:VEVENT
DTSTART;TZID=America/New_York:20220629T100000
DTEND;TZID=America/New_York:20220629T110000
DTSTAMP:20260423T010514
CREATED:20210822T184058Z
LAST-MODIFIED:20210822T184518Z
UID:10000457-1656496800-1656500400@utruthcenter.org
SUMMARY:AIF 2021 Prayer Vigil
DESCRIPTION:Saturday\, September 4th\, 2021\n9:00 AM or 10:00 AM\nvia conference call\n(712)451-0011 – Access Code: 457533#\n \n\n 
URL:https://utruthcenter.org/event/aif-2021-prayer-vigil/2022-06-29/
LOCATION:THIS EVENT IS ONLINE ONLY.\, United States
CATEGORIES:Meetings,Worship
ATTACH;FMTTYPE=image/jpeg:https://utruthcenter.org/wp-content/uploads/2021/08/AIF2021_PrayerVigil-CalArt.jpg
END:VEVENT
BEGIN:VEVENT
DTSTART;TZID=America/New_York:20220628T100000
DTEND;TZID=America/New_York:20220628T110000
DTSTAMP:20260423T010514
CREATED:20210822T184058Z
LAST-MODIFIED:20210822T184518Z
UID:10000456-1656410400-1656414000@utruthcenter.org
SUMMARY:AIF 2021 Prayer Vigil
DESCRIPTION:Saturday\, September 4th\, 2021\n9:00 AM or 10:00 AM\nvia conference call\n(712)451-0011 – Access Code: 457533#\n \n\n 
URL:https://utruthcenter.org/event/aif-2021-prayer-vigil/2022-06-28/
LOCATION:THIS EVENT IS ONLINE ONLY.\, United States
CATEGORIES:Meetings,Worship
ATTACH;FMTTYPE=image/jpeg:https://utruthcenter.org/wp-content/uploads/2021/08/AIF2021_PrayerVigil-CalArt.jpg
END:VEVENT
BEGIN:VEVENT
DTSTART;TZID=America/New_York:20220627T100000
DTEND;TZID=America/New_York:20220627T110000
DTSTAMP:20260423T010514
CREATED:20210822T184058Z
LAST-MODIFIED:20210822T184518Z
UID:10000455-1656324000-1656327600@utruthcenter.org
SUMMARY:AIF 2021 Prayer Vigil
DESCRIPTION:Saturday\, September 4th\, 2021\n9:00 AM or 10:00 AM\nvia conference call\n(712)451-0011 – Access Code: 457533#\n \n\n 
URL:https://utruthcenter.org/event/aif-2021-prayer-vigil/2022-06-27/
LOCATION:THIS EVENT IS ONLINE ONLY.\, United States
CATEGORIES:Meetings,Worship
ATTACH;FMTTYPE=image/jpeg:https://utruthcenter.org/wp-content/uploads/2021/08/AIF2021_PrayerVigil-CalArt.jpg
END:VEVENT
BEGIN:VEVENT
DTSTART;TZID=America/New_York:20220626T100000
DTEND;TZID=America/New_York:20220626T123000
DTSTAMP:20260423T010514
CREATED:20220430T032538Z
LAST-MODIFIED:20220430T032538Z
UID:10000682-1656237600-1656246600@utruthcenter.org
SUMMARY:Take Time to Listen
DESCRIPTION:WHAT WE BELIEVE\n \n\nLESSON TITLE: \nTake Time to Listen\n\nTEACHER: \n \nRev. Charles M. Taylor\n\nWHAT WE BELIEVE: 6 \nWE BELIEVE that learning to listen to the whispering of the “still small voice” within us will ensure that we are guided into right action. \n\nRESPONSIVE READING: \nDaily Inspiration Pg. 83 \n\nSCRIPTURE: \n1 Kings 19:11-13 \n\nColor: Light Blue\nPower: Imagination\nDisciple: Bartholomew\nWomen of the Chalice: Anna\nPhysical Location: Between the Eyes\nMinistry: Youth \n\n 
URL:https://utruthcenter.org/event/take-time-to-listen/
LOCATION:UTC\, 21310 NW 37th Avenue\, Miami Gardens\, FL\, 33056
CATEGORIES:Events,Worship
ATTACH;FMTTYPE=image/jpeg:https://utruthcenter.org/wp-content/uploads/2022/04/UTC_CalArt-Grad2022.jpg
GEO:25.9696213;-80.2633696
X-APPLE-STRUCTURED-LOCATION;VALUE=URI;X-ADDRESS=UTC 21310 NW 37th Avenue Miami Gardens FL 33056;X-APPLE-RADIUS=500;X-TITLE=21310 NW 37th Avenue:geo:-80.2633696,25.9696213
END:VEVENT
BEGIN:VEVENT
DTSTART;TZID=America/New_York:20220626T100000
DTEND;TZID=America/New_York:20220626T110000
DTSTAMP:20260423T010514
CREATED:20210822T184058Z
LAST-MODIFIED:20210822T184518Z
UID:10000454-1656237600-1656241200@utruthcenter.org
SUMMARY:AIF 2021 Prayer Vigil
DESCRIPTION:Saturday\, September 4th\, 2021\n9:00 AM or 10:00 AM\nvia conference call\n(712)451-0011 – Access Code: 457533#\n \n\n 
URL:https://utruthcenter.org/event/aif-2021-prayer-vigil/2022-06-26/
LOCATION:THIS EVENT IS ONLINE ONLY.\, United States
CATEGORIES:Meetings,Worship
ATTACH;FMTTYPE=image/jpeg:https://utruthcenter.org/wp-content/uploads/2021/08/AIF2021_PrayerVigil-CalArt.jpg
END:VEVENT
BEGIN:VEVENT
DTSTART;TZID=America/New_York:20220625T100000
DTEND;TZID=America/New_York:20220625T110000
DTSTAMP:20260423T010514
CREATED:20210822T184058Z
LAST-MODIFIED:20210822T184518Z
UID:10000453-1656151200-1656154800@utruthcenter.org
SUMMARY:AIF 2021 Prayer Vigil
DESCRIPTION:Saturday\, September 4th\, 2021\n9:00 AM or 10:00 AM\nvia conference call\n(712)451-0011 – Access Code: 457533#\n \n\n 
URL:https://utruthcenter.org/event/aif-2021-prayer-vigil/2022-06-25/
LOCATION:THIS EVENT IS ONLINE ONLY.\, United States
CATEGORIES:Meetings,Worship
ATTACH;FMTTYPE=image/jpeg:https://utruthcenter.org/wp-content/uploads/2021/08/AIF2021_PrayerVigil-CalArt.jpg
END:VEVENT
BEGIN:VEVENT
DTSTART;TZID=America/New_York:20220624T100000
DTEND;TZID=America/New_York:20220624T110000
DTSTAMP:20260423T010514
CREATED:20210822T184058Z
LAST-MODIFIED:20210822T184518Z
UID:10000452-1656064800-1656068400@utruthcenter.org
SUMMARY:AIF 2021 Prayer Vigil
DESCRIPTION:Saturday\, September 4th\, 2021\n9:00 AM or 10:00 AM\nvia conference call\n(712)451-0011 – Access Code: 457533#\n \n\n 
URL:https://utruthcenter.org/event/aif-2021-prayer-vigil/2022-06-24/
LOCATION:THIS EVENT IS ONLINE ONLY.\, United States
CATEGORIES:Meetings,Worship
ATTACH;FMTTYPE=image/jpeg:https://utruthcenter.org/wp-content/uploads/2021/08/AIF2021_PrayerVigil-CalArt.jpg
END:VEVENT
BEGIN:VEVENT
DTSTART;TZID=America/New_York:20220623T100000
DTEND;TZID=America/New_York:20220623T110000
DTSTAMP:20260423T010514
CREATED:20210822T184058Z
LAST-MODIFIED:20210822T184518Z
UID:10000451-1655978400-1655982000@utruthcenter.org
SUMMARY:AIF 2021 Prayer Vigil
DESCRIPTION:Saturday\, September 4th\, 2021\n9:00 AM or 10:00 AM\nvia conference call\n(712)451-0011 – Access Code: 457533#\n \n\n 
URL:https://utruthcenter.org/event/aif-2021-prayer-vigil/2022-06-23/
LOCATION:THIS EVENT IS ONLINE ONLY.\, United States
CATEGORIES:Meetings,Worship
ATTACH;FMTTYPE=image/jpeg:https://utruthcenter.org/wp-content/uploads/2021/08/AIF2021_PrayerVigil-CalArt.jpg
END:VEVENT
BEGIN:VEVENT
DTSTART;TZID=America/New_York:20220622T100000
DTEND;TZID=America/New_York:20220622T110000
DTSTAMP:20260423T010514
CREATED:20210822T184058Z
LAST-MODIFIED:20210822T184518Z
UID:10000450-1655892000-1655895600@utruthcenter.org
SUMMARY:AIF 2021 Prayer Vigil
DESCRIPTION:Saturday\, September 4th\, 2021\n9:00 AM or 10:00 AM\nvia conference call\n(712)451-0011 – Access Code: 457533#\n \n\n 
URL:https://utruthcenter.org/event/aif-2021-prayer-vigil/2022-06-22/
LOCATION:THIS EVENT IS ONLINE ONLY.\, United States
CATEGORIES:Meetings,Worship
ATTACH;FMTTYPE=image/jpeg:https://utruthcenter.org/wp-content/uploads/2021/08/AIF2021_PrayerVigil-CalArt.jpg
END:VEVENT
BEGIN:VEVENT
DTSTART;TZID=America/New_York:20220621T100000
DTEND;TZID=America/New_York:20220621T110000
DTSTAMP:20260423T010514
CREATED:20210822T184058Z
LAST-MODIFIED:20210822T184518Z
UID:10000449-1655805600-1655809200@utruthcenter.org
SUMMARY:AIF 2021 Prayer Vigil
DESCRIPTION:Saturday\, September 4th\, 2021\n9:00 AM or 10:00 AM\nvia conference call\n(712)451-0011 – Access Code: 457533#\n \n\n 
URL:https://utruthcenter.org/event/aif-2021-prayer-vigil/2022-06-21/
LOCATION:THIS EVENT IS ONLINE ONLY.\, United States
CATEGORIES:Meetings,Worship
ATTACH;FMTTYPE=image/jpeg:https://utruthcenter.org/wp-content/uploads/2021/08/AIF2021_PrayerVigil-CalArt.jpg
END:VEVENT
BEGIN:VEVENT
DTSTART;TZID=America/New_York:20220620T100000
DTEND;TZID=America/New_York:20220620T110000
DTSTAMP:20260423T010514
CREATED:20210822T184058Z
LAST-MODIFIED:20210822T184518Z
UID:10000448-1655719200-1655722800@utruthcenter.org
SUMMARY:AIF 2021 Prayer Vigil
DESCRIPTION:Saturday\, September 4th\, 2021\n9:00 AM or 10:00 AM\nvia conference call\n(712)451-0011 – Access Code: 457533#\n \n\n 
URL:https://utruthcenter.org/event/aif-2021-prayer-vigil/2022-06-20/
LOCATION:THIS EVENT IS ONLINE ONLY.\, United States
CATEGORIES:Meetings,Worship
ATTACH;FMTTYPE=image/jpeg:https://utruthcenter.org/wp-content/uploads/2021/08/AIF2021_PrayerVigil-CalArt.jpg
END:VEVENT
BEGIN:VEVENT
DTSTART;TZID=America/New_York:20220619T100000
DTEND;TZID=America/New_York:20220619T123000
DTSTAMP:20260423T010514
CREATED:20220430T030155Z
LAST-MODIFIED:20220430T030155Z
UID:10000681-1655632800-1655641800@utruthcenter.org
SUMMARY:The Love of a Father
DESCRIPTION:WHAT WE BELIEVE\n \n\nLESSON TITLE: \nThe Love of a Father\n\nTEACHER: \n \nRev. Roderick Norton\n\nWHAT WE BELIEVE: 5 \nWE BELIEVE with Jesus that the basis for right thinking is LOVE – love of God and all that is good in ourselves and others. \n\nRESPONSIVE READING: \nDaily Inspiration Pg. 76 \n\nSCRIPTURE: \nLuke 10:27 \n\nColor: Light Blue\nPower: Imagination\nDisciple: Bartholomew\nWomen of the Chalice: Anna\nPhysical Location: Between the Eyes\nMinistry: Youth \n\n 
URL:https://utruthcenter.org/event/the-love-of-a-father/
LOCATION:UTC\, 21310 NW 37th Avenue\, Miami Gardens\, FL\, 33056
CATEGORIES:Events,Worship
ATTACH;FMTTYPE=image/jpeg:https://utruthcenter.org/wp-content/uploads/2022/04/UTC_CalArt-June2022-1.jpg
GEO:25.9696213;-80.2633696
X-APPLE-STRUCTURED-LOCATION;VALUE=URI;X-ADDRESS=UTC 21310 NW 37th Avenue Miami Gardens FL 33056;X-APPLE-RADIUS=500;X-TITLE=21310 NW 37th Avenue:geo:-80.2633696,25.9696213
END:VEVENT
BEGIN:VEVENT
DTSTART;TZID=America/New_York:20220619T100000
DTEND;TZID=America/New_York:20220619T110000
DTSTAMP:20260423T010514
CREATED:20210822T184058Z
LAST-MODIFIED:20210822T184518Z
UID:10000447-1655632800-1655636400@utruthcenter.org
SUMMARY:AIF 2021 Prayer Vigil
DESCRIPTION:Saturday\, September 4th\, 2021\n9:00 AM or 10:00 AM\nvia conference call\n(712)451-0011 – Access Code: 457533#\n \n\n 
URL:https://utruthcenter.org/event/aif-2021-prayer-vigil/2022-06-19/
LOCATION:THIS EVENT IS ONLINE ONLY.\, United States
CATEGORIES:Meetings,Worship
ATTACH;FMTTYPE=image/jpeg:https://utruthcenter.org/wp-content/uploads/2021/08/AIF2021_PrayerVigil-CalArt.jpg
END:VEVENT
BEGIN:VEVENT
DTSTART;VALUE=DATE:20220619
DTEND;VALUE=DATE:20220620
DTSTAMP:20260423T010514
CREATED:20220608T151339Z
LAST-MODIFIED:20220608T151339Z
UID:10000687-1655596800-1655683199@utruthcenter.org
SUMMARY:UTC Celebrates Juneteenth
DESCRIPTION:June 19th or “Juneteenth” is a very important day in African American history. Juneteenth\, or “Freedom Day” is the oldest nationally celebrated commemoration of the ending of slavery in the United States. \nThis holiday is considered the “longest running African-American holiday” and has been called “America’s second Independence Day.” It was on June 19\, 1865 that Union soldiers\, led by Maj. Gen. Gordon Granger\, landed in Galveston\, Texas with news that the war had ended and that all slaves were free. \n“Making Juneteenth a federal holiday is a major step forward to recognize the wrongs of the past\,” Senate Majority Leader Chuck Schumer\, D-N.Y.\, said in a statement\, “but we must continue to work to ensure equal justice and fulfill the promise of the Emancipation Proclamation and our Constitution.” \nOn June 17\, 2021\, President Biden signed into law Senate Bill 475 (S. 475)making “Juneteenth” a federal holiday.
URL:https://utruthcenter.org/event/utc-celebrates-juneteenth/
ATTACH;FMTTYPE=image/jpeg:https://utruthcenter.org/wp-content/uploads/2021/06/juneteenth_2021-CalArt.jpg
END:VEVENT
BEGIN:VEVENT
DTSTART;VALUE=DATE:20220619
DTEND;VALUE=DATE:20220620
DTSTAMP:20260423T010514
CREATED:20220430T033123Z
LAST-MODIFIED:20220430T033212Z
UID:10000683-1655596800-1655683199@utruthcenter.org
SUMMARY:Happy Father's Day 2022
DESCRIPTION:Father’s Day is a day of honoring fatherhood and paternal bonds\, as well as the influence of fathers in society. In America\, Father’s Day was founded by Sonora Smart Dodd\, who was a well-known poet\, scribe\, and sculptor. and was celebrated on the third Sunday of June for the first time in 1910. The day is held on various dates across the world and different regions maintain their own traditions of honoring fatherhood. \n\nFather’s Day Quotes worth sharing:\n“My father used to say that it’s never too late to do anything you wanted to do. And he said\, ‘You never know what you can accomplish until you try.’ ” \nMichael Jordan \n  \n“I remember a very important lesson that my father gave me when I was twelve or thirteen. He said\, ‘You know\, today I welded a perfect seam and I signed my name to it.’ And I said\, ‘But\, Daddy\, no one’s going to see it!’ And he said\, ‘Yeah\, but I know it’s there.’” \nToni Morrison \n  \n“When I was a boy of 14\, my father was so ignorant\, I could hardly stand to have the old man around. But when I got to be 21\, I was astonished at how much the old man had learned in seven years.” \nMark Twain \n  \n“Any fool can have a child. That doesn’t make you a father. It’s the courage to raise a child that makes you a father.” \nBarack Obama
URL:https://utruthcenter.org/event/happy-fathers-day-2022/
CATEGORIES:Holidays
ATTACH;FMTTYPE=image/jpeg:https://utruthcenter.org/wp-content/uploads/2021/05/HFD_2021_utc.jpg
END:VEVENT
BEGIN:VEVENT
DTSTART;TZID=America/New_York:20220618T100000
DTEND;TZID=America/New_York:20220618T110000
DTSTAMP:20260423T010514
CREATED:20210822T184058Z
LAST-MODIFIED:20210822T184518Z
UID:10000446-1655546400-1655550000@utruthcenter.org
SUMMARY:AIF 2021 Prayer Vigil
DESCRIPTION:Saturday\, September 4th\, 2021\n9:00 AM or 10:00 AM\nvia conference call\n(712)451-0011 – Access Code: 457533#\n \n\n 
URL:https://utruthcenter.org/event/aif-2021-prayer-vigil/2022-06-18/
LOCATION:THIS EVENT IS ONLINE ONLY.\, United States
CATEGORIES:Meetings,Worship
ATTACH;FMTTYPE=image/jpeg:https://utruthcenter.org/wp-content/uploads/2021/08/AIF2021_PrayerVigil-CalArt.jpg
END:VEVENT
BEGIN:VEVENT
DTSTART;TZID=America/New_York:20220617T100000
DTEND;TZID=America/New_York:20220617T110000
DTSTAMP:20260423T010514
CREATED:20210822T184058Z
LAST-MODIFIED:20210822T184518Z
UID:10000445-1655460000-1655463600@utruthcenter.org
SUMMARY:AIF 2021 Prayer Vigil
DESCRIPTION:Saturday\, September 4th\, 2021\n9:00 AM or 10:00 AM\nvia conference call\n(712)451-0011 – Access Code: 457533#\n \n\n 
URL:https://utruthcenter.org/event/aif-2021-prayer-vigil/2022-06-17/
LOCATION:THIS EVENT IS ONLINE ONLY.\, United States
CATEGORIES:Meetings,Worship
ATTACH;FMTTYPE=image/jpeg:https://utruthcenter.org/wp-content/uploads/2021/08/AIF2021_PrayerVigil-CalArt.jpg
END:VEVENT
BEGIN:VEVENT
DTSTART;TZID=America/New_York:20220616T100000
DTEND;TZID=America/New_York:20220616T110000
DTSTAMP:20260423T010514
CREATED:20210822T184058Z
LAST-MODIFIED:20210822T184518Z
UID:10000444-1655373600-1655377200@utruthcenter.org
SUMMARY:AIF 2021 Prayer Vigil
DESCRIPTION:Saturday\, September 4th\, 2021\n9:00 AM or 10:00 AM\nvia conference call\n(712)451-0011 – Access Code: 457533#\n \n\n 
URL:https://utruthcenter.org/event/aif-2021-prayer-vigil/2022-06-16/
LOCATION:THIS EVENT IS ONLINE ONLY.\, United States
CATEGORIES:Meetings,Worship
ATTACH;FMTTYPE=image/jpeg:https://utruthcenter.org/wp-content/uploads/2021/08/AIF2021_PrayerVigil-CalArt.jpg
END:VEVENT
BEGIN:VEVENT
DTSTART;TZID=America/New_York:20220615T100000
DTEND;TZID=America/New_York:20220615T110000
DTSTAMP:20260423T010514
CREATED:20210822T184058Z
LAST-MODIFIED:20210822T184518Z
UID:10000443-1655287200-1655290800@utruthcenter.org
SUMMARY:AIF 2021 Prayer Vigil
DESCRIPTION:Saturday\, September 4th\, 2021\n9:00 AM or 10:00 AM\nvia conference call\n(712)451-0011 – Access Code: 457533#\n \n\n 
URL:https://utruthcenter.org/event/aif-2021-prayer-vigil/2022-06-15/
LOCATION:THIS EVENT IS ONLINE ONLY.\, United States
CATEGORIES:Meetings,Worship
ATTACH;FMTTYPE=image/jpeg:https://utruthcenter.org/wp-content/uploads/2021/08/AIF2021_PrayerVigil-CalArt.jpg
END:VEVENT
BEGIN:VEVENT
DTSTART;TZID=America/New_York:20220614T100000
DTEND;TZID=America/New_York:20220614T110000
DTSTAMP:20260423T010514
CREATED:20210822T184058Z
LAST-MODIFIED:20210822T184518Z
UID:10000442-1655200800-1655204400@utruthcenter.org
SUMMARY:AIF 2021 Prayer Vigil
DESCRIPTION:Saturday\, September 4th\, 2021\n9:00 AM or 10:00 AM\nvia conference call\n(712)451-0011 – Access Code: 457533#\n \n\n 
URL:https://utruthcenter.org/event/aif-2021-prayer-vigil/2022-06-14/
LOCATION:THIS EVENT IS ONLINE ONLY.\, United States
CATEGORIES:Meetings,Worship
ATTACH;FMTTYPE=image/jpeg:https://utruthcenter.org/wp-content/uploads/2021/08/AIF2021_PrayerVigil-CalArt.jpg
END:VEVENT
BEGIN:VEVENT
DTSTART;TZID=America/New_York:20220613T100000
DTEND;TZID=America/New_York:20220613T110000
DTSTAMP:20260423T010514
CREATED:20210822T184058Z
LAST-MODIFIED:20210822T184518Z
UID:10000441-1655114400-1655118000@utruthcenter.org
SUMMARY:AIF 2021 Prayer Vigil
DESCRIPTION:Saturday\, September 4th\, 2021\n9:00 AM or 10:00 AM\nvia conference call\n(712)451-0011 – Access Code: 457533#\n \n\n 
URL:https://utruthcenter.org/event/aif-2021-prayer-vigil/2022-06-13/
LOCATION:THIS EVENT IS ONLINE ONLY.\, United States
CATEGORIES:Meetings,Worship
ATTACH;FMTTYPE=image/jpeg:https://utruthcenter.org/wp-content/uploads/2021/08/AIF2021_PrayerVigil-CalArt.jpg
END:VEVENT
BEGIN:VEVENT
DTSTART;TZID=America/New_York:20220612T100000
DTEND;TZID=America/New_York:20220612T123000
DTSTAMP:20260423T010514
CREATED:20220430T024838Z
LAST-MODIFIED:20220430T024838Z
UID:10000680-1655028000-1655037000@utruthcenter.org
SUMMARY:A New Wind is Blowing-UFBL
DESCRIPTION:WHAT WE BELIEVE\n\nLESSON TITLE: \nA New Wind is Blowing-UFBL\n\nTEACHER: \n \nRev. Anna Price\n\nWHAT WE BELIEVE: 7 – 9 \nWE BELIEVE that rather than devoting our primary efforts to providing for the needy of the world\, the time has come to make available to all people everywhere a teaching that will enable them to provide for themselves by learning to release the divine potential within them. \nWE BELIEVE that the Universal Foundation for Better Living is a vehicle for the spreading of such a teaching. \nWE BELIEVE that a mighty new wind is blowing. People everywhere are hungry for practical techniques that will show them how to fulfill the good desires of their hearts. We in the U.F.B.L. believe that we have these techniques and we offer them to everyone without distinction\, confident that with the help of the Holy Spirit\, we can teach all who are willing to learn how to overcome whatever would keep them from their highest good. \n\nRESPONSIVE READING: \nDaily Inspiration Pg. 67 \n\nSCRIPTURE: \nIsaiah 43:19 \n\nColor: Light Blue\nPower: Imagination\nDisciple: Bartholomew\nWomen of the Chalice: Anna\nPhysical Location: Between the Eyes\nMinistry: Youth \n\n 
URL:https://utruthcenter.org/event/a-new-wind-is-blowing-ufbl/
LOCATION:UTC\, 21310 NW 37th Avenue\, Miami Gardens\, FL\, 33056
CATEGORIES:Events,Worship
ATTACH;FMTTYPE=image/jpeg:https://utruthcenter.org/wp-content/uploads/2022/04/UTC_CalArt-June2022-1.jpg
GEO:25.9696213;-80.2633696
X-APPLE-STRUCTURED-LOCATION;VALUE=URI;X-ADDRESS=UTC 21310 NW 37th Avenue Miami Gardens FL 33056;X-APPLE-RADIUS=500;X-TITLE=21310 NW 37th Avenue:geo:-80.2633696,25.9696213
END:VEVENT
BEGIN:VEVENT
DTSTART;TZID=America/New_York:20220612T100000
DTEND;TZID=America/New_York:20220612T110000
DTSTAMP:20260423T010514
CREATED:20210822T184058Z
LAST-MODIFIED:20210822T184518Z
UID:10000440-1655028000-1655031600@utruthcenter.org
SUMMARY:AIF 2021 Prayer Vigil
DESCRIPTION:Saturday\, September 4th\, 2021\n9:00 AM or 10:00 AM\nvia conference call\n(712)451-0011 – Access Code: 457533#\n \n\n 
URL:https://utruthcenter.org/event/aif-2021-prayer-vigil/2022-06-12/
LOCATION:THIS EVENT IS ONLINE ONLY.\, United States
CATEGORIES:Meetings,Worship
ATTACH;FMTTYPE=image/jpeg:https://utruthcenter.org/wp-content/uploads/2021/08/AIF2021_PrayerVigil-CalArt.jpg
END:VEVENT
BEGIN:VEVENT
DTSTART;VALUE=DATE:20220612
DTEND;VALUE=DATE:20220613
DTSTAMP:20260423T010514
CREATED:20220608T150100Z
LAST-MODIFIED:20220608T150100Z
UID:10000686-1654992000-1655078399@utruthcenter.org
SUMMARY:UFBL Founder's Day 2022
DESCRIPTION:Happy Founder’s Day\, Everyone!\nABOUT UFBL & DR. JOHNNIE COLEMON\nLight bringers come to the world from many diverse backgrounds and with different experiences\, but the one thing they all have in common is the power to transform lives by offering new transformative concepts to ideas that were around from the beginning of time. \nIn the early 1950’s a young gifted woman had a diagnosis that was not pleasing. She was told that she had a mere six months to live. Instead of taking this news as a death sentence\, she seized the moment to open up her mind to the possibility of living life more abundantly. \nAs she turned her attention to the intention of health\, opportunities began to appear to aid in turning what may have appeared as impossible into a living reality. One day as she walked past a table in her living room a pamphlet fell.  She picked it up and recognized it was a Unity School of Christianity publication. After she read “God is your health you can’t be sick” this became her defining moment.  With her mother’s encouragement\, she attended the Unity School to learn the principles of spiritual healing. \nThe call of a soul to do the bidding of Spirit is one that leads through minefields of opportunities\, in order to clear away all the mental debris thus enabling the individual to become a true disciple the Christ. Johnnie had many experiences at Unity School that helped hone her skills and drew out of her all the latent qualities that would be required to complete the work that Spirit had called her to do. After her experiences at the Unity school\, she served for 18 years in various positions in the Unity Movement\, while building the largest Unity Center and during that process became a catalyst for the transformation of many lives. \nThe Rev. Dr. Johnnie Colemon\, Johnnie as she was known by thousands\, founded the Universal Foundation for Better Living (UFBL) in June 1974 comprising of New Thought churches\, centers\, and study groups located throughout the United States\, Canada\, the Caribbean (Trinidad and Tobago and Jamaica) the Bahamas and South America (Guyana). \nShe also founded the Johnnie Colemon Institute\, the teaching arm of her ministry\, which has been the Alma Mater to New Thought Leaders who are scattered over many lands. \nThe cornerstone of the UFBL is spiritual healing. It is from this platform that she brought excitement and innovation to the teaching of the abundant living message.  Johnnie also used the written word to teach others and demonstrate her commitment to the work and revelation of the Holy Spirit in the lives of others. Her “healing touch” has blessed thousands of people. \nDr. Colemon’s methodology is chronicled in Open Your Mind and Be Healed (DeVorss) and in a series of books; It Works if You Work It Jubilee Edition (UFBL Press). The story of her early life and ministry is documented in Lessons in Living Abundantly: The Life and Ministry of the Reverend Dr. Johnnie M. Colemon and the DVD\, A Woman\, A Work\,  A Wonder (UFBL Press). \nThose who had the pleasure of being part of her international ministry share the common belief that she lived and demonstrated what she taught. This is her true legacy; she came that those who passed her way could live life more abundantly. \nIn 1995\, Dr. Johnnie Colemon passed the baton of leadership as President to Dr. Mary A. Tumpkin\, Senior Minister of The Universal Truth Center in Miami\, Florida. Mary\, as we fondly called her\, served as President until her transition in November 2013. \nDr. Johnnie Colemon made her transition on December 23\, 2014\, and a memorial was held at the edifice that she built.  It was a celebration that brought together civic and community leaders\, her students\, and beneficiaries of her goodness and kindness. She has left behind a legacy that will stand the test of time. \n  \nTHE FOUNDATION\nThe Universal Foundation for Better Living  (UFBL) is an international association of Bible-based New Thought Christian churches\, centers\, and study groups dedicated to spreading the abundant life teachings of Jesus the Christ. \nThe aim of the Foundation is to establish\, prepare\, and support leaders and their congregations to do ministry effectively in the world. The Rev. Sheila McKeithen\, Senior Minister of The Universal Centre of Truth Better Living\, Kingston\, Jamaica currently serves as the Foundation’s President.
URL:https://utruthcenter.org/event/ufbl-founders-day-2022/
CATEGORIES:Events,Holidays
ATTACH;FMTTYPE=image/jpeg:https://utruthcenter.org/wp-content/uploads/2017/05/FoundersDay2017-Cal-art.jpg
END:VEVENT
BEGIN:VEVENT
DTSTART;TZID=America/New_York:20220611T100000
DTEND;TZID=America/New_York:20220611T110000
DTSTAMP:20260423T010514
CREATED:20210822T184058Z
LAST-MODIFIED:20210822T184518Z
UID:10000439-1654941600-1654945200@utruthcenter.org
SUMMARY:AIF 2021 Prayer Vigil
DESCRIPTION:Saturday\, September 4th\, 2021\n9:00 AM or 10:00 AM\nvia conference call\n(712)451-0011 – Access Code: 457533#\n \n\n 
URL:https://utruthcenter.org/event/aif-2021-prayer-vigil/2022-06-11/
LOCATION:THIS EVENT IS ONLINE ONLY.\, United States
CATEGORIES:Meetings,Worship
ATTACH;FMTTYPE=image/jpeg:https://utruthcenter.org/wp-content/uploads/2021/08/AIF2021_PrayerVigil-CalArt.jpg
END:VEVENT
BEGIN:VEVENT
DTSTART;TZID=America/New_York:20220610T100000
DTEND;TZID=America/New_York:20220610T110000
DTSTAMP:20260423T010514
CREATED:20210822T184058Z
LAST-MODIFIED:20210822T184518Z
UID:10000438-1654855200-1654858800@utruthcenter.org
SUMMARY:AIF 2021 Prayer Vigil
DESCRIPTION:Saturday\, September 4th\, 2021\n9:00 AM or 10:00 AM\nvia conference call\n(712)451-0011 – Access Code: 457533#\n \n\n 
URL:https://utruthcenter.org/event/aif-2021-prayer-vigil/2022-06-10/
LOCATION:THIS EVENT IS ONLINE ONLY.\, United States
CATEGORIES:Meetings,Worship
ATTACH;FMTTYPE=image/jpeg:https://utruthcenter.org/wp-content/uploads/2021/08/AIF2021_PrayerVigil-CalArt.jpg
END:VEVENT
BEGIN:VEVENT
DTSTART;TZID=America/New_York:20220609T100000
DTEND;TZID=America/New_York:20220609T110000
DTSTAMP:20260423T010514
CREATED:20210822T184058Z
LAST-MODIFIED:20210822T184518Z
UID:10000437-1654768800-1654772400@utruthcenter.org
SUMMARY:AIF 2021 Prayer Vigil
DESCRIPTION:Saturday\, September 4th\, 2021\n9:00 AM or 10:00 AM\nvia conference call\n(712)451-0011 – Access Code: 457533#\n \n\n 
URL:https://utruthcenter.org/event/aif-2021-prayer-vigil/2022-06-09/
LOCATION:THIS EVENT IS ONLINE ONLY.\, United States
CATEGORIES:Meetings,Worship
ATTACH;FMTTYPE=image/jpeg:https://utruthcenter.org/wp-content/uploads/2021/08/AIF2021_PrayerVigil-CalArt.jpg
END:VEVENT
BEGIN:VEVENT
DTSTART;TZID=America/New_York:20220608T100000
DTEND;TZID=America/New_York:20220608T110000
DTSTAMP:20260423T010514
CREATED:20210822T184058Z
LAST-MODIFIED:20210822T184518Z
UID:10000436-1654682400-1654686000@utruthcenter.org
SUMMARY:AIF 2021 Prayer Vigil
DESCRIPTION:Saturday\, September 4th\, 2021\n9:00 AM or 10:00 AM\nvia conference call\n(712)451-0011 – Access Code: 457533#\n \n\n 
URL:https://utruthcenter.org/event/aif-2021-prayer-vigil/2022-06-08/
LOCATION:THIS EVENT IS ONLINE ONLY.\, United States
CATEGORIES:Meetings,Worship
ATTACH;FMTTYPE=image/jpeg:https://utruthcenter.org/wp-content/uploads/2021/08/AIF2021_PrayerVigil-CalArt.jpg
END:VEVENT
BEGIN:VEVENT
DTSTART;TZID=America/New_York:20220607T100000
DTEND;TZID=America/New_York:20220607T110000
DTSTAMP:20260423T010514
CREATED:20210822T184058Z
LAST-MODIFIED:20210822T184518Z
UID:10000435-1654596000-1654599600@utruthcenter.org
SUMMARY:AIF 2021 Prayer Vigil
DESCRIPTION:Saturday\, September 4th\, 2021\n9:00 AM or 10:00 AM\nvia conference call\n(712)451-0011 – Access Code: 457533#\n \n\n 
URL:https://utruthcenter.org/event/aif-2021-prayer-vigil/2022-06-07/
LOCATION:THIS EVENT IS ONLINE ONLY.\, United States
CATEGORIES:Meetings,Worship
ATTACH;FMTTYPE=image/jpeg:https://utruthcenter.org/wp-content/uploads/2021/08/AIF2021_PrayerVigil-CalArt.jpg
END:VEVENT
BEGIN:VEVENT
DTSTART;TZID=America/New_York:20220606T100000
DTEND;TZID=America/New_York:20220606T110000
DTSTAMP:20260423T010514
CREATED:20210822T184058Z
LAST-MODIFIED:20210822T184518Z
UID:10000434-1654509600-1654513200@utruthcenter.org
SUMMARY:AIF 2021 Prayer Vigil
DESCRIPTION:Saturday\, September 4th\, 2021\n9:00 AM or 10:00 AM\nvia conference call\n(712)451-0011 – Access Code: 457533#\n \n\n 
URL:https://utruthcenter.org/event/aif-2021-prayer-vigil/2022-06-06/
LOCATION:THIS EVENT IS ONLINE ONLY.\, United States
CATEGORIES:Meetings,Worship
ATTACH;FMTTYPE=image/jpeg:https://utruthcenter.org/wp-content/uploads/2021/08/AIF2021_PrayerVigil-CalArt.jpg
END:VEVENT
END:VCALENDAR