BEGIN:VCALENDAR
VERSION:2.0
PRODID:-//Universal Truth Center - ECPv6.15.17//NONSGML v1.0//EN
CALSCALE:GREGORIAN
METHOD:PUBLISH
X-WR-CALNAME:Universal Truth Center
X-ORIGINAL-URL:https://utruthcenter.org
X-WR-CALDESC:Events for Universal Truth Center
REFRESH-INTERVAL;VALUE=DURATION:PT1H
X-Robots-Tag:noindex
X-PUBLISHED-TTL:PT1H
BEGIN:VTIMEZONE
TZID:America/New_York
BEGIN:DAYLIGHT
TZOFFSETFROM:-0500
TZOFFSETTO:-0400
TZNAME:EDT
DTSTART:20210314T070000
END:DAYLIGHT
BEGIN:STANDARD
TZOFFSETFROM:-0400
TZOFFSETTO:-0500
TZNAME:EST
DTSTART:20211107T060000
END:STANDARD
BEGIN:DAYLIGHT
TZOFFSETFROM:-0500
TZOFFSETTO:-0400
TZNAME:EDT
DTSTART:20220313T070000
END:DAYLIGHT
BEGIN:STANDARD
TZOFFSETFROM:-0400
TZOFFSETTO:-0500
TZNAME:EST
DTSTART:20221106T060000
END:STANDARD
BEGIN:DAYLIGHT
TZOFFSETFROM:-0500
TZOFFSETTO:-0400
TZNAME:EDT
DTSTART:20230312T070000
END:DAYLIGHT
BEGIN:STANDARD
TZOFFSETFROM:-0400
TZOFFSETTO:-0500
TZNAME:EST
DTSTART:20231105T060000
END:STANDARD
END:VTIMEZONE
BEGIN:VEVENT
DTSTART;TZID=America/New_York:20220909T100000
DTEND;TZID=America/New_York:20220909T110000
DTSTAMP:20260422T054817
CREATED:20210822T184058Z
LAST-MODIFIED:20210822T184518Z
UID:10000529-1662717600-1662721200@utruthcenter.org
SUMMARY:AIF 2021 Prayer Vigil
DESCRIPTION:Saturday\, September 4th\, 2021\n9:00 AM or 10:00 AM\nvia conference call\n(712)451-0011 – Access Code: 457533#\n \n\n 
URL:https://utruthcenter.org/event/aif-2021-prayer-vigil/2022-09-09/
LOCATION:THIS EVENT IS ONLINE ONLY.\, United States
CATEGORIES:Meetings,Worship
ATTACH;FMTTYPE=image/jpeg:https://utruthcenter.org/wp-content/uploads/2021/08/AIF2021_PrayerVigil-CalArt.jpg
END:VEVENT
BEGIN:VEVENT
DTSTART;TZID=America/New_York:20220908T100000
DTEND;TZID=America/New_York:20220908T110000
DTSTAMP:20260422T054817
CREATED:20210822T184058Z
LAST-MODIFIED:20210822T184518Z
UID:10000528-1662631200-1662634800@utruthcenter.org
SUMMARY:AIF 2021 Prayer Vigil
DESCRIPTION:Saturday\, September 4th\, 2021\n9:00 AM or 10:00 AM\nvia conference call\n(712)451-0011 – Access Code: 457533#\n \n\n 
URL:https://utruthcenter.org/event/aif-2021-prayer-vigil/2022-09-08/
LOCATION:THIS EVENT IS ONLINE ONLY.\, United States
CATEGORIES:Meetings,Worship
ATTACH;FMTTYPE=image/jpeg:https://utruthcenter.org/wp-content/uploads/2021/08/AIF2021_PrayerVigil-CalArt.jpg
END:VEVENT
BEGIN:VEVENT
DTSTART;TZID=America/New_York:20220907T100000
DTEND;TZID=America/New_York:20220907T110000
DTSTAMP:20260422T054817
CREATED:20210822T184058Z
LAST-MODIFIED:20210822T184518Z
UID:10000527-1662544800-1662548400@utruthcenter.org
SUMMARY:AIF 2021 Prayer Vigil
DESCRIPTION:Saturday\, September 4th\, 2021\n9:00 AM or 10:00 AM\nvia conference call\n(712)451-0011 – Access Code: 457533#\n \n\n 
URL:https://utruthcenter.org/event/aif-2021-prayer-vigil/2022-09-07/
LOCATION:THIS EVENT IS ONLINE ONLY.\, United States
CATEGORIES:Meetings,Worship
ATTACH;FMTTYPE=image/jpeg:https://utruthcenter.org/wp-content/uploads/2021/08/AIF2021_PrayerVigil-CalArt.jpg
END:VEVENT
BEGIN:VEVENT
DTSTART;TZID=America/New_York:20220906T100000
DTEND;TZID=America/New_York:20220906T110000
DTSTAMP:20260422T054817
CREATED:20210822T184058Z
LAST-MODIFIED:20210822T184518Z
UID:10000526-1662458400-1662462000@utruthcenter.org
SUMMARY:AIF 2021 Prayer Vigil
DESCRIPTION:Saturday\, September 4th\, 2021\n9:00 AM or 10:00 AM\nvia conference call\n(712)451-0011 – Access Code: 457533#\n \n\n 
URL:https://utruthcenter.org/event/aif-2021-prayer-vigil/2022-09-06/
LOCATION:THIS EVENT IS ONLINE ONLY.\, United States
CATEGORIES:Meetings,Worship
ATTACH;FMTTYPE=image/jpeg:https://utruthcenter.org/wp-content/uploads/2021/08/AIF2021_PrayerVigil-CalArt.jpg
END:VEVENT
BEGIN:VEVENT
DTSTART;TZID=America/New_York:20220905T100000
DTEND;TZID=America/New_York:20220905T110000
DTSTAMP:20260422T054817
CREATED:20210822T184058Z
LAST-MODIFIED:20210822T184518Z
UID:10000525-1662372000-1662375600@utruthcenter.org
SUMMARY:AIF 2021 Prayer Vigil
DESCRIPTION:Saturday\, September 4th\, 2021\n9:00 AM or 10:00 AM\nvia conference call\n(712)451-0011 – Access Code: 457533#\n \n\n 
URL:https://utruthcenter.org/event/aif-2021-prayer-vigil/2022-09-05/
LOCATION:THIS EVENT IS ONLINE ONLY.\, United States
CATEGORIES:Meetings,Worship
ATTACH;FMTTYPE=image/jpeg:https://utruthcenter.org/wp-content/uploads/2021/08/AIF2021_PrayerVigil-CalArt.jpg
END:VEVENT
BEGIN:VEVENT
DTSTART;VALUE=DATE:20220905
DTEND;VALUE=DATE:20220906
DTSTAMP:20260422T054817
CREATED:20220629T220050Z
LAST-MODIFIED:20220629T220050Z
UID:10000697-1662336000-1662422399@utruthcenter.org
SUMMARY:Happy Labor Day
DESCRIPTION:What exactly is Labor Day?\nLabor Day is a national holiday in the U.S. On Labor Day\, we remember the work of those in the labor movement who fought hard for workers’ rights. We also celebrate the essential role workers play in America’s growth and development—recognition some fought tirelessly for. \nUTC wishes all of you a Happy Labor Day!
URL:https://utruthcenter.org/event/happy-labor-day/
CATEGORIES:Holidays
ATTACH;FMTTYPE=image/jpeg:https://utruthcenter.org/wp-content/uploads/2022/06/UTC_LaborDay-CalArt.jpg
END:VEVENT
BEGIN:VEVENT
DTSTART;TZID=America/New_York:20220904T100000
DTEND;TZID=America/New_York:20220904T123000
DTSTAMP:20260422T054817
CREATED:20220817T014259Z
LAST-MODIFIED:20220817T124143Z
UID:10000698-1662285600-1662294600@utruthcenter.org
SUMMARY:Embrace Abundance
DESCRIPTION:THEME: Adventure in Faith 2022: Living a Life of Abundance\n\nLESSON TITLE: \nEmbrace Abundance\n\nUNFOLDMENT:  \nIntroduction\n\nTEACHER: \n \nRev. Charles M. Taylor\n\nRESPONSIVE READING: \nDaily Inspiration Pg. 20 \n\nSCRIPTURE: \n2 Corinthians 9:8 \n\nAIF BOOK: EMBRACE ABUNDANCE \n \nCHAPTER: Let’s Begin \n\nColor: Olive Green\nPower: Order\nDisciple: James son of Alpheus\nWomen of the Chalice: Mary wife of Alpheus\nPhysical Location: Navel\nMinistry: Adult Education \n\n 
URL:https://utruthcenter.org/event/embrace-abundance/
LOCATION:UTC\, 21310 NW 37th Avenue\, Miami Gardens\, FL\, 33056
CATEGORIES:Events,Worship
ATTACH;FMTTYPE=image/jpeg:https://utruthcenter.org/wp-content/uploads/2022/08/AIF2022-UTC_CalArt.jpg
GEO:25.9696213;-80.2633696
X-APPLE-STRUCTURED-LOCATION;VALUE=URI;X-ADDRESS=UTC 21310 NW 37th Avenue Miami Gardens FL 33056;X-APPLE-RADIUS=500;X-TITLE=21310 NW 37th Avenue:geo:-80.2633696,25.9696213
END:VEVENT
BEGIN:VEVENT
DTSTART;TZID=America/New_York:20220904T100000
DTEND;TZID=America/New_York:20220904T110000
DTSTAMP:20260422T054817
CREATED:20210822T184058Z
LAST-MODIFIED:20210822T184518Z
UID:10000524-1662285600-1662289200@utruthcenter.org
SUMMARY:AIF 2021 Prayer Vigil
DESCRIPTION:Saturday\, September 4th\, 2021\n9:00 AM or 10:00 AM\nvia conference call\n(712)451-0011 – Access Code: 457533#\n \n\n 
URL:https://utruthcenter.org/event/aif-2021-prayer-vigil/2022-09-04/
LOCATION:THIS EVENT IS ONLINE ONLY.\, United States
CATEGORIES:Meetings,Worship
ATTACH;FMTTYPE=image/jpeg:https://utruthcenter.org/wp-content/uploads/2021/08/AIF2021_PrayerVigil-CalArt.jpg
END:VEVENT
BEGIN:VEVENT
DTSTART;TZID=America/New_York:20220903T100000
DTEND;TZID=America/New_York:20220903T110000
DTSTAMP:20260422T054817
CREATED:20220822T223516Z
LAST-MODIFIED:20220822T223928Z
UID:10000711-1662199200-1662202800@utruthcenter.org
SUMMARY:AIF 2022 PRAYER VIGIL
DESCRIPTION:ADVENTURE IN FAITH PRAYER VIGIL\n SEPTEMBER 3rd\, 2022 – 9:00 am & 10:00 am\nYou are cordially invited to build a consciousness of abundance. \nThe two sessions start promptly on the hour. \nConference Call # (716) 427-1108\, Access Code: 457533\nThe Prayer and Healing Ministry cordially invites you to the Adventure In Faith Prayer Vigil on Saturday\, September 3rd\, 2022\, at 9:00 am or 10:00 am via conference call # (716) 427-1108\, Access Code: 457533. Please commit to a minimum of one hour of prayer to build a consciousness of abundance and call in at least 5 minutes before the hour.
URL:https://utruthcenter.org/event/aif-2022-prayer-vigil/2022-09-03/2/
CATEGORIES:Events,Worship
ATTACH;FMTTYPE=image/jpeg:https://utruthcenter.org/wp-content/uploads/2022/08/AIF2022_PRAYERVIGIL-CalArt2.jpg
END:VEVENT
BEGIN:VEVENT
DTSTART;TZID=America/New_York:20220903T100000
DTEND;TZID=America/New_York:20220903T110000
DTSTAMP:20260422T054817
CREATED:20210822T184058Z
LAST-MODIFIED:20210822T184518Z
UID:10000523-1662199200-1662202800@utruthcenter.org
SUMMARY:AIF 2021 Prayer Vigil
DESCRIPTION:Saturday\, September 4th\, 2021\n9:00 AM or 10:00 AM\nvia conference call\n(712)451-0011 – Access Code: 457533#\n \n\n 
URL:https://utruthcenter.org/event/aif-2021-prayer-vigil/2022-09-03/
LOCATION:THIS EVENT IS ONLINE ONLY.\, United States
CATEGORIES:Meetings,Worship
ATTACH;FMTTYPE=image/jpeg:https://utruthcenter.org/wp-content/uploads/2021/08/AIF2021_PrayerVigil-CalArt.jpg
END:VEVENT
BEGIN:VEVENT
DTSTART;TZID=America/New_York:20220903T090000
DTEND;TZID=America/New_York:20220903T100000
DTSTAMP:20260422T054817
CREATED:20220822T223516Z
LAST-MODIFIED:20220822T223928Z
UID:10000710-1662195600-1662199200@utruthcenter.org
SUMMARY:AIF 2022 PRAYER VIGIL
DESCRIPTION:ADVENTURE IN FAITH PRAYER VIGIL\n SEPTEMBER 3rd\, 2022 – 9:00 am & 10:00 am\nYou are cordially invited to build a consciousness of abundance. \nThe two sessions start promptly on the hour. \nConference Call # (716) 427-1108\, Access Code: 457533\nThe Prayer and Healing Ministry cordially invites you to the Adventure In Faith Prayer Vigil on Saturday\, September 3rd\, 2022\, at 9:00 am or 10:00 am via conference call # (716) 427-1108\, Access Code: 457533. Please commit to a minimum of one hour of prayer to build a consciousness of abundance and call in at least 5 minutes before the hour.
URL:https://utruthcenter.org/event/aif-2022-prayer-vigil/2022-09-03/1/
CATEGORIES:Events,Worship
ATTACH;FMTTYPE=image/jpeg:https://utruthcenter.org/wp-content/uploads/2022/08/AIF2022_PRAYERVIGIL-CalArt2.jpg
END:VEVENT
BEGIN:VEVENT
DTSTART;TZID=America/New_York:20220902T100000
DTEND;TZID=America/New_York:20220902T110000
DTSTAMP:20260422T054817
CREATED:20210822T184058Z
LAST-MODIFIED:20210822T184518Z
UID:10000522-1662112800-1662116400@utruthcenter.org
SUMMARY:AIF 2021 Prayer Vigil
DESCRIPTION:Saturday\, September 4th\, 2021\n9:00 AM or 10:00 AM\nvia conference call\n(712)451-0011 – Access Code: 457533#\n \n\n 
URL:https://utruthcenter.org/event/aif-2021-prayer-vigil/2022-09-02/
LOCATION:THIS EVENT IS ONLINE ONLY.\, United States
CATEGORIES:Meetings,Worship
ATTACH;FMTTYPE=image/jpeg:https://utruthcenter.org/wp-content/uploads/2021/08/AIF2021_PrayerVigil-CalArt.jpg
END:VEVENT
BEGIN:VEVENT
DTSTART;TZID=America/New_York:20220901T100000
DTEND;TZID=America/New_York:20220901T110000
DTSTAMP:20260422T054817
CREATED:20210822T184058Z
LAST-MODIFIED:20210822T184518Z
UID:10000521-1662026400-1662030000@utruthcenter.org
SUMMARY:AIF 2021 Prayer Vigil
DESCRIPTION:Saturday\, September 4th\, 2021\n9:00 AM or 10:00 AM\nvia conference call\n(712)451-0011 – Access Code: 457533#\n \n\n 
URL:https://utruthcenter.org/event/aif-2021-prayer-vigil/2022-09-01/
LOCATION:THIS EVENT IS ONLINE ONLY.\, United States
CATEGORIES:Meetings,Worship
ATTACH;FMTTYPE=image/jpeg:https://utruthcenter.org/wp-content/uploads/2021/08/AIF2021_PrayerVigil-CalArt.jpg
END:VEVENT
BEGIN:VEVENT
DTSTART;TZID=America/New_York:20220831T100000
DTEND;TZID=America/New_York:20220831T110000
DTSTAMP:20260422T054817
CREATED:20210822T184058Z
LAST-MODIFIED:20210822T184518Z
UID:10000520-1661940000-1661943600@utruthcenter.org
SUMMARY:AIF 2021 Prayer Vigil
DESCRIPTION:Saturday\, September 4th\, 2021\n9:00 AM or 10:00 AM\nvia conference call\n(712)451-0011 – Access Code: 457533#\n \n\n 
URL:https://utruthcenter.org/event/aif-2021-prayer-vigil/2022-08-31/
LOCATION:THIS EVENT IS ONLINE ONLY.\, United States
CATEGORIES:Meetings,Worship
ATTACH;FMTTYPE=image/jpeg:https://utruthcenter.org/wp-content/uploads/2021/08/AIF2021_PrayerVigil-CalArt.jpg
END:VEVENT
BEGIN:VEVENT
DTSTART;TZID=America/New_York:20220830T100000
DTEND;TZID=America/New_York:20220830T110000
DTSTAMP:20260422T054817
CREATED:20210822T184058Z
LAST-MODIFIED:20210822T184518Z
UID:10000519-1661853600-1661857200@utruthcenter.org
SUMMARY:AIF 2021 Prayer Vigil
DESCRIPTION:Saturday\, September 4th\, 2021\n9:00 AM or 10:00 AM\nvia conference call\n(712)451-0011 – Access Code: 457533#\n \n\n 
URL:https://utruthcenter.org/event/aif-2021-prayer-vigil/2022-08-30/
LOCATION:THIS EVENT IS ONLINE ONLY.\, United States
CATEGORIES:Meetings,Worship
ATTACH;FMTTYPE=image/jpeg:https://utruthcenter.org/wp-content/uploads/2021/08/AIF2021_PrayerVigil-CalArt.jpg
END:VEVENT
BEGIN:VEVENT
DTSTART;TZID=America/New_York:20220829T100000
DTEND;TZID=America/New_York:20220829T110000
DTSTAMP:20260422T054817
CREATED:20210822T184058Z
LAST-MODIFIED:20210822T184518Z
UID:10000518-1661767200-1661770800@utruthcenter.org
SUMMARY:AIF 2021 Prayer Vigil
DESCRIPTION:Saturday\, September 4th\, 2021\n9:00 AM or 10:00 AM\nvia conference call\n(712)451-0011 – Access Code: 457533#\n \n\n 
URL:https://utruthcenter.org/event/aif-2021-prayer-vigil/2022-08-29/
LOCATION:THIS EVENT IS ONLINE ONLY.\, United States
CATEGORIES:Meetings,Worship
ATTACH;FMTTYPE=image/jpeg:https://utruthcenter.org/wp-content/uploads/2021/08/AIF2021_PrayerVigil-CalArt.jpg
END:VEVENT
BEGIN:VEVENT
DTSTART;TZID=America/New_York:20220828T100000
DTEND;TZID=America/New_York:20220828T123000
DTSTAMP:20260422T054817
CREATED:20220620T182838Z
LAST-MODIFIED:20220727T160319Z
UID:10000696-1661680800-1661689800@utruthcenter.org
SUMMARY:Practicing God
DESCRIPTION:THEME: Principles for Better Living\n\nLESSON TITLE: \nPracticing God\n\nPRINCIPLE:  \nPracticing the Presence\n\nTEACHER: \n \nMyra Terrelonge\n\nRESPONSIVE READING: \nDaily Inspiration Pg. 79 \n\nSCRIPTURE: \nPhilippians 4:8 \n\nColor: Grey\nPower: Will\nDisciple: Matthew\nWomen of the Chalice: Martha\nPhysical Location: Center of Brain\nMinistry: Media \n\n 
URL:https://utruthcenter.org/event/practicing-god/
LOCATION:UTC\, 21310 NW 37th Avenue\, Miami Gardens\, FL\, 33056
CATEGORIES:Events,Worship
ATTACH;FMTTYPE=image/jpeg:https://utruthcenter.org/wp-content/uploads/2022/06/UTC-AUGUST-2022-CalArt.jpg
GEO:25.9696213;-80.2633696
X-APPLE-STRUCTURED-LOCATION;VALUE=URI;X-ADDRESS=UTC 21310 NW 37th Avenue Miami Gardens FL 33056;X-APPLE-RADIUS=500;X-TITLE=21310 NW 37th Avenue:geo:-80.2633696,25.9696213
END:VEVENT
BEGIN:VEVENT
DTSTART;TZID=America/New_York:20220828T100000
DTEND;TZID=America/New_York:20220828T110000
DTSTAMP:20260422T054817
CREATED:20210822T184058Z
LAST-MODIFIED:20210822T184518Z
UID:10000517-1661680800-1661684400@utruthcenter.org
SUMMARY:AIF 2021 Prayer Vigil
DESCRIPTION:Saturday\, September 4th\, 2021\n9:00 AM or 10:00 AM\nvia conference call\n(712)451-0011 – Access Code: 457533#\n \n\n 
URL:https://utruthcenter.org/event/aif-2021-prayer-vigil/2022-08-28/
LOCATION:THIS EVENT IS ONLINE ONLY.\, United States
CATEGORIES:Meetings,Worship
ATTACH;FMTTYPE=image/jpeg:https://utruthcenter.org/wp-content/uploads/2021/08/AIF2021_PrayerVigil-CalArt.jpg
END:VEVENT
BEGIN:VEVENT
DTSTART;TZID=America/New_York:20220827T100000
DTEND;TZID=America/New_York:20220827T110000
DTSTAMP:20260422T054817
CREATED:20210822T184058Z
LAST-MODIFIED:20210822T184518Z
UID:10000516-1661594400-1661598000@utruthcenter.org
SUMMARY:AIF 2021 Prayer Vigil
DESCRIPTION:Saturday\, September 4th\, 2021\n9:00 AM or 10:00 AM\nvia conference call\n(712)451-0011 – Access Code: 457533#\n \n\n 
URL:https://utruthcenter.org/event/aif-2021-prayer-vigil/2022-08-27/
LOCATION:THIS EVENT IS ONLINE ONLY.\, United States
CATEGORIES:Meetings,Worship
ATTACH;FMTTYPE=image/jpeg:https://utruthcenter.org/wp-content/uploads/2021/08/AIF2021_PrayerVigil-CalArt.jpg
END:VEVENT
BEGIN:VEVENT
DTSTART;TZID=America/New_York:20220826T100000
DTEND;TZID=America/New_York:20220826T110000
DTSTAMP:20260422T054817
CREATED:20210822T184058Z
LAST-MODIFIED:20210822T184518Z
UID:10000515-1661508000-1661511600@utruthcenter.org
SUMMARY:AIF 2021 Prayer Vigil
DESCRIPTION:Saturday\, September 4th\, 2021\n9:00 AM or 10:00 AM\nvia conference call\n(712)451-0011 – Access Code: 457533#\n \n\n 
URL:https://utruthcenter.org/event/aif-2021-prayer-vigil/2022-08-26/
LOCATION:THIS EVENT IS ONLINE ONLY.\, United States
CATEGORIES:Meetings,Worship
ATTACH;FMTTYPE=image/jpeg:https://utruthcenter.org/wp-content/uploads/2021/08/AIF2021_PrayerVigil-CalArt.jpg
END:VEVENT
BEGIN:VEVENT
DTSTART;TZID=America/New_York:20220825T100000
DTEND;TZID=America/New_York:20220825T110000
DTSTAMP:20260422T054817
CREATED:20210822T184058Z
LAST-MODIFIED:20210822T184518Z
UID:10000514-1661421600-1661425200@utruthcenter.org
SUMMARY:AIF 2021 Prayer Vigil
DESCRIPTION:Saturday\, September 4th\, 2021\n9:00 AM or 10:00 AM\nvia conference call\n(712)451-0011 – Access Code: 457533#\n \n\n 
URL:https://utruthcenter.org/event/aif-2021-prayer-vigil/2022-08-25/
LOCATION:THIS EVENT IS ONLINE ONLY.\, United States
CATEGORIES:Meetings,Worship
ATTACH;FMTTYPE=image/jpeg:https://utruthcenter.org/wp-content/uploads/2021/08/AIF2021_PrayerVigil-CalArt.jpg
END:VEVENT
BEGIN:VEVENT
DTSTART;TZID=America/New_York:20220824T100000
DTEND;TZID=America/New_York:20220824T110000
DTSTAMP:20260422T054817
CREATED:20210822T184058Z
LAST-MODIFIED:20210822T184518Z
UID:10000513-1661335200-1661338800@utruthcenter.org
SUMMARY:AIF 2021 Prayer Vigil
DESCRIPTION:Saturday\, September 4th\, 2021\n9:00 AM or 10:00 AM\nvia conference call\n(712)451-0011 – Access Code: 457533#\n \n\n 
URL:https://utruthcenter.org/event/aif-2021-prayer-vigil/2022-08-24/
LOCATION:THIS EVENT IS ONLINE ONLY.\, United States
CATEGORIES:Meetings,Worship
ATTACH;FMTTYPE=image/jpeg:https://utruthcenter.org/wp-content/uploads/2021/08/AIF2021_PrayerVigil-CalArt.jpg
END:VEVENT
BEGIN:VEVENT
DTSTART;TZID=America/New_York:20220823T100000
DTEND;TZID=America/New_York:20220823T110000
DTSTAMP:20260422T054817
CREATED:20210822T184058Z
LAST-MODIFIED:20210822T184518Z
UID:10000512-1661248800-1661252400@utruthcenter.org
SUMMARY:AIF 2021 Prayer Vigil
DESCRIPTION:Saturday\, September 4th\, 2021\n9:00 AM or 10:00 AM\nvia conference call\n(712)451-0011 – Access Code: 457533#\n \n\n 
URL:https://utruthcenter.org/event/aif-2021-prayer-vigil/2022-08-23/
LOCATION:THIS EVENT IS ONLINE ONLY.\, United States
CATEGORIES:Meetings,Worship
ATTACH;FMTTYPE=image/jpeg:https://utruthcenter.org/wp-content/uploads/2021/08/AIF2021_PrayerVigil-CalArt.jpg
END:VEVENT
BEGIN:VEVENT
DTSTART;TZID=America/New_York:20220822T100000
DTEND;TZID=America/New_York:20220822T110000
DTSTAMP:20260422T054817
CREATED:20210822T184058Z
LAST-MODIFIED:20210822T184518Z
UID:10000511-1661162400-1661166000@utruthcenter.org
SUMMARY:AIF 2021 Prayer Vigil
DESCRIPTION:Saturday\, September 4th\, 2021\n9:00 AM or 10:00 AM\nvia conference call\n(712)451-0011 – Access Code: 457533#\n \n\n 
URL:https://utruthcenter.org/event/aif-2021-prayer-vigil/2022-08-22/
LOCATION:THIS EVENT IS ONLINE ONLY.\, United States
CATEGORIES:Meetings,Worship
ATTACH;FMTTYPE=image/jpeg:https://utruthcenter.org/wp-content/uploads/2021/08/AIF2021_PrayerVigil-CalArt.jpg
END:VEVENT
BEGIN:VEVENT
DTSTART;TZID=America/New_York:20220821T100000
DTEND;TZID=America/New_York:20220821T123000
DTSTAMP:20260422T054817
CREATED:20220620T182523Z
LAST-MODIFIED:20220727T160216Z
UID:10000695-1661076000-1661085000@utruthcenter.org
SUMMARY:As a Person Thinks
DESCRIPTION:THEME: Principles for Better Living\n\n — YOUTH SUNDAY —\n\nLESSON TITLE: \nAs a Person Thinks\n\nPRINCIPLE:  \nValue & Power of Thought\n\nTEACHER: \n \nJacqueline Hazel\n\nRESPONSIVE READING: \nDaily Inspiration Pg. 81 \n\nSCRIPTURE: \nProverbs 23:7 (KJV) \n\nColor: Grey\nPower: Will\nDisciple: Matthew\nWomen of the Chalice: Martha\nPhysical Location: Center of Brain\nMinistry: Media \n\n 
URL:https://utruthcenter.org/event/as-a-person-thinks/
LOCATION:UTC\, 21310 NW 37th Avenue\, Miami Gardens\, FL\, 33056
CATEGORIES:Events,Worship
ATTACH;FMTTYPE=image/jpeg:https://utruthcenter.org/wp-content/uploads/2022/06/UTC-AUGUST-2022-CalArt.jpg
GEO:25.9696213;-80.2633696
X-APPLE-STRUCTURED-LOCATION;VALUE=URI;X-ADDRESS=UTC 21310 NW 37th Avenue Miami Gardens FL 33056;X-APPLE-RADIUS=500;X-TITLE=21310 NW 37th Avenue:geo:-80.2633696,25.9696213
END:VEVENT
BEGIN:VEVENT
DTSTART;TZID=America/New_York:20220821T100000
DTEND;TZID=America/New_York:20220821T110000
DTSTAMP:20260422T054817
CREATED:20210822T184058Z
LAST-MODIFIED:20210822T184518Z
UID:10000510-1661076000-1661079600@utruthcenter.org
SUMMARY:AIF 2021 Prayer Vigil
DESCRIPTION:Saturday\, September 4th\, 2021\n9:00 AM or 10:00 AM\nvia conference call\n(712)451-0011 – Access Code: 457533#\n \n\n 
URL:https://utruthcenter.org/event/aif-2021-prayer-vigil/2022-08-21/
LOCATION:THIS EVENT IS ONLINE ONLY.\, United States
CATEGORIES:Meetings,Worship
ATTACH;FMTTYPE=image/jpeg:https://utruthcenter.org/wp-content/uploads/2021/08/AIF2021_PrayerVigil-CalArt.jpg
END:VEVENT
BEGIN:VEVENT
DTSTART;TZID=America/New_York:20220820T100000
DTEND;TZID=America/New_York:20220820T110000
DTSTAMP:20260422T054817
CREATED:20210822T184058Z
LAST-MODIFIED:20210822T184518Z
UID:10000509-1660989600-1660993200@utruthcenter.org
SUMMARY:AIF 2021 Prayer Vigil
DESCRIPTION:Saturday\, September 4th\, 2021\n9:00 AM or 10:00 AM\nvia conference call\n(712)451-0011 – Access Code: 457533#\n \n\n 
URL:https://utruthcenter.org/event/aif-2021-prayer-vigil/2022-08-20/
LOCATION:THIS EVENT IS ONLINE ONLY.\, United States
CATEGORIES:Meetings,Worship
ATTACH;FMTTYPE=image/jpeg:https://utruthcenter.org/wp-content/uploads/2021/08/AIF2021_PrayerVigil-CalArt.jpg
END:VEVENT
BEGIN:VEVENT
DTSTART;TZID=America/New_York:20220819T100000
DTEND;TZID=America/New_York:20220819T110000
DTSTAMP:20260422T054817
CREATED:20210822T184058Z
LAST-MODIFIED:20210822T184518Z
UID:10000508-1660903200-1660906800@utruthcenter.org
SUMMARY:AIF 2021 Prayer Vigil
DESCRIPTION:Saturday\, September 4th\, 2021\n9:00 AM or 10:00 AM\nvia conference call\n(712)451-0011 – Access Code: 457533#\n \n\n 
URL:https://utruthcenter.org/event/aif-2021-prayer-vigil/2022-08-19/
LOCATION:THIS EVENT IS ONLINE ONLY.\, United States
CATEGORIES:Meetings,Worship
ATTACH;FMTTYPE=image/jpeg:https://utruthcenter.org/wp-content/uploads/2021/08/AIF2021_PrayerVigil-CalArt.jpg
END:VEVENT
BEGIN:VEVENT
DTSTART;TZID=America/New_York:20220818T100000
DTEND;TZID=America/New_York:20220818T110000
DTSTAMP:20260422T054817
CREATED:20210822T184058Z
LAST-MODIFIED:20210822T184518Z
UID:10000507-1660816800-1660820400@utruthcenter.org
SUMMARY:AIF 2021 Prayer Vigil
DESCRIPTION:Saturday\, September 4th\, 2021\n9:00 AM or 10:00 AM\nvia conference call\n(712)451-0011 – Access Code: 457533#\n \n\n 
URL:https://utruthcenter.org/event/aif-2021-prayer-vigil/2022-08-18/
LOCATION:THIS EVENT IS ONLINE ONLY.\, United States
CATEGORIES:Meetings,Worship
ATTACH;FMTTYPE=image/jpeg:https://utruthcenter.org/wp-content/uploads/2021/08/AIF2021_PrayerVigil-CalArt.jpg
END:VEVENT
BEGIN:VEVENT
DTSTART;TZID=America/New_York:20220817T100000
DTEND;TZID=America/New_York:20220817T110000
DTSTAMP:20260422T054817
CREATED:20210822T184058Z
LAST-MODIFIED:20210822T184518Z
UID:10000506-1660730400-1660734000@utruthcenter.org
SUMMARY:AIF 2021 Prayer Vigil
DESCRIPTION:Saturday\, September 4th\, 2021\n9:00 AM or 10:00 AM\nvia conference call\n(712)451-0011 – Access Code: 457533#\n \n\n 
URL:https://utruthcenter.org/event/aif-2021-prayer-vigil/2022-08-17/
LOCATION:THIS EVENT IS ONLINE ONLY.\, United States
CATEGORIES:Meetings,Worship
ATTACH;FMTTYPE=image/jpeg:https://utruthcenter.org/wp-content/uploads/2021/08/AIF2021_PrayerVigil-CalArt.jpg
END:VEVENT
END:VCALENDAR