BEGIN:VCALENDAR
VERSION:2.0
PRODID:-//Universal Truth Center - ECPv6.15.17//NONSGML v1.0//EN
CALSCALE:GREGORIAN
METHOD:PUBLISH
X-WR-CALNAME:Universal Truth Center
X-ORIGINAL-URL:https://utruthcenter.org
X-WR-CALDESC:Events for Universal Truth Center
REFRESH-INTERVAL;VALUE=DURATION:PT1H
X-Robots-Tag:noindex
X-PUBLISHED-TTL:PT1H
BEGIN:VTIMEZONE
TZID:America/New_York
BEGIN:DAYLIGHT
TZOFFSETFROM:-0500
TZOFFSETTO:-0400
TZNAME:EDT
DTSTART:20210314T070000
END:DAYLIGHT
BEGIN:STANDARD
TZOFFSETFROM:-0400
TZOFFSETTO:-0500
TZNAME:EST
DTSTART:20211107T060000
END:STANDARD
BEGIN:DAYLIGHT
TZOFFSETFROM:-0500
TZOFFSETTO:-0400
TZNAME:EDT
DTSTART:20220313T070000
END:DAYLIGHT
BEGIN:STANDARD
TZOFFSETFROM:-0400
TZOFFSETTO:-0500
TZNAME:EST
DTSTART:20221106T060000
END:STANDARD
BEGIN:DAYLIGHT
TZOFFSETFROM:-0500
TZOFFSETTO:-0400
TZNAME:EDT
DTSTART:20230312T070000
END:DAYLIGHT
BEGIN:STANDARD
TZOFFSETFROM:-0400
TZOFFSETTO:-0500
TZNAME:EST
DTSTART:20231105T060000
END:STANDARD
END:VTIMEZONE
BEGIN:VEVENT
DTSTART;TZID=America/New_York:20220924T100000
DTEND;TZID=America/New_York:20220924T110000
DTSTAMP:20260422T015424
CREATED:20210822T184058Z
LAST-MODIFIED:20210822T184518Z
UID:10000544-1664013600-1664017200@utruthcenter.org
SUMMARY:AIF 2021 Prayer Vigil
DESCRIPTION:Saturday\, September 4th\, 2021\n9:00 AM or 10:00 AM\nvia conference call\n(712)451-0011 – Access Code: 457533#\n \n\n 
URL:https://utruthcenter.org/event/aif-2021-prayer-vigil/2022-09-24/
LOCATION:THIS EVENT IS ONLINE ONLY.\, United States
CATEGORIES:Meetings,Worship
ATTACH;FMTTYPE=image/jpeg:https://utruthcenter.org/wp-content/uploads/2021/08/AIF2021_PrayerVigil-CalArt.jpg
END:VEVENT
BEGIN:VEVENT
DTSTART;TZID=America/New_York:20220923T100000
DTEND;TZID=America/New_York:20220923T110000
DTSTAMP:20260422T015424
CREATED:20210822T184058Z
LAST-MODIFIED:20210822T184518Z
UID:10000543-1663927200-1663930800@utruthcenter.org
SUMMARY:AIF 2021 Prayer Vigil
DESCRIPTION:Saturday\, September 4th\, 2021\n9:00 AM or 10:00 AM\nvia conference call\n(712)451-0011 – Access Code: 457533#\n \n\n 
URL:https://utruthcenter.org/event/aif-2021-prayer-vigil/2022-09-23/
LOCATION:THIS EVENT IS ONLINE ONLY.\, United States
CATEGORIES:Meetings,Worship
ATTACH;FMTTYPE=image/jpeg:https://utruthcenter.org/wp-content/uploads/2021/08/AIF2021_PrayerVigil-CalArt.jpg
END:VEVENT
BEGIN:VEVENT
DTSTART;TZID=America/New_York:20220922T100000
DTEND;TZID=America/New_York:20220922T110000
DTSTAMP:20260422T015424
CREATED:20210822T184058Z
LAST-MODIFIED:20210822T184518Z
UID:10000542-1663840800-1663844400@utruthcenter.org
SUMMARY:AIF 2021 Prayer Vigil
DESCRIPTION:Saturday\, September 4th\, 2021\n9:00 AM or 10:00 AM\nvia conference call\n(712)451-0011 – Access Code: 457533#\n \n\n 
URL:https://utruthcenter.org/event/aif-2021-prayer-vigil/2022-09-22/
LOCATION:THIS EVENT IS ONLINE ONLY.\, United States
CATEGORIES:Meetings,Worship
ATTACH;FMTTYPE=image/jpeg:https://utruthcenter.org/wp-content/uploads/2021/08/AIF2021_PrayerVigil-CalArt.jpg
END:VEVENT
BEGIN:VEVENT
DTSTART;TZID=America/New_York:20220921T190000
DTEND;TZID=America/New_York:20220921T203000
DTSTAMP:20260422T015424
CREATED:20220822T032348Z
LAST-MODIFIED:20220822T032348Z
UID:10000708-1663786800-1663792200@utruthcenter.org
SUMMARY:MIND/BODY 2
DESCRIPTION:Change your ways\, change your life. Begin your journey of transforming your life by aligning your “Body Energy System.” \nPrerequisite: None\nText: None.\nDays & Times: Selected Wednesdays\, 7:00 pm -8:30 pm for 3 weeks.\nTeacher: Dr. G. Hutson.\nCredits: 0
URL:https://utruthcenter.org/event/mind-body-2/
CATEGORIES:Classes
ATTACH;FMTTYPE=image/jpeg:https://utruthcenter.org/wp-content/uploads/2022/08/MIND_BODY-BES_class-SEPT21.jpg
END:VEVENT
BEGIN:VEVENT
DTSTART;TZID=America/New_York:20220921T100000
DTEND;TZID=America/New_York:20220921T110000
DTSTAMP:20260422T015424
CREATED:20210822T184058Z
LAST-MODIFIED:20210822T184518Z
UID:10000541-1663754400-1663758000@utruthcenter.org
SUMMARY:AIF 2021 Prayer Vigil
DESCRIPTION:Saturday\, September 4th\, 2021\n9:00 AM or 10:00 AM\nvia conference call\n(712)451-0011 – Access Code: 457533#\n \n\n 
URL:https://utruthcenter.org/event/aif-2021-prayer-vigil/2022-09-21/
LOCATION:THIS EVENT IS ONLINE ONLY.\, United States
CATEGORIES:Meetings,Worship
ATTACH;FMTTYPE=image/jpeg:https://utruthcenter.org/wp-content/uploads/2021/08/AIF2021_PrayerVigil-CalArt.jpg
END:VEVENT
BEGIN:VEVENT
DTSTART;TZID=America/New_York:20220920T100000
DTEND;TZID=America/New_York:20220920T110000
DTSTAMP:20260422T015424
CREATED:20210822T184058Z
LAST-MODIFIED:20210822T184518Z
UID:10000540-1663668000-1663671600@utruthcenter.org
SUMMARY:AIF 2021 Prayer Vigil
DESCRIPTION:Saturday\, September 4th\, 2021\n9:00 AM or 10:00 AM\nvia conference call\n(712)451-0011 – Access Code: 457533#\n \n\n 
URL:https://utruthcenter.org/event/aif-2021-prayer-vigil/2022-09-20/
LOCATION:THIS EVENT IS ONLINE ONLY.\, United States
CATEGORIES:Meetings,Worship
ATTACH;FMTTYPE=image/jpeg:https://utruthcenter.org/wp-content/uploads/2021/08/AIF2021_PrayerVigil-CalArt.jpg
END:VEVENT
BEGIN:VEVENT
DTSTART;TZID=America/New_York:20220919T100000
DTEND;TZID=America/New_York:20220919T110000
DTSTAMP:20260422T015424
CREATED:20210822T184058Z
LAST-MODIFIED:20210822T184518Z
UID:10000539-1663581600-1663585200@utruthcenter.org
SUMMARY:AIF 2021 Prayer Vigil
DESCRIPTION:Saturday\, September 4th\, 2021\n9:00 AM or 10:00 AM\nvia conference call\n(712)451-0011 – Access Code: 457533#\n \n\n 
URL:https://utruthcenter.org/event/aif-2021-prayer-vigil/2022-09-19/
LOCATION:THIS EVENT IS ONLINE ONLY.\, United States
CATEGORIES:Meetings,Worship
ATTACH;FMTTYPE=image/jpeg:https://utruthcenter.org/wp-content/uploads/2021/08/AIF2021_PrayerVigil-CalArt.jpg
END:VEVENT
BEGIN:VEVENT
DTSTART;TZID=America/New_York:20220918T100000
DTEND;TZID=America/New_York:20220918T123000
DTSTAMP:20260422T015424
CREATED:20220817T125501Z
LAST-MODIFIED:20220822T011530Z
UID:10000700-1663495200-1663504200@utruthcenter.org
SUMMARY:Learn to Love Yourself
DESCRIPTION:THEME: Adventure in Faith 2022: Living a Life of Abundance\n\nLESSON TITLE: \nLearn to Love Yourself\n\nUNFOLDMENT:  \nMental/Emotional\n\nTEACHER: \n \nRev. Charles M. Taylor\n\nRESPONSIVE READING: \nDaily Inspiration Pg. 33 \n\nSCRIPTURE: \nProverbs 19:8 \n\nAIF BOOK: EMBRACE ABUNDANCE \n \nCHAPTER: Self-Love \n\nColor: Olive Green\nPower: Order\nDisciple: James son of Alpheus\nWomen of the Chalice: Mary wife of Alpheus\nPhysical Location: Navel\nMinistry: Adult Education \n\n 
URL:https://utruthcenter.org/event/learn-to-love-yourself/
LOCATION:UTC\, 21310 NW 37th Avenue\, Miami Gardens\, FL\, 33056
CATEGORIES:Events,Worship
ATTACH;FMTTYPE=image/jpeg:https://utruthcenter.org/wp-content/uploads/2022/08/AIF2022-MENTAL_EMO-UTC_CalArt.jpg
GEO:25.9696213;-80.2633696
X-APPLE-STRUCTURED-LOCATION;VALUE=URI;X-ADDRESS=UTC 21310 NW 37th Avenue Miami Gardens FL 33056;X-APPLE-RADIUS=500;X-TITLE=21310 NW 37th Avenue:geo:-80.2633696,25.9696213
END:VEVENT
BEGIN:VEVENT
DTSTART;TZID=America/New_York:20220918T100000
DTEND;TZID=America/New_York:20220918T110000
DTSTAMP:20260422T015424
CREATED:20210822T184058Z
LAST-MODIFIED:20210822T184518Z
UID:10000538-1663495200-1663498800@utruthcenter.org
SUMMARY:AIF 2021 Prayer Vigil
DESCRIPTION:Saturday\, September 4th\, 2021\n9:00 AM or 10:00 AM\nvia conference call\n(712)451-0011 – Access Code: 457533#\n \n\n 
URL:https://utruthcenter.org/event/aif-2021-prayer-vigil/2022-09-18/
LOCATION:THIS EVENT IS ONLINE ONLY.\, United States
CATEGORIES:Meetings,Worship
ATTACH;FMTTYPE=image/jpeg:https://utruthcenter.org/wp-content/uploads/2021/08/AIF2021_PrayerVigil-CalArt.jpg
END:VEVENT
BEGIN:VEVENT
DTSTART;TZID=America/New_York:20220917T100000
DTEND;TZID=America/New_York:20220917T110000
DTSTAMP:20260422T015424
CREATED:20210822T184058Z
LAST-MODIFIED:20210822T184518Z
UID:10000537-1663408800-1663412400@utruthcenter.org
SUMMARY:AIF 2021 Prayer Vigil
DESCRIPTION:Saturday\, September 4th\, 2021\n9:00 AM or 10:00 AM\nvia conference call\n(712)451-0011 – Access Code: 457533#\n \n\n 
URL:https://utruthcenter.org/event/aif-2021-prayer-vigil/2022-09-17/
LOCATION:THIS EVENT IS ONLINE ONLY.\, United States
CATEGORIES:Meetings,Worship
ATTACH;FMTTYPE=image/jpeg:https://utruthcenter.org/wp-content/uploads/2021/08/AIF2021_PrayerVigil-CalArt.jpg
END:VEVENT
BEGIN:VEVENT
DTSTART;TZID=America/New_York:20220916T100000
DTEND;TZID=America/New_York:20220916T110000
DTSTAMP:20260422T015424
CREATED:20210822T184058Z
LAST-MODIFIED:20210822T184518Z
UID:10000536-1663322400-1663326000@utruthcenter.org
SUMMARY:AIF 2021 Prayer Vigil
DESCRIPTION:Saturday\, September 4th\, 2021\n9:00 AM or 10:00 AM\nvia conference call\n(712)451-0011 – Access Code: 457533#\n \n\n 
URL:https://utruthcenter.org/event/aif-2021-prayer-vigil/2022-09-16/
LOCATION:THIS EVENT IS ONLINE ONLY.\, United States
CATEGORIES:Meetings,Worship
ATTACH;FMTTYPE=image/jpeg:https://utruthcenter.org/wp-content/uploads/2021/08/AIF2021_PrayerVigil-CalArt.jpg
END:VEVENT
BEGIN:VEVENT
DTSTART;TZID=America/New_York:20220915T100000
DTEND;TZID=America/New_York:20220915T110000
DTSTAMP:20260422T015424
CREATED:20210822T184058Z
LAST-MODIFIED:20210822T184518Z
UID:10000535-1663236000-1663239600@utruthcenter.org
SUMMARY:AIF 2021 Prayer Vigil
DESCRIPTION:Saturday\, September 4th\, 2021\n9:00 AM or 10:00 AM\nvia conference call\n(712)451-0011 – Access Code: 457533#\n \n\n 
URL:https://utruthcenter.org/event/aif-2021-prayer-vigil/2022-09-15/
LOCATION:THIS EVENT IS ONLINE ONLY.\, United States
CATEGORIES:Meetings,Worship
ATTACH;FMTTYPE=image/jpeg:https://utruthcenter.org/wp-content/uploads/2021/08/AIF2021_PrayerVigil-CalArt.jpg
END:VEVENT
BEGIN:VEVENT
DTSTART;TZID=America/New_York:20220914T190000
DTEND;TZID=America/New_York:20220914T203000
DTSTAMP:20260422T015424
CREATED:20220822T032247Z
LAST-MODIFIED:20220822T032247Z
UID:10000707-1663182000-1663187400@utruthcenter.org
SUMMARY:MIND/BODY
DESCRIPTION:Change your ways\, change your life. Begin your journey of transforming your life by aligning your “Body Energy System.” \nPrerequisite: None\nText: None.\nDays & Times: Selected Wednesdays\, 7:00 pm -8:30 pm for 3 weeks.\nTeacher: Dr. G. Hutson.\nCredits: 0
URL:https://utruthcenter.org/event/mind-body/
CATEGORIES:Classes
ATTACH;FMTTYPE=image/jpeg:https://utruthcenter.org/wp-content/uploads/2022/08/MIND_BODY-BES_class-SEPT14.jpg
END:VEVENT
BEGIN:VEVENT
DTSTART;TZID=America/New_York:20220914T100000
DTEND;TZID=America/New_York:20220914T110000
DTSTAMP:20260422T015424
CREATED:20210822T184058Z
LAST-MODIFIED:20210822T184518Z
UID:10000534-1663149600-1663153200@utruthcenter.org
SUMMARY:AIF 2021 Prayer Vigil
DESCRIPTION:Saturday\, September 4th\, 2021\n9:00 AM or 10:00 AM\nvia conference call\n(712)451-0011 – Access Code: 457533#\n \n\n 
URL:https://utruthcenter.org/event/aif-2021-prayer-vigil/2022-09-14/
LOCATION:THIS EVENT IS ONLINE ONLY.\, United States
CATEGORIES:Meetings,Worship
ATTACH;FMTTYPE=image/jpeg:https://utruthcenter.org/wp-content/uploads/2021/08/AIF2021_PrayerVigil-CalArt.jpg
END:VEVENT
BEGIN:VEVENT
DTSTART;TZID=America/New_York:20220913T100000
DTEND;TZID=America/New_York:20220913T110000
DTSTAMP:20260422T015424
CREATED:20210822T184058Z
LAST-MODIFIED:20210822T184518Z
UID:10000533-1663063200-1663066800@utruthcenter.org
SUMMARY:AIF 2021 Prayer Vigil
DESCRIPTION:Saturday\, September 4th\, 2021\n9:00 AM or 10:00 AM\nvia conference call\n(712)451-0011 – Access Code: 457533#\n \n\n 
URL:https://utruthcenter.org/event/aif-2021-prayer-vigil/2022-09-13/
LOCATION:THIS EVENT IS ONLINE ONLY.\, United States
CATEGORIES:Meetings,Worship
ATTACH;FMTTYPE=image/jpeg:https://utruthcenter.org/wp-content/uploads/2021/08/AIF2021_PrayerVigil-CalArt.jpg
END:VEVENT
BEGIN:VEVENT
DTSTART;TZID=America/New_York:20220912T100000
DTEND;TZID=America/New_York:20220912T110000
DTSTAMP:20260422T015424
CREATED:20210822T184058Z
LAST-MODIFIED:20210822T184518Z
UID:10000532-1662976800-1662980400@utruthcenter.org
SUMMARY:AIF 2021 Prayer Vigil
DESCRIPTION:Saturday\, September 4th\, 2021\n9:00 AM or 10:00 AM\nvia conference call\n(712)451-0011 – Access Code: 457533#\n \n\n 
URL:https://utruthcenter.org/event/aif-2021-prayer-vigil/2022-09-12/
LOCATION:THIS EVENT IS ONLINE ONLY.\, United States
CATEGORIES:Meetings,Worship
ATTACH;FMTTYPE=image/jpeg:https://utruthcenter.org/wp-content/uploads/2021/08/AIF2021_PrayerVigil-CalArt.jpg
END:VEVENT
BEGIN:VEVENT
DTSTART;TZID=America/New_York:20220911T130000
DTEND;TZID=America/New_York:20220911T150000
DTSTAMP:20260422T015424
CREATED:20220909T172634Z
LAST-MODIFIED:20220909T172634Z
UID:10000712-1662901200-1662908400@utruthcenter.org
SUMMARY:UTC Quarterly Meeting
DESCRIPTION:Please join us online via ZOOM\nMeeting Id: 895 0645 0253\nPasscode: 730110 \nClick below to joing meeting\nJOIN NOW
URL:https://utruthcenter.org/event/utc-quarterly-meeting/
LOCATION:THIS EVENT IS ONLINE ONLY.\, United States
ATTACH;FMTTYPE=image/jpeg:https://utruthcenter.org/wp-content/uploads/2022/09/UTC_Qmtg-9_11-CalArt.jpg
END:VEVENT
BEGIN:VEVENT
DTSTART;TZID=America/New_York:20220911T100000
DTEND;TZID=America/New_York:20220911T123000
DTSTAMP:20260422T015424
CREATED:20220817T124839Z
LAST-MODIFIED:20220822T011418Z
UID:10000699-1662890400-1662899400@utruthcenter.org
SUMMARY:Follow Spirits Guidance
DESCRIPTION:THEME: Adventure in Faith 2022: Living a Life of Abundance\n\nLESSON TITLE: \nFollow Spirits Guidance\n\nUNFOLDMENT:  \nSpiritual\n\nTEACHER: \n \nRev. Charles M. Taylor\n\nRESPONSIVE READING: \nDaily Inspiration Pg. 37 \n\nSCRIPTURE: \nPsalms 32:8 \n\nAIF BOOK: EMBRACE ABUNDANCE \n \nCHAPTER: Spirit \n\nColor: Olive Green\nPower: Order\nDisciple: James son of Alpheus\nWomen of the Chalice: Mary wife of Alpheus\nPhysical Location: Navel\nMinistry: Adult Education \n\n 
URL:https://utruthcenter.org/event/follow-spirits-guidance/
LOCATION:UTC\, 21310 NW 37th Avenue\, Miami Gardens\, FL\, 33056
CATEGORIES:Events,Worship
ATTACH;FMTTYPE=image/jpeg:https://utruthcenter.org/wp-content/uploads/2022/08/AIF2022-SPIRITUAL-UTC_CalArt.jpg
GEO:25.9696213;-80.2633696
X-APPLE-STRUCTURED-LOCATION;VALUE=URI;X-ADDRESS=UTC 21310 NW 37th Avenue Miami Gardens FL 33056;X-APPLE-RADIUS=500;X-TITLE=21310 NW 37th Avenue:geo:-80.2633696,25.9696213
END:VEVENT
BEGIN:VEVENT
DTSTART;TZID=America/New_York:20220911T100000
DTEND;TZID=America/New_York:20220911T110000
DTSTAMP:20260422T015424
CREATED:20210822T184058Z
LAST-MODIFIED:20210822T184518Z
UID:10000531-1662890400-1662894000@utruthcenter.org
SUMMARY:AIF 2021 Prayer Vigil
DESCRIPTION:Saturday\, September 4th\, 2021\n9:00 AM or 10:00 AM\nvia conference call\n(712)451-0011 – Access Code: 457533#\n \n\n 
URL:https://utruthcenter.org/event/aif-2021-prayer-vigil/2022-09-11/
LOCATION:THIS EVENT IS ONLINE ONLY.\, United States
CATEGORIES:Meetings,Worship
ATTACH;FMTTYPE=image/jpeg:https://utruthcenter.org/wp-content/uploads/2021/08/AIF2021_PrayerVigil-CalArt.jpg
END:VEVENT
BEGIN:VEVENT
DTSTART;TZID=America/New_York:20220910T100000
DTEND;TZID=America/New_York:20220910T110000
DTSTAMP:20260422T015424
CREATED:20210822T184058Z
LAST-MODIFIED:20210822T184518Z
UID:10000530-1662804000-1662807600@utruthcenter.org
SUMMARY:AIF 2021 Prayer Vigil
DESCRIPTION:Saturday\, September 4th\, 2021\n9:00 AM or 10:00 AM\nvia conference call\n(712)451-0011 – Access Code: 457533#\n \n\n 
URL:https://utruthcenter.org/event/aif-2021-prayer-vigil/2022-09-10/
LOCATION:THIS EVENT IS ONLINE ONLY.\, United States
CATEGORIES:Meetings,Worship
ATTACH;FMTTYPE=image/jpeg:https://utruthcenter.org/wp-content/uploads/2021/08/AIF2021_PrayerVigil-CalArt.jpg
END:VEVENT
BEGIN:VEVENT
DTSTART;TZID=America/New_York:20220909T100000
DTEND;TZID=America/New_York:20220909T110000
DTSTAMP:20260422T015424
CREATED:20210822T184058Z
LAST-MODIFIED:20210822T184518Z
UID:10000529-1662717600-1662721200@utruthcenter.org
SUMMARY:AIF 2021 Prayer Vigil
DESCRIPTION:Saturday\, September 4th\, 2021\n9:00 AM or 10:00 AM\nvia conference call\n(712)451-0011 – Access Code: 457533#\n \n\n 
URL:https://utruthcenter.org/event/aif-2021-prayer-vigil/2022-09-09/
LOCATION:THIS EVENT IS ONLINE ONLY.\, United States
CATEGORIES:Meetings,Worship
ATTACH;FMTTYPE=image/jpeg:https://utruthcenter.org/wp-content/uploads/2021/08/AIF2021_PrayerVigil-CalArt.jpg
END:VEVENT
BEGIN:VEVENT
DTSTART;TZID=America/New_York:20220908T100000
DTEND;TZID=America/New_York:20220908T110000
DTSTAMP:20260422T015424
CREATED:20210822T184058Z
LAST-MODIFIED:20210822T184518Z
UID:10000528-1662631200-1662634800@utruthcenter.org
SUMMARY:AIF 2021 Prayer Vigil
DESCRIPTION:Saturday\, September 4th\, 2021\n9:00 AM or 10:00 AM\nvia conference call\n(712)451-0011 – Access Code: 457533#\n \n\n 
URL:https://utruthcenter.org/event/aif-2021-prayer-vigil/2022-09-08/
LOCATION:THIS EVENT IS ONLINE ONLY.\, United States
CATEGORIES:Meetings,Worship
ATTACH;FMTTYPE=image/jpeg:https://utruthcenter.org/wp-content/uploads/2021/08/AIF2021_PrayerVigil-CalArt.jpg
END:VEVENT
BEGIN:VEVENT
DTSTART;TZID=America/New_York:20220907T100000
DTEND;TZID=America/New_York:20220907T110000
DTSTAMP:20260422T015424
CREATED:20210822T184058Z
LAST-MODIFIED:20210822T184518Z
UID:10000527-1662544800-1662548400@utruthcenter.org
SUMMARY:AIF 2021 Prayer Vigil
DESCRIPTION:Saturday\, September 4th\, 2021\n9:00 AM or 10:00 AM\nvia conference call\n(712)451-0011 – Access Code: 457533#\n \n\n 
URL:https://utruthcenter.org/event/aif-2021-prayer-vigil/2022-09-07/
LOCATION:THIS EVENT IS ONLINE ONLY.\, United States
CATEGORIES:Meetings,Worship
ATTACH;FMTTYPE=image/jpeg:https://utruthcenter.org/wp-content/uploads/2021/08/AIF2021_PrayerVigil-CalArt.jpg
END:VEVENT
BEGIN:VEVENT
DTSTART;TZID=America/New_York:20220906T100000
DTEND;TZID=America/New_York:20220906T110000
DTSTAMP:20260422T015424
CREATED:20210822T184058Z
LAST-MODIFIED:20210822T184518Z
UID:10000526-1662458400-1662462000@utruthcenter.org
SUMMARY:AIF 2021 Prayer Vigil
DESCRIPTION:Saturday\, September 4th\, 2021\n9:00 AM or 10:00 AM\nvia conference call\n(712)451-0011 – Access Code: 457533#\n \n\n 
URL:https://utruthcenter.org/event/aif-2021-prayer-vigil/2022-09-06/
LOCATION:THIS EVENT IS ONLINE ONLY.\, United States
CATEGORIES:Meetings,Worship
ATTACH;FMTTYPE=image/jpeg:https://utruthcenter.org/wp-content/uploads/2021/08/AIF2021_PrayerVigil-CalArt.jpg
END:VEVENT
BEGIN:VEVENT
DTSTART;TZID=America/New_York:20220905T100000
DTEND;TZID=America/New_York:20220905T110000
DTSTAMP:20260422T015424
CREATED:20210822T184058Z
LAST-MODIFIED:20210822T184518Z
UID:10000525-1662372000-1662375600@utruthcenter.org
SUMMARY:AIF 2021 Prayer Vigil
DESCRIPTION:Saturday\, September 4th\, 2021\n9:00 AM or 10:00 AM\nvia conference call\n(712)451-0011 – Access Code: 457533#\n \n\n 
URL:https://utruthcenter.org/event/aif-2021-prayer-vigil/2022-09-05/
LOCATION:THIS EVENT IS ONLINE ONLY.\, United States
CATEGORIES:Meetings,Worship
ATTACH;FMTTYPE=image/jpeg:https://utruthcenter.org/wp-content/uploads/2021/08/AIF2021_PrayerVigil-CalArt.jpg
END:VEVENT
BEGIN:VEVENT
DTSTART;VALUE=DATE:20220905
DTEND;VALUE=DATE:20220906
DTSTAMP:20260422T015424
CREATED:20220629T220050Z
LAST-MODIFIED:20220629T220050Z
UID:10000697-1662336000-1662422399@utruthcenter.org
SUMMARY:Happy Labor Day
DESCRIPTION:What exactly is Labor Day?\nLabor Day is a national holiday in the U.S. On Labor Day\, we remember the work of those in the labor movement who fought hard for workers’ rights. We also celebrate the essential role workers play in America’s growth and development—recognition some fought tirelessly for. \nUTC wishes all of you a Happy Labor Day!
URL:https://utruthcenter.org/event/happy-labor-day/
CATEGORIES:Holidays
ATTACH;FMTTYPE=image/jpeg:https://utruthcenter.org/wp-content/uploads/2022/06/UTC_LaborDay-CalArt.jpg
END:VEVENT
BEGIN:VEVENT
DTSTART;TZID=America/New_York:20220904T100000
DTEND;TZID=America/New_York:20220904T123000
DTSTAMP:20260422T015424
CREATED:20220817T014259Z
LAST-MODIFIED:20220817T124143Z
UID:10000698-1662285600-1662294600@utruthcenter.org
SUMMARY:Embrace Abundance
DESCRIPTION:THEME: Adventure in Faith 2022: Living a Life of Abundance\n\nLESSON TITLE: \nEmbrace Abundance\n\nUNFOLDMENT:  \nIntroduction\n\nTEACHER: \n \nRev. Charles M. Taylor\n\nRESPONSIVE READING: \nDaily Inspiration Pg. 20 \n\nSCRIPTURE: \n2 Corinthians 9:8 \n\nAIF BOOK: EMBRACE ABUNDANCE \n \nCHAPTER: Let’s Begin \n\nColor: Olive Green\nPower: Order\nDisciple: James son of Alpheus\nWomen of the Chalice: Mary wife of Alpheus\nPhysical Location: Navel\nMinistry: Adult Education \n\n 
URL:https://utruthcenter.org/event/embrace-abundance/
LOCATION:UTC\, 21310 NW 37th Avenue\, Miami Gardens\, FL\, 33056
CATEGORIES:Events,Worship
ATTACH;FMTTYPE=image/jpeg:https://utruthcenter.org/wp-content/uploads/2022/08/AIF2022-UTC_CalArt.jpg
GEO:25.9696213;-80.2633696
X-APPLE-STRUCTURED-LOCATION;VALUE=URI;X-ADDRESS=UTC 21310 NW 37th Avenue Miami Gardens FL 33056;X-APPLE-RADIUS=500;X-TITLE=21310 NW 37th Avenue:geo:-80.2633696,25.9696213
END:VEVENT
BEGIN:VEVENT
DTSTART;TZID=America/New_York:20220904T100000
DTEND;TZID=America/New_York:20220904T110000
DTSTAMP:20260422T015424
CREATED:20210822T184058Z
LAST-MODIFIED:20210822T184518Z
UID:10000524-1662285600-1662289200@utruthcenter.org
SUMMARY:AIF 2021 Prayer Vigil
DESCRIPTION:Saturday\, September 4th\, 2021\n9:00 AM or 10:00 AM\nvia conference call\n(712)451-0011 – Access Code: 457533#\n \n\n 
URL:https://utruthcenter.org/event/aif-2021-prayer-vigil/2022-09-04/
LOCATION:THIS EVENT IS ONLINE ONLY.\, United States
CATEGORIES:Meetings,Worship
ATTACH;FMTTYPE=image/jpeg:https://utruthcenter.org/wp-content/uploads/2021/08/AIF2021_PrayerVigil-CalArt.jpg
END:VEVENT
BEGIN:VEVENT
DTSTART;TZID=America/New_York:20220903T100000
DTEND;TZID=America/New_York:20220903T110000
DTSTAMP:20260422T015424
CREATED:20220822T223516Z
LAST-MODIFIED:20220822T223928Z
UID:10000711-1662199200-1662202800@utruthcenter.org
SUMMARY:AIF 2022 PRAYER VIGIL
DESCRIPTION:ADVENTURE IN FAITH PRAYER VIGIL\n SEPTEMBER 3rd\, 2022 – 9:00 am & 10:00 am\nYou are cordially invited to build a consciousness of abundance. \nThe two sessions start promptly on the hour. \nConference Call # (716) 427-1108\, Access Code: 457533\nThe Prayer and Healing Ministry cordially invites you to the Adventure In Faith Prayer Vigil on Saturday\, September 3rd\, 2022\, at 9:00 am or 10:00 am via conference call # (716) 427-1108\, Access Code: 457533. Please commit to a minimum of one hour of prayer to build a consciousness of abundance and call in at least 5 minutes before the hour.
URL:https://utruthcenter.org/event/aif-2022-prayer-vigil/2022-09-03/2/
CATEGORIES:Events,Worship
ATTACH;FMTTYPE=image/jpeg:https://utruthcenter.org/wp-content/uploads/2022/08/AIF2022_PRAYERVIGIL-CalArt2.jpg
END:VEVENT
BEGIN:VEVENT
DTSTART;TZID=America/New_York:20220903T100000
DTEND;TZID=America/New_York:20220903T110000
DTSTAMP:20260422T015424
CREATED:20210822T184058Z
LAST-MODIFIED:20210822T184518Z
UID:10000523-1662199200-1662202800@utruthcenter.org
SUMMARY:AIF 2021 Prayer Vigil
DESCRIPTION:Saturday\, September 4th\, 2021\n9:00 AM or 10:00 AM\nvia conference call\n(712)451-0011 – Access Code: 457533#\n \n\n 
URL:https://utruthcenter.org/event/aif-2021-prayer-vigil/2022-09-03/
LOCATION:THIS EVENT IS ONLINE ONLY.\, United States
CATEGORIES:Meetings,Worship
ATTACH;FMTTYPE=image/jpeg:https://utruthcenter.org/wp-content/uploads/2021/08/AIF2021_PrayerVigil-CalArt.jpg
END:VEVENT
END:VCALENDAR