BEGIN:VCALENDAR
VERSION:2.0
PRODID:-//Universal Truth Center - ECPv6.15.17//NONSGML v1.0//EN
CALSCALE:GREGORIAN
METHOD:PUBLISH
X-WR-CALNAME:Universal Truth Center
X-ORIGINAL-URL:https://utruthcenter.org
X-WR-CALDESC:Events for Universal Truth Center
REFRESH-INTERVAL;VALUE=DURATION:PT1H
X-Robots-Tag:noindex
X-PUBLISHED-TTL:PT1H
BEGIN:VTIMEZONE
TZID:America/New_York
BEGIN:DAYLIGHT
TZOFFSETFROM:-0500
TZOFFSETTO:-0400
TZNAME:EDT
DTSTART:20210314T070000
END:DAYLIGHT
BEGIN:STANDARD
TZOFFSETFROM:-0400
TZOFFSETTO:-0500
TZNAME:EST
DTSTART:20211107T060000
END:STANDARD
BEGIN:DAYLIGHT
TZOFFSETFROM:-0500
TZOFFSETTO:-0400
TZNAME:EDT
DTSTART:20220313T070000
END:DAYLIGHT
BEGIN:STANDARD
TZOFFSETFROM:-0400
TZOFFSETTO:-0500
TZNAME:EST
DTSTART:20221106T060000
END:STANDARD
BEGIN:DAYLIGHT
TZOFFSETFROM:-0500
TZOFFSETTO:-0400
TZNAME:EDT
DTSTART:20230312T070000
END:DAYLIGHT
BEGIN:STANDARD
TZOFFSETFROM:-0400
TZOFFSETTO:-0500
TZNAME:EST
DTSTART:20231105T060000
END:STANDARD
BEGIN:DAYLIGHT
TZOFFSETFROM:-0500
TZOFFSETTO:-0400
TZNAME:EDT
DTSTART:20240310T070000
END:DAYLIGHT
BEGIN:STANDARD
TZOFFSETFROM:-0400
TZOFFSETTO:-0500
TZNAME:EST
DTSTART:20241103T060000
END:STANDARD
END:VTIMEZONE
BEGIN:VEVENT
DTSTART;TZID=America/New_York:20230108T100000
DTEND;TZID=America/New_York:20230108T123000
DTSTAMP:20260421T184239
CREATED:20221222T183918Z
LAST-MODIFIED:20221222T183918Z
UID:10000816-1673172000-1673181000@utruthcenter.org
SUMMARY:Have Faith In Your Soul
DESCRIPTION:THEME: Miracles: Living in Alignment with Your Soul\n\nLESSON TITLE: \nHave Faith In Your Soul\n\nTEACHER: \n \nRev. Tawnicia Rowan\n\nRESPONSIVE READING: \nDaily Inspiration Pg. 13 \n\nSCRIPTURE: \nMark 8:34-37 \n\nColor: Blue\nPower: Faith\nDisciple: Peter\nWomen of the Chalice: Elizabeth\nPhysical Location: Pineal Gland\nMinistry: Congressional Care \n\n 
URL:https://utruthcenter.org/event/have-faith-in-your-soul/
LOCATION:UTC\, 21310 NW 37th Avenue\, Miami Gardens\, FL\, 33056
CATEGORIES:Events,Worship
ATTACH;FMTTYPE=image/jpeg:https://utruthcenter.org/wp-content/uploads/2022/12/UTC-JAN_LESSON_2023-CalArt.jpg
GEO:25.9696213;-80.2633696
X-APPLE-STRUCTURED-LOCATION;VALUE=URI;X-ADDRESS=UTC 21310 NW 37th Avenue Miami Gardens FL 33056;X-APPLE-RADIUS=500;X-TITLE=21310 NW 37th Avenue:geo:-80.2633696,25.9696213
END:VEVENT
BEGIN:VEVENT
DTSTART;TZID=America/New_York:20230108T094000
DTEND;TZID=America/New_York:20230108T123000
DTSTAMP:20260421T184239
CREATED:20230105T161907Z
LAST-MODIFIED:20230105T162628Z
UID:10000826-1673170800-1673181000@utruthcenter.org
SUMMARY:Pastor's Anniversary
DESCRIPTION:Come worship with us while we celebrate our Pastor’s Anniversary at UTC! \n\n 
URL:https://utruthcenter.org/event/pastors-anniversary/
LOCATION:UTC\, 21310 NW 37th Avenue\, Miami Gardens\, FL\, 33056
CATEGORIES:Events,Worship
ATTACH;FMTTYPE=image/jpeg:https://utruthcenter.org/wp-content/uploads/2023/01/PastorAnniv_2023-CalArt.jpg
GEO:25.9696213;-80.2633696
X-APPLE-STRUCTURED-LOCATION;VALUE=URI;X-ADDRESS=UTC 21310 NW 37th Avenue Miami Gardens FL 33056;X-APPLE-RADIUS=500;X-TITLE=21310 NW 37th Avenue:geo:-80.2633696,25.9696213
END:VEVENT
BEGIN:VEVENT
DTSTART;TZID=America/New_York:20230101T100000
DTEND;TZID=America/New_York:20230101T123000
DTSTAMP:20260421T184239
CREATED:20221222T174509Z
LAST-MODIFIED:20221222T174509Z
UID:10000814-1672567200-1672576200@utruthcenter.org
SUMMARY:Free to Be Me
DESCRIPTION:THEME: Miracles: Living in Alignment with Your Soul\n\nLESSON TITLE: \nFree to Be Me\n\nTEACHER: \n \nCharles M. Taylor\n\nRESPONSIVE READING: \nDaily Inspiration Pg. 8 \n\nSCRIPTURE: \nJohn 8:34-66 \n\nColor: Blue\nPower: Faith\nDisciple: Peter\nWomen of the Chalice: Elizabeth\nPhysical Location: Pineal Gland\nMinistry: Congressional Care \n\n 
URL:https://utruthcenter.org/event/free-to-be-me/
LOCATION:UTC\, 21310 NW 37th Avenue\, Miami Gardens\, FL\, 33056
CATEGORIES:Events,Worship
ATTACH;FMTTYPE=image/jpeg:https://utruthcenter.org/wp-content/uploads/2022/12/UTC-JAN_LESSON_2023-CalArt.jpg
GEO:25.9696213;-80.2633696
X-APPLE-STRUCTURED-LOCATION;VALUE=URI;X-ADDRESS=UTC 21310 NW 37th Avenue Miami Gardens FL 33056;X-APPLE-RADIUS=500;X-TITLE=21310 NW 37th Avenue:geo:-80.2633696,25.9696213
END:VEVENT
BEGIN:VEVENT
DTSTART;VALUE=DATE:20230101
DTEND;VALUE=DATE:20230102
DTSTAMP:20260421T184239
CREATED:20221226T194118Z
LAST-MODIFIED:20221226T195032Z
UID:10000823-1672531200-1672617599@utruthcenter.org
SUMMARY:Happy New Year from UTC
DESCRIPTION:“You do not become good by trying to be good\, but by finding the goodness that is already within you.”\n—Eckhart Tolle\nLet our New Year’s resolution be this: We will be there for one another as fellow members of humanity\, in the finest sense of the word. \nHappy New You from Universal Truth Center for better Living!
URL:https://utruthcenter.org/event/happy-new-year-from-utc/
CATEGORIES:Holidays
ATTACH;FMTTYPE=image/jpeg:https://utruthcenter.org/wp-content/uploads/2022/12/UTC-NewYear2023-CalArt.jpg
END:VEVENT
BEGIN:VEVENT
DTSTART;TZID=America/New_York:20221230T190000
DTEND;TZID=America/New_York:20221230T210000
DTSTAMP:20260421T184239
CREATED:20221218T173123Z
LAST-MODIFIED:20221218T173123Z
UID:10000750-1672426800-1672434000@utruthcenter.org
SUMMARY:UTC 2022 Burning Bowl Service
DESCRIPTION:2022 Burning Bowl\nJoin us for our annual Burning Bowl! This year’s theme is: From Mission Impossible to Mission Possible. Start your new year off right by joining us on Friday December 30\, 2022 at 7:00 pm.You may purchase your Burning Bowl package in the Illumination Bookstore or on our website. \n\nTEACHER: \n \nRev. Charles M. Taylor\n\n 
URL:https://utruthcenter.org/event/utc-2022-burning-bowl-service/
LOCATION:UTC\, 21310 NW 37th Avenue\, Miami Gardens\, FL\, 33056
CATEGORIES:Celebration,Events,Worship
ATTACH;FMTTYPE=image/jpeg:https://utruthcenter.org/wp-content/uploads/2022/12/UTC_BurningBowl22_CalArt.jpg
GEO:25.9696213;-80.2633696
X-APPLE-STRUCTURED-LOCATION;VALUE=URI;X-ADDRESS=UTC 21310 NW 37th Avenue Miami Gardens FL 33056;X-APPLE-RADIUS=500;X-TITLE=21310 NW 37th Avenue:geo:-80.2633696,25.9696213
END:VEVENT
BEGIN:VEVENT
DTSTART;TZID=America/New_York:20221227T180000
DTEND;TZID=America/New_York:20221227T190000
DTSTAMP:20260421T184239
CREATED:20221018T005859Z
LAST-MODIFIED:20221018T005859Z
UID:10000723-1672164000-1672167600@utruthcenter.org
SUMMARY:Tuesday Night Prayer Meeting
DESCRIPTION:Join us for a TUESDAY NIGHT PRAYER MEETING!\nEvery Tuesday from 6:00pm to 7:00pm \nThe dial-in number is: 716-427-1108 \nThe pin is: 457533# \nBE THERE! \n 
URL:https://utruthcenter.org/event/tuesday-night-prayer-meeting/2022-12-27/
LOCATION:THIS IS AN ONLINE ONLY WORSHIP EXPERIENCE.\, THIS IS AN ONLINE ONLY WORSHIP EXPERIENCE.\, FL\, 33056\, United States
CATEGORIES:Worship
ATTACH;FMTTYPE=image/jpeg:https://utruthcenter.org/wp-content/uploads/2021/12/UTC_CalArt-PRAYERMTG_2022.jpg
END:VEVENT
BEGIN:VEVENT
DTSTART;TZID=America/New_York:20221225T083000
DTEND;TZID=America/New_York:20221225T103000
DTSTAMP:20260421T184239
CREATED:20221030T151037Z
LAST-MODIFIED:20221108T174005Z
UID:10000745-1671957000-1671964200@utruthcenter.org
SUMMARY:The Gift of Light
DESCRIPTION:THEME: You Are The Gift\n\n  \n\n8:30am Candlelight Service • Christmas Day • Youth Sunday\n\nLESSON TITLE: \nThe Gift of Light\n\nTEACHER: \n \nRev. Charles M. Taylor\n\nRESPONSIVE READING: \nDaily Inspiration Pg. 64 \n\nSCRIPTURE: \nJohn 1:1-9 \n\nColor: Red\nPower: Life\nDisciple: Judas\nWomen of the Chalice: Rahab\nPhysical Location: Generative Function\nMinistry: Universal Academy \n\n 
URL:https://utruthcenter.org/event/let-your-light-shine/
LOCATION:UTC\, 21310 NW 37th Avenue\, Miami Gardens\, FL\, 33056
CATEGORIES:Events,Worship
ATTACH;FMTTYPE=image/jpeg:https://utruthcenter.org/wp-content/uploads/2022/10/UTC_xmas_candlelightService_CalArt.jpg
GEO:25.9696213;-80.2633696
X-APPLE-STRUCTURED-LOCATION;VALUE=URI;X-ADDRESS=UTC 21310 NW 37th Avenue Miami Gardens FL 33056;X-APPLE-RADIUS=500;X-TITLE=21310 NW 37th Avenue:geo:-80.2633696,25.9696213
END:VEVENT
BEGIN:VEVENT
DTSTART;VALUE=DATE:20221225
DTEND;VALUE=DATE:20221226
DTSTAMP:20260421T184239
CREATED:20221030T144820Z
LAST-MODIFIED:20221030T144820Z
UID:10000744-1671926400-1672012799@utruthcenter.org
SUMMARY:Merry Christmas from UTC
DESCRIPTION:UTC wishes you and yours a Merry Christmas!
URL:https://utruthcenter.org/event/merry-christmas-from-utc/
CATEGORIES:Holidays
ATTACH;FMTTYPE=image/jpeg:https://utruthcenter.org/wp-content/uploads/2021/12/UTC_CalArt-Christmas_HNY-redBG.jpg
END:VEVENT
BEGIN:VEVENT
DTSTART;TZID=America/New_York:20221221T180000
DTEND;TZID=America/New_York:20221221T180000
DTSTAMP:20260421T184239
CREATED:20221213T030837Z
LAST-MODIFIED:20221213T030859Z
UID:10000749-1671645600-1671645600@utruthcenter.org
SUMMARY:Conversations with the Minister
DESCRIPTION:Join the conversation on Wednesday December 21\, 2022 at 6:30pm. \nThis month’s conversation will be about preparing for the New Year and the Burning Bowl experience. You can purchase your Burning Bowl package in the Illuminations Bookstore in person or online at utruthcenter.org. \nYou won’t want to miss it!
URL:https://utruthcenter.org/event/conversations-with-the-minister-3/
LOCATION:UTC\, 21310 NW 37th Avenue\, Miami Gardens\, FL\, 33056
CATEGORIES:Concerts,Events,Meetings
ATTACH;FMTTYPE=image/jpeg:https://utruthcenter.org/wp-content/uploads/2022/12/Conv_Minister_DEC2022_CalArt.jpg
GEO:25.9696213;-80.2633696
X-APPLE-STRUCTURED-LOCATION;VALUE=URI;X-ADDRESS=UTC 21310 NW 37th Avenue Miami Gardens FL 33056;X-APPLE-RADIUS=500;X-TITLE=21310 NW 37th Avenue:geo:-80.2633696,25.9696213
END:VEVENT
BEGIN:VEVENT
DTSTART;TZID=America/New_York:20221220T180000
DTEND;TZID=America/New_York:20221220T190000
DTSTAMP:20260421T184239
CREATED:20221018T005859Z
LAST-MODIFIED:20221018T005859Z
UID:10000722-1671559200-1671562800@utruthcenter.org
SUMMARY:Tuesday Night Prayer Meeting
DESCRIPTION:Join us for a TUESDAY NIGHT PRAYER MEETING!\nEvery Tuesday from 6:00pm to 7:00pm \nThe dial-in number is: 716-427-1108 \nThe pin is: 457533# \nBE THERE! \n 
URL:https://utruthcenter.org/event/tuesday-night-prayer-meeting/2022-12-20/
LOCATION:THIS IS AN ONLINE ONLY WORSHIP EXPERIENCE.\, THIS IS AN ONLINE ONLY WORSHIP EXPERIENCE.\, FL\, 33056\, United States
CATEGORIES:Worship
ATTACH;FMTTYPE=image/jpeg:https://utruthcenter.org/wp-content/uploads/2021/12/UTC_CalArt-PRAYERMTG_2022.jpg
END:VEVENT
BEGIN:VEVENT
DTSTART;TZID=America/New_York:20221218T100000
DTEND;TZID=America/New_York:20221218T123000
DTSTAMP:20260421T184240
CREATED:20221030T144418Z
LAST-MODIFIED:20221108T173846Z
UID:10000743-1671357600-1671366600@utruthcenter.org
SUMMARY:The Gift of Song
DESCRIPTION:THEME: You Are The Gift\n\n\nLESSON TITLE: \nThe Gift of Song\n\nTEACHER: \n \nRev. Charles M. Taylor\n\nRESPONSIVE READING: \nDaily Inspiration Pg. 61 \n\nSCRIPTURE: \nPsalm 96:1-2 \n\nColor: Red\nPower: Life\nDisciple: Judas\nWomen of the Chalice: Rahab\nPhysical Location: Generative Function\nMinistry: Universal Academy \n\n 
URL:https://utruthcenter.org/event/sing-the-song-in-your-heart/
LOCATION:UTC\, 21310 NW 37th Avenue\, Miami Gardens\, FL\, 33056
CATEGORIES:Events,Worship
ATTACH;FMTTYPE=image/jpeg:https://utruthcenter.org/wp-content/uploads/2022/11/UTC_Decx2022_CalArt.jpg
GEO:25.9696213;-80.2633696
X-APPLE-STRUCTURED-LOCATION;VALUE=URI;X-ADDRESS=UTC 21310 NW 37th Avenue Miami Gardens FL 33056;X-APPLE-RADIUS=500;X-TITLE=21310 NW 37th Avenue:geo:-80.2633696,25.9696213
END:VEVENT
BEGIN:VEVENT
DTSTART;TZID=America/New_York:20221218T095000
DTEND;TZID=America/New_York:20221218T123000
DTSTAMP:20260421T184240
CREATED:20221213T024014Z
LAST-MODIFIED:20221213T024014Z
UID:10000747-1671357000-1671366600@utruthcenter.org
SUMMARY:UTC Christmas Concert
DESCRIPTION:Join us for our Annual Christmas Concert!\nJoin us for a wonderful celebration full of joyous music on Sunday December 18\, 2022 during 9:50am service.
URL:https://utruthcenter.org/event/utc-christmas-concert/
CATEGORIES:Celebration,Concerts,Events
ATTACH;FMTTYPE=image/jpeg:https://utruthcenter.org/wp-content/uploads/2022/12/xmas_concert2022_CalArt.jpg
END:VEVENT
BEGIN:VEVENT
DTSTART;TZID=America/New_York:20221213T180000
DTEND;TZID=America/New_York:20221213T190000
DTSTAMP:20260421T184240
CREATED:20221018T005859Z
LAST-MODIFIED:20221018T005859Z
UID:10000721-1670954400-1670958000@utruthcenter.org
SUMMARY:Tuesday Night Prayer Meeting
DESCRIPTION:Join us for a TUESDAY NIGHT PRAYER MEETING!\nEvery Tuesday from 6:00pm to 7:00pm \nThe dial-in number is: 716-427-1108 \nThe pin is: 457533# \nBE THERE! \n 
URL:https://utruthcenter.org/event/tuesday-night-prayer-meeting/2022-12-13/
LOCATION:THIS IS AN ONLINE ONLY WORSHIP EXPERIENCE.\, THIS IS AN ONLINE ONLY WORSHIP EXPERIENCE.\, FL\, 33056\, United States
CATEGORIES:Worship
ATTACH;FMTTYPE=image/jpeg:https://utruthcenter.org/wp-content/uploads/2021/12/UTC_CalArt-PRAYERMTG_2022.jpg
END:VEVENT
BEGIN:VEVENT
DTSTART;TZID=America/New_York:20221211T100000
DTEND;TZID=America/New_York:20221211T123000
DTSTAMP:20260421T184240
CREATED:20221030T144108Z
LAST-MODIFIED:20221104T232130Z
UID:10000742-1670752800-1670761800@utruthcenter.org
SUMMARY:The Gift of Joy
DESCRIPTION:THEME: You Are The Gift\n\n\nLESSON TITLE: \nThe Gift of Joy\n\nTEACHER: \n \nMyra Terrelonge\n\nRESPONSIVE READING: \nDaily Inspiration Pg. 75 \n\nSCRIPTURE: \nLuke 1:39-45 \n\nColor: Red\nPower: Life\nDisciple: Judas\nWomen of the Chalice: Rahab\nPhysical Location: Generative Function\nMinistry: Universal Academy \n\n 
URL:https://utruthcenter.org/event/the-gift-of-joy/
LOCATION:UTC\, 21310 NW 37th Avenue\, Miami Gardens\, FL\, 33056
CATEGORIES:Events,Worship
ATTACH;FMTTYPE=image/jpeg:https://utruthcenter.org/wp-content/uploads/2022/11/UTC_Decx2022_CalArt.jpg
GEO:25.9696213;-80.2633696
X-APPLE-STRUCTURED-LOCATION;VALUE=URI;X-ADDRESS=UTC 21310 NW 37th Avenue Miami Gardens FL 33056;X-APPLE-RADIUS=500;X-TITLE=21310 NW 37th Avenue:geo:-80.2633696,25.9696213
END:VEVENT
BEGIN:VEVENT
DTSTART;TZID=America/New_York:20221206T180000
DTEND;TZID=America/New_York:20221206T190000
DTSTAMP:20260421T184240
CREATED:20221018T005859Z
LAST-MODIFIED:20221018T005859Z
UID:10000720-1670349600-1670353200@utruthcenter.org
SUMMARY:Tuesday Night Prayer Meeting
DESCRIPTION:Join us for a TUESDAY NIGHT PRAYER MEETING!\nEvery Tuesday from 6:00pm to 7:00pm \nThe dial-in number is: 716-427-1108 \nThe pin is: 457533# \nBE THERE! \n 
URL:https://utruthcenter.org/event/tuesday-night-prayer-meeting/2022-12-06/
LOCATION:THIS IS AN ONLINE ONLY WORSHIP EXPERIENCE.\, THIS IS AN ONLINE ONLY WORSHIP EXPERIENCE.\, FL\, 33056\, United States
CATEGORIES:Worship
ATTACH;FMTTYPE=image/jpeg:https://utruthcenter.org/wp-content/uploads/2021/12/UTC_CalArt-PRAYERMTG_2022.jpg
END:VEVENT
BEGIN:VEVENT
DTSTART;TZID=America/New_York:20221204T100000
DTEND;TZID=America/New_York:20221204T123000
DTSTAMP:20260421T184240
CREATED:20221030T143620Z
LAST-MODIFIED:20221104T232159Z
UID:10000741-1670148000-1670157000@utruthcenter.org
SUMMARY:The Gift of Peace
DESCRIPTION:THEME: You Are The Gift\n\n\nLESSON TITLE: \nThe Gift of Peace\n\nTEACHER: \n \nRev. Jacqueline Hazel\n\nRESPONSIVE READING: \nDaily Inspiration Pg. 72 \n\nSCRIPTURE: \nLuke 2:1-14 \n\nColor: Red\nPower: Life\nDisciple: Judas\nWomen of the Chalice: Rahab\nPhysical Location: Generative Function\nMinistry: Universal Academy \n\n 
URL:https://utruthcenter.org/event/the-gift-of-peace/
LOCATION:UTC\, 21310 NW 37th Avenue\, Miami Gardens\, FL\, 33056
CATEGORIES:Events,Worship
ATTACH;FMTTYPE=image/jpeg:https://utruthcenter.org/wp-content/uploads/2022/11/UTC_Decx2022_CalArt.jpg
GEO:25.9696213;-80.2633696
X-APPLE-STRUCTURED-LOCATION;VALUE=URI;X-ADDRESS=UTC 21310 NW 37th Avenue Miami Gardens FL 33056;X-APPLE-RADIUS=500;X-TITLE=21310 NW 37th Avenue:geo:-80.2633696,25.9696213
END:VEVENT
BEGIN:VEVENT
DTSTART;TZID=America/New_York:20221129T180000
DTEND;TZID=America/New_York:20221129T190000
DTSTAMP:20260421T184240
CREATED:20221018T005859Z
LAST-MODIFIED:20221018T005859Z
UID:10000719-1669744800-1669748400@utruthcenter.org
SUMMARY:Tuesday Night Prayer Meeting
DESCRIPTION:Join us for a TUESDAY NIGHT PRAYER MEETING!\nEvery Tuesday from 6:00pm to 7:00pm \nThe dial-in number is: 716-427-1108 \nThe pin is: 457533# \nBE THERE! \n 
URL:https://utruthcenter.org/event/tuesday-night-prayer-meeting/2022-11-29/
LOCATION:THIS IS AN ONLINE ONLY WORSHIP EXPERIENCE.\, THIS IS AN ONLINE ONLY WORSHIP EXPERIENCE.\, FL\, 33056\, United States
CATEGORIES:Worship
ATTACH;FMTTYPE=image/jpeg:https://utruthcenter.org/wp-content/uploads/2021/12/UTC_CalArt-PRAYERMTG_2022.jpg
END:VEVENT
BEGIN:VEVENT
DTSTART;TZID=America/New_York:20221127T100000
DTEND;TZID=America/New_York:20221127T123000
DTSTAMP:20260421T184240
CREATED:20221018T014342Z
LAST-MODIFIED:20221030T141748Z
UID:10000737-1669543200-1669552200@utruthcenter.org
SUMMARY:Receive Your Miracle (Pre-Recording)
DESCRIPTION:THEME: 40 Years of Legacy and Beyond: A Year of Miracles\n\n\nLESSON TITLE: \nReceive Your Miracle\n(Pre-Recording on 11/16 or 11/19)\n\nTEACHER: \n \nShakira Taylor\n\nRESPONSIVE READING: \nDaily Inspiration Pg. 17 \n\nSCRIPTURE: \n1 Chronicles 4:9-10 NKJV \n\nColor: Russet\nPower: Renunciation\nDisciple: Thaddeus\nWomen of the Chalice: Bathsheba\nPhysical Location: Eliminative Organs\nMinistry: Outreach \n\n 
URL:https://utruthcenter.org/event/receive-your-miracle/
LOCATION:UTC\, 21310 NW 37th Avenue\, Miami Gardens\, FL\, 33056
CATEGORIES:Events,Worship
ATTACH;FMTTYPE=image/jpeg:https://utruthcenter.org/wp-content/uploads/2022/10/UTC_40YRS3_CalArt.jpg
GEO:25.9696213;-80.2633696
X-APPLE-STRUCTURED-LOCATION;VALUE=URI;X-ADDRESS=UTC 21310 NW 37th Avenue Miami Gardens FL 33056;X-APPLE-RADIUS=500;X-TITLE=21310 NW 37th Avenue:geo:-80.2633696,25.9696213
END:VEVENT
BEGIN:VEVENT
DTSTART;VALUE=DATE:20221124
DTEND;VALUE=DATE:20221125
DTSTAMP:20260421T184240
CREATED:20221018T015354Z
LAST-MODIFIED:20221018T015354Z
UID:10000739-1669248000-1669334399@utruthcenter.org
SUMMARY:Happy Thanksgiving from UTC
DESCRIPTION:UTC wishes you and yours a Happy\, Blessed Thanksgiving Celebration!
URL:https://utruthcenter.org/event/happy-thanksgiving-from-utc/
CATEGORIES:Holidays
ATTACH;FMTTYPE=image/jpeg:https://utruthcenter.org/wp-content/uploads/2018/11/thanksDay2018-CalArt.jpg
END:VEVENT
BEGIN:VEVENT
DTSTART;TZID=America/New_York:20221122T180000
DTEND;TZID=America/New_York:20221122T190000
DTSTAMP:20260421T184240
CREATED:20221018T005859Z
LAST-MODIFIED:20221018T005859Z
UID:10000718-1669140000-1669143600@utruthcenter.org
SUMMARY:Tuesday Night Prayer Meeting
DESCRIPTION:Join us for a TUESDAY NIGHT PRAYER MEETING!\nEvery Tuesday from 6:00pm to 7:00pm \nThe dial-in number is: 716-427-1108 \nThe pin is: 457533# \nBE THERE! \n 
URL:https://utruthcenter.org/event/tuesday-night-prayer-meeting/2022-11-22/
LOCATION:THIS IS AN ONLINE ONLY WORSHIP EXPERIENCE.\, THIS IS AN ONLINE ONLY WORSHIP EXPERIENCE.\, FL\, 33056\, United States
CATEGORIES:Worship
ATTACH;FMTTYPE=image/jpeg:https://utruthcenter.org/wp-content/uploads/2021/12/UTC_CalArt-PRAYERMTG_2022.jpg
END:VEVENT
BEGIN:VEVENT
DTSTART;TZID=America/New_York:20221120T100000
DTEND;TZID=America/New_York:20221120T123000
DTSTAMP:20260421T184240
CREATED:20221018T013949Z
LAST-MODIFIED:20221030T141447Z
UID:10000736-1668938400-1668947400@utruthcenter.org
SUMMARY:A Harvest of Miracles
DESCRIPTION:THEME: 40 Years of Legacy and Beyond: A Year of Miracles\n\n\nLESSON TITLE: \nA Harvest of Miracles\n\nTEACHER: \n \nRev. Charles M. Taylor\n\nRESPONSIVE READING: \nDaily Inspiration Pg. 33 \n\nSCRIPTURE: \n2 Corinthians 9:10 \n\nColor: Russet\nPower: Renunciation\nDisciple: Thaddeus\nWomen of the Chalice: Bathsheba\nPhysical Location: Eliminative Organs\nMinistry: Outreach \n\n 
URL:https://utruthcenter.org/event/a-harvest-of-miracles/
LOCATION:UTC\, 21310 NW 37th Avenue\, Miami Gardens\, FL\, 33056
CATEGORIES:Events,Worship
ATTACH;FMTTYPE=image/jpeg:https://utruthcenter.org/wp-content/uploads/2022/10/UTC_40YRS3_CalArt.jpg
GEO:25.9696213;-80.2633696
X-APPLE-STRUCTURED-LOCATION;VALUE=URI;X-ADDRESS=UTC 21310 NW 37th Avenue Miami Gardens FL 33056;X-APPLE-RADIUS=500;X-TITLE=21310 NW 37th Avenue:geo:-80.2633696,25.9696213
END:VEVENT
BEGIN:VEVENT
DTSTART;TZID=America/New_York:20221119T090000
DTEND;TZID=America/New_York:20221119T100000
DTSTAMP:20260421T184240
CREATED:20221104T194429Z
LAST-MODIFIED:20221104T194542Z
UID:10000746-1668848400-1668852000@utruthcenter.org
SUMMARY:Thanksgiving Prayer Vigil 2022
DESCRIPTION:The Prayer and Healing Ministry\ncordially invites you to the  \nThanksgiving Prayer Vigil\non  \nSaturday\, November 19\, at 9:00 am or 10:00 am  \nvia conference call # (716) 427-1108\, Access Code: 457533 \nPlease commit to a minimum of one hour of prayer as we give thanks and celebrate 40 years of legacy and beyond. \nPlease call in at least 5 minutes before the hour. \nWe look forward to your attendance.  \n\n 
URL:https://utruthcenter.org/event/thanksgiving-prayer-vigil-2022/
LOCATION:THIS IS AN ONLINE ONLY WORSHIP EXPERIENCE.\, THIS IS AN ONLINE ONLY WORSHIP EXPERIENCE.\, FL\, 33056\, United States
CATEGORIES:Meetings,Worship
ATTACH;FMTTYPE=image/jpeg:https://utruthcenter.org/wp-content/uploads/2022/11/Thanksgiving2022_prayer_vigil-CalArt.jpg
END:VEVENT
BEGIN:VEVENT
DTSTART;TZID=America/New_York:20221115T180000
DTEND;TZID=America/New_York:20221115T190000
DTSTAMP:20260421T184240
CREATED:20221018T005859Z
LAST-MODIFIED:20221018T005859Z
UID:10000717-1668535200-1668538800@utruthcenter.org
SUMMARY:Tuesday Night Prayer Meeting
DESCRIPTION:Join us for a TUESDAY NIGHT PRAYER MEETING!\nEvery Tuesday from 6:00pm to 7:00pm \nThe dial-in number is: 716-427-1108 \nThe pin is: 457533# \nBE THERE! \n 
URL:https://utruthcenter.org/event/tuesday-night-prayer-meeting/2022-11-15/
LOCATION:THIS IS AN ONLINE ONLY WORSHIP EXPERIENCE.\, THIS IS AN ONLINE ONLY WORSHIP EXPERIENCE.\, FL\, 33056\, United States
CATEGORIES:Worship
ATTACH;FMTTYPE=image/jpeg:https://utruthcenter.org/wp-content/uploads/2021/12/UTC_CalArt-PRAYERMTG_2022.jpg
END:VEVENT
BEGIN:VEVENT
DTSTART;TZID=America/New_York:20221113T100000
DTEND;TZID=America/New_York:20221113T123000
DTSTAMP:20260421T184240
CREATED:20221018T013652Z
LAST-MODIFIED:20221030T141400Z
UID:10000735-1668333600-1668342600@utruthcenter.org
SUMMARY:Giving Thanks for 40 Years of Miracles and Beyond
DESCRIPTION:THEME: 40 Years of Legacy and Beyond: A Year of Miracles\n\n\nLESSON TITLE: \nGiving Thanks for 40 Years of Miracles and Beyond\n\nTEACHER: \n \nRev. Sheila McKeithen\n\nRESPONSIVE READING: \nDaily Inspiration Pg. 16 \n\nSCRIPTURE: \nJeremiah 29:11 \n\nColor: Russet\nPower: Renunciation\nDisciple: Thaddeus\nWomen of the Chalice: Bathsheba\nPhysical Location: Eliminative Organs\nMinistry: Outreach \n\n 
URL:https://utruthcenter.org/event/giving-thanks-for-40-years-of-miracles-and-beyond/
LOCATION:UTC\, 21310 NW 37th Avenue\, Miami Gardens\, FL\, 33056
CATEGORIES:Events,Worship
ATTACH;FMTTYPE=image/jpeg:https://utruthcenter.org/wp-content/uploads/2022/10/UTC_40YRS3_CalArt.jpg
GEO:25.9696213;-80.2633696
X-APPLE-STRUCTURED-LOCATION;VALUE=URI;X-ADDRESS=UTC 21310 NW 37th Avenue Miami Gardens FL 33056;X-APPLE-RADIUS=500;X-TITLE=21310 NW 37th Avenue:geo:-80.2633696,25.9696213
END:VEVENT
BEGIN:VEVENT
DTSTART;TZID=America/New_York:20221113T095500
DTEND;TZID=America/New_York:20221113T123000
DTSTAMP:20260421T184240
CREATED:20221018T015023Z
LAST-MODIFIED:20221018T015529Z
UID:10000738-1668333300-1668342600@utruthcenter.org
SUMMARY:Anniversary/Graduation Sunday 2022
DESCRIPTION:Join us as we acknowledge all of our graduates! \n\n 
URL:https://utruthcenter.org/event/anniversary-graduation-sunday-2022/
LOCATION:UTC\, 21310 NW 37th Avenue\, Miami Gardens\, FL\, 33056
CATEGORIES:Events
ATTACH;FMTTYPE=image/png:https://utruthcenter.org/wp-content/uploads/2021/10/UTC_graduation-CalArt.png
GEO:25.9696213;-80.2633696
X-APPLE-STRUCTURED-LOCATION;VALUE=URI;X-ADDRESS=UTC 21310 NW 37th Avenue Miami Gardens FL 33056;X-APPLE-RADIUS=500;X-TITLE=21310 NW 37th Avenue:geo:-80.2633696,25.9696213
END:VEVENT
BEGIN:VEVENT
DTSTART;TZID=America/New_York:20221108T180000
DTEND;TZID=America/New_York:20221108T190000
DTSTAMP:20260421T184240
CREATED:20221018T005859Z
LAST-MODIFIED:20221018T005859Z
UID:10000716-1667930400-1667934000@utruthcenter.org
SUMMARY:Tuesday Night Prayer Meeting
DESCRIPTION:Join us for a TUESDAY NIGHT PRAYER MEETING!\nEvery Tuesday from 6:00pm to 7:00pm \nThe dial-in number is: 716-427-1108 \nThe pin is: 457533# \nBE THERE! \n 
URL:https://utruthcenter.org/event/tuesday-night-prayer-meeting/2022-11-08/
LOCATION:THIS IS AN ONLINE ONLY WORSHIP EXPERIENCE.\, THIS IS AN ONLINE ONLY WORSHIP EXPERIENCE.\, FL\, 33056\, United States
CATEGORIES:Worship
ATTACH;FMTTYPE=image/jpeg:https://utruthcenter.org/wp-content/uploads/2021/12/UTC_CalArt-PRAYERMTG_2022.jpg
END:VEVENT
BEGIN:VEVENT
DTSTART;TZID=America/New_York:20221106T100000
DTEND;TZID=America/New_York:20221106T123000
DTSTAMP:20260421T184240
CREATED:20221018T013350Z
LAST-MODIFIED:20221030T141300Z
UID:10000734-1667728800-1667737800@utruthcenter.org
SUMMARY:A Life of Miracles
DESCRIPTION:THEME: 40 Years of Legacy and Beyond: A Year of Miracles\n\n\nLESSON TITLE: \nA Life of Miracles\n\nTEACHER: \n \nRev. Tawnicia Rowan\n\nRESPONSIVE READING: \nDaily Inspiration Pg. 15 \n\nSCRIPTURE: \nMatthew 17:20 \n\nColor: Russet\nPower: Renunciation\nDisciple: Thaddeus\nWomen of the Chalice: Bathsheba\nPhysical Location: Eliminative Organs\nMinistry: Outreach \n\n 
URL:https://utruthcenter.org/event/a-life-of-miracles/
LOCATION:UTC\, 21310 NW 37th Avenue\, Miami Gardens\, FL\, 33056
CATEGORIES:Events,Worship
ATTACH;FMTTYPE=image/jpeg:https://utruthcenter.org/wp-content/uploads/2022/10/UTC_40YRS3_CalArt.jpg
GEO:25.9696213;-80.2633696
X-APPLE-STRUCTURED-LOCATION;VALUE=URI;X-ADDRESS=UTC 21310 NW 37th Avenue Miami Gardens FL 33056;X-APPLE-RADIUS=500;X-TITLE=21310 NW 37th Avenue:geo:-80.2633696,25.9696213
END:VEVENT
BEGIN:VEVENT
DTSTART;TZID=America/New_York:20221101T180000
DTEND;TZID=America/New_York:20221101T190000
DTSTAMP:20260421T184240
CREATED:20221018T005859Z
LAST-MODIFIED:20221018T005859Z
UID:10000715-1667325600-1667329200@utruthcenter.org
SUMMARY:Tuesday Night Prayer Meeting
DESCRIPTION:Join us for a TUESDAY NIGHT PRAYER MEETING!\nEvery Tuesday from 6:00pm to 7:00pm \nThe dial-in number is: 716-427-1108 \nThe pin is: 457533# \nBE THERE! \n 
URL:https://utruthcenter.org/event/tuesday-night-prayer-meeting/2022-11-01/
LOCATION:THIS IS AN ONLINE ONLY WORSHIP EXPERIENCE.\, THIS IS AN ONLINE ONLY WORSHIP EXPERIENCE.\, FL\, 33056\, United States
CATEGORIES:Worship
ATTACH;FMTTYPE=image/jpeg:https://utruthcenter.org/wp-content/uploads/2021/12/UTC_CalArt-PRAYERMTG_2022.jpg
END:VEVENT
BEGIN:VEVENT
DTSTART;TZID=America/New_York:20221030T120000
DTEND;TZID=America/New_York:20221030T140000
DTSTAMP:20260421T184240
CREATED:20221026T164904Z
LAST-MODIFIED:20221026T164904Z
UID:10000740-1667131200-1667138400@utruthcenter.org
SUMMARY:Annual Trunk or Treat!
DESCRIPTION:We are kicking off our Back to Sunday School Celebration with our Annual Trunk or Treat! \nJoin us on Sunday October 30th at 9:50am for Sunday School. Then\, join the fun immediately after service. \nWe are looking for volunteers to treat out their trunks!\nIf you are interested\, please give us a call!
URL:https://utruthcenter.org/event/annual-trunk-or-treat/
LOCATION:UTC\, 21310 NW 37th Avenue\, Miami Gardens\, FL\, 33056
CATEGORIES:Events
ATTACH;FMTTYPE=image/jpeg:https://utruthcenter.org/wp-content/uploads/2022/10/UTC_halloween2022_CalArt.jpg
GEO:25.9696213;-80.2633696
X-APPLE-STRUCTURED-LOCATION;VALUE=URI;X-ADDRESS=UTC 21310 NW 37th Avenue Miami Gardens FL 33056;X-APPLE-RADIUS=500;X-TITLE=21310 NW 37th Avenue:geo:-80.2633696,25.9696213
END:VEVENT
BEGIN:VEVENT
DTSTART;TZID=America/New_York:20221030T100000
DTEND;TZID=America/New_York:20221030T123000
DTSTAMP:20260421T184240
CREATED:20220817T132922Z
LAST-MODIFIED:20220817T132922Z
UID:10000706-1667124000-1667133000@utruthcenter.org
SUMMARY:Leaving a Legacy
DESCRIPTION:THEME: Adventure in Faith 2022: Living a Life of Abundance\n\n\nLESSON TITLE: \nLeaving a Legacy\n\nUNFOLDMENT: \nTithing Sunday\n\nTEACHER: \n \nRev. Charles M. Taylor\n\nRESPONSIVE READING: \nDaily Inspiration Pg. 83 \n\nSCRIPTURE: \nLuke 6:38 \n\nAIF BOOK: EMBRACE ABUNDANCE \n \nCHAPTER: Legacy\n \n\nColor: Orange\nPower: Zeal\nDisciple: Simon\nWomen of the Chalice: Ruth\nPhysical Location: Medulla\nMinistry: Stewardship \n\n 
URL:https://utruthcenter.org/event/leaving-a-legacy/
LOCATION:UTC\, 21310 NW 37th Avenue\, Miami Gardens\, FL\, 33056
CATEGORIES:Events,Worship
ATTACH;FMTTYPE=image/jpeg:https://utruthcenter.org/wp-content/uploads/2017/07/tithing-sunday-Cal-art.jpg
GEO:25.9696213;-80.2633696
X-APPLE-STRUCTURED-LOCATION;VALUE=URI;X-ADDRESS=UTC 21310 NW 37th Avenue Miami Gardens FL 33056;X-APPLE-RADIUS=500;X-TITLE=21310 NW 37th Avenue:geo:-80.2633696,25.9696213
END:VEVENT
END:VCALENDAR