BEGIN:VCALENDAR
VERSION:2.0
PRODID:-//Universal Truth Center - ECPv6.15.17//NONSGML v1.0//EN
CALSCALE:GREGORIAN
METHOD:PUBLISH
X-WR-CALNAME:Universal Truth Center
X-ORIGINAL-URL:https://utruthcenter.org
X-WR-CALDESC:Events for Universal Truth Center
REFRESH-INTERVAL;VALUE=DURATION:PT1H
X-Robots-Tag:noindex
X-PUBLISHED-TTL:PT1H
BEGIN:VTIMEZONE
TZID:America/New_York
BEGIN:DAYLIGHT
TZOFFSETFROM:-0500
TZOFFSETTO:-0400
TZNAME:EDT
DTSTART:20210314T070000
END:DAYLIGHT
BEGIN:STANDARD
TZOFFSETFROM:-0400
TZOFFSETTO:-0500
TZNAME:EST
DTSTART:20211107T060000
END:STANDARD
BEGIN:DAYLIGHT
TZOFFSETFROM:-0500
TZOFFSETTO:-0400
TZNAME:EDT
DTSTART:20220313T070000
END:DAYLIGHT
BEGIN:STANDARD
TZOFFSETFROM:-0400
TZOFFSETTO:-0500
TZNAME:EST
DTSTART:20221106T060000
END:STANDARD
BEGIN:DAYLIGHT
TZOFFSETFROM:-0500
TZOFFSETTO:-0400
TZNAME:EDT
DTSTART:20230312T070000
END:DAYLIGHT
BEGIN:STANDARD
TZOFFSETFROM:-0400
TZOFFSETTO:-0500
TZNAME:EST
DTSTART:20231105T060000
END:STANDARD
END:VTIMEZONE
BEGIN:VEVENT
DTSTART;TZID=America/New_York:20221025T180000
DTEND;TZID=America/New_York:20221025T190000
DTSTAMP:20260421T211315
CREATED:20221018T005859Z
LAST-MODIFIED:20221018T005859Z
UID:10000714-1666720800-1666724400@utruthcenter.org
SUMMARY:Tuesday Night Prayer Meeting
DESCRIPTION:Join us for a TUESDAY NIGHT PRAYER MEETING!\nEvery Tuesday from 6:00pm to 7:00pm \nThe dial-in number is: 716-427-1108 \nThe pin is: 457533# \nBE THERE! \n 
URL:https://utruthcenter.org/event/tuesday-night-prayer-meeting/2022-10-25/
LOCATION:THIS IS AN ONLINE ONLY WORSHIP EXPERIENCE.\, THIS IS AN ONLINE ONLY WORSHIP EXPERIENCE.\, FL\, 33056\, United States
CATEGORIES:Worship
ATTACH;FMTTYPE=image/jpeg:https://utruthcenter.org/wp-content/uploads/2021/12/UTC_CalArt-PRAYERMTG_2022.jpg
END:VEVENT
BEGIN:VEVENT
DTSTART;TZID=America/New_York:20221023T100000
DTEND;TZID=America/New_York:20221023T123000
DTSTAMP:20260421T211315
CREATED:20220817T132343Z
LAST-MODIFIED:20220822T011910Z
UID:10000705-1666519200-1666528200@utruthcenter.org
SUMMARY:More Than Enough
DESCRIPTION:THEME: Adventure in Faith 2022: Living a Life of Abundance\nYOUTH SUNDAY\n\nLESSON TITLE: \nMore Than Enough\n\nUNFOLDMENT:  \nFinancial\n\nTEACHER: \n \nRev. Charles M. Taylor\n\nRESPONSIVE READING: \nDaily Inspiration Pg. 82 \n\nSCRIPTURE: \nPhilippians 4:19 \n\nAIF BOOK: EMBRACE ABUNDANCE \n \nCHAPTER: Prosperity\n \n\nColor: Orange\nPower: Zeal\nDisciple: Simon\nWomen of the Chalice: Ruth\nPhysical Location: Medulla\nMinistry: Stewardship \n\n 
URL:https://utruthcenter.org/event/more-than-enough/
LOCATION:UTC\, 21310 NW 37th Avenue\, Miami Gardens\, FL\, 33056
CATEGORIES:Events,Worship
ATTACH;FMTTYPE=image/jpeg:https://utruthcenter.org/wp-content/uploads/2022/08/AIF2022-FINANCIAL-UTC_CalArt.jpg
GEO:25.9696213;-80.2633696
X-APPLE-STRUCTURED-LOCATION;VALUE=URI;X-ADDRESS=UTC 21310 NW 37th Avenue Miami Gardens FL 33056;X-APPLE-RADIUS=500;X-TITLE=21310 NW 37th Avenue:geo:-80.2633696,25.9696213
END:VEVENT
BEGIN:VEVENT
DTSTART;TZID=America/New_York:20221018T180000
DTEND;TZID=America/New_York:20221018T190000
DTSTAMP:20260421T211315
CREATED:20221018T005859Z
LAST-MODIFIED:20221018T005859Z
UID:10000713-1666116000-1666119600@utruthcenter.org
SUMMARY:Tuesday Night Prayer Meeting
DESCRIPTION:Join us for a TUESDAY NIGHT PRAYER MEETING!\nEvery Tuesday from 6:00pm to 7:00pm \nThe dial-in number is: 716-427-1108 \nThe pin is: 457533# \nBE THERE! \n 
URL:https://utruthcenter.org/event/tuesday-night-prayer-meeting/2022-10-18/
LOCATION:THIS IS AN ONLINE ONLY WORSHIP EXPERIENCE.\, THIS IS AN ONLINE ONLY WORSHIP EXPERIENCE.\, FL\, 33056\, United States
CATEGORIES:Worship
ATTACH;FMTTYPE=image/jpeg:https://utruthcenter.org/wp-content/uploads/2021/12/UTC_CalArt-PRAYERMTG_2022.jpg
END:VEVENT
BEGIN:VEVENT
DTSTART;TZID=America/New_York:20221017T100000
DTEND;TZID=America/New_York:20221017T110000
DTSTAMP:20260421T211315
CREATED:20210822T184058Z
LAST-MODIFIED:20210822T184518Z
UID:10000567-1666000800-1666004400@utruthcenter.org
SUMMARY:AIF 2021 Prayer Vigil
DESCRIPTION:Saturday\, September 4th\, 2021\n9:00 AM or 10:00 AM\nvia conference call\n(712)451-0011 – Access Code: 457533#\n \n\n 
URL:https://utruthcenter.org/event/aif-2021-prayer-vigil/2022-10-17/
LOCATION:THIS EVENT IS ONLINE ONLY.\, United States
CATEGORIES:Meetings,Worship
ATTACH;FMTTYPE=image/jpeg:https://utruthcenter.org/wp-content/uploads/2021/08/AIF2021_PrayerVigil-CalArt.jpg
END:VEVENT
BEGIN:VEVENT
DTSTART;TZID=America/New_York:20221016T100000
DTEND;TZID=America/New_York:20221016T123000
DTSTAMP:20260421T211315
CREATED:20220817T131853Z
LAST-MODIFIED:20220822T011825Z
UID:10000704-1665914400-1665923400@utruthcenter.org
SUMMARY:Express Your Zone of Genius
DESCRIPTION:THEME: Adventure in Faith 2022: Living a Life of Abundance\n\nLESSON TITLE: \nExpress Your Zone of Genius\n\nUNFOLDMENT:  \nVocational\n\nTEACHER: \n \nRev. Charles M. Taylor\n\nRESPONSIVE READING: \nDaily Inspiration Pg. 58 \n\nSCRIPTURE: \nProverbs 3:5-6 \n\nAIF BOOK: EMBRACE ABUNDANCE \n \nCHAPTER: Purpose\, Pg 123-144\n \n\nColor: Orange\nPower: Zeal\nDisciple: Simon\nWomen of the Chalice: Ruth\nPhysical Location: Medulla\nMinistry: Stewardship \n\n 
URL:https://utruthcenter.org/event/express-your-zone-of-genius/
LOCATION:UTC\, 21310 NW 37th Avenue\, Miami Gardens\, FL\, 33056
CATEGORIES:Events,Worship
ATTACH;FMTTYPE=image/jpeg:https://utruthcenter.org/wp-content/uploads/2022/08/AIF2022-VOCATIONAL-UTC_CalArt.jpg
GEO:25.9696213;-80.2633696
X-APPLE-STRUCTURED-LOCATION;VALUE=URI;X-ADDRESS=UTC 21310 NW 37th Avenue Miami Gardens FL 33056;X-APPLE-RADIUS=500;X-TITLE=21310 NW 37th Avenue:geo:-80.2633696,25.9696213
END:VEVENT
BEGIN:VEVENT
DTSTART;TZID=America/New_York:20221016T100000
DTEND;TZID=America/New_York:20221016T110000
DTSTAMP:20260421T211315
CREATED:20210822T184058Z
LAST-MODIFIED:20210822T184518Z
UID:10000566-1665914400-1665918000@utruthcenter.org
SUMMARY:AIF 2021 Prayer Vigil
DESCRIPTION:Saturday\, September 4th\, 2021\n9:00 AM or 10:00 AM\nvia conference call\n(712)451-0011 – Access Code: 457533#\n \n\n 
URL:https://utruthcenter.org/event/aif-2021-prayer-vigil/2022-10-16/
LOCATION:THIS EVENT IS ONLINE ONLY.\, United States
CATEGORIES:Meetings,Worship
ATTACH;FMTTYPE=image/jpeg:https://utruthcenter.org/wp-content/uploads/2021/08/AIF2021_PrayerVigil-CalArt.jpg
END:VEVENT
BEGIN:VEVENT
DTSTART;TZID=America/New_York:20221015T100000
DTEND;TZID=America/New_York:20221015T110000
DTSTAMP:20260421T211315
CREATED:20210822T184058Z
LAST-MODIFIED:20210822T184518Z
UID:10000565-1665828000-1665831600@utruthcenter.org
SUMMARY:AIF 2021 Prayer Vigil
DESCRIPTION:Saturday\, September 4th\, 2021\n9:00 AM or 10:00 AM\nvia conference call\n(712)451-0011 – Access Code: 457533#\n \n\n 
URL:https://utruthcenter.org/event/aif-2021-prayer-vigil/2022-10-15/
LOCATION:THIS EVENT IS ONLINE ONLY.\, United States
CATEGORIES:Meetings,Worship
ATTACH;FMTTYPE=image/jpeg:https://utruthcenter.org/wp-content/uploads/2021/08/AIF2021_PrayerVigil-CalArt.jpg
END:VEVENT
BEGIN:VEVENT
DTSTART;TZID=America/New_York:20221014T100000
DTEND;TZID=America/New_York:20221014T110000
DTSTAMP:20260421T211315
CREATED:20210822T184058Z
LAST-MODIFIED:20210822T184518Z
UID:10000564-1665741600-1665745200@utruthcenter.org
SUMMARY:AIF 2021 Prayer Vigil
DESCRIPTION:Saturday\, September 4th\, 2021\n9:00 AM or 10:00 AM\nvia conference call\n(712)451-0011 – Access Code: 457533#\n \n\n 
URL:https://utruthcenter.org/event/aif-2021-prayer-vigil/2022-10-14/
LOCATION:THIS EVENT IS ONLINE ONLY.\, United States
CATEGORIES:Meetings,Worship
ATTACH;FMTTYPE=image/jpeg:https://utruthcenter.org/wp-content/uploads/2021/08/AIF2021_PrayerVigil-CalArt.jpg
END:VEVENT
BEGIN:VEVENT
DTSTART;TZID=America/New_York:20221013T100000
DTEND;TZID=America/New_York:20221013T110000
DTSTAMP:20260421T211315
CREATED:20210822T184058Z
LAST-MODIFIED:20210822T184518Z
UID:10000563-1665655200-1665658800@utruthcenter.org
SUMMARY:AIF 2021 Prayer Vigil
DESCRIPTION:Saturday\, September 4th\, 2021\n9:00 AM or 10:00 AM\nvia conference call\n(712)451-0011 – Access Code: 457533#\n \n\n 
URL:https://utruthcenter.org/event/aif-2021-prayer-vigil/2022-10-13/
LOCATION:THIS EVENT IS ONLINE ONLY.\, United States
CATEGORIES:Meetings,Worship
ATTACH;FMTTYPE=image/jpeg:https://utruthcenter.org/wp-content/uploads/2021/08/AIF2021_PrayerVigil-CalArt.jpg
END:VEVENT
BEGIN:VEVENT
DTSTART;TZID=America/New_York:20221012T100000
DTEND;TZID=America/New_York:20221012T110000
DTSTAMP:20260421T211315
CREATED:20210822T184058Z
LAST-MODIFIED:20210822T184518Z
UID:10000562-1665568800-1665572400@utruthcenter.org
SUMMARY:AIF 2021 Prayer Vigil
DESCRIPTION:Saturday\, September 4th\, 2021\n9:00 AM or 10:00 AM\nvia conference call\n(712)451-0011 – Access Code: 457533#\n \n\n 
URL:https://utruthcenter.org/event/aif-2021-prayer-vigil/2022-10-12/
LOCATION:THIS EVENT IS ONLINE ONLY.\, United States
CATEGORIES:Meetings,Worship
ATTACH;FMTTYPE=image/jpeg:https://utruthcenter.org/wp-content/uploads/2021/08/AIF2021_PrayerVigil-CalArt.jpg
END:VEVENT
BEGIN:VEVENT
DTSTART;TZID=America/New_York:20221011T100000
DTEND;TZID=America/New_York:20221011T110000
DTSTAMP:20260421T211315
CREATED:20210822T184058Z
LAST-MODIFIED:20210822T184518Z
UID:10000561-1665482400-1665486000@utruthcenter.org
SUMMARY:AIF 2021 Prayer Vigil
DESCRIPTION:Saturday\, September 4th\, 2021\n9:00 AM or 10:00 AM\nvia conference call\n(712)451-0011 – Access Code: 457533#\n \n\n 
URL:https://utruthcenter.org/event/aif-2021-prayer-vigil/2022-10-11/
LOCATION:THIS EVENT IS ONLINE ONLY.\, United States
CATEGORIES:Meetings,Worship
ATTACH;FMTTYPE=image/jpeg:https://utruthcenter.org/wp-content/uploads/2021/08/AIF2021_PrayerVigil-CalArt.jpg
END:VEVENT
BEGIN:VEVENT
DTSTART;TZID=America/New_York:20221010T100000
DTEND;TZID=America/New_York:20221010T110000
DTSTAMP:20260421T211315
CREATED:20210822T184058Z
LAST-MODIFIED:20210822T184518Z
UID:10000560-1665396000-1665399600@utruthcenter.org
SUMMARY:AIF 2021 Prayer Vigil
DESCRIPTION:Saturday\, September 4th\, 2021\n9:00 AM or 10:00 AM\nvia conference call\n(712)451-0011 – Access Code: 457533#\n \n\n 
URL:https://utruthcenter.org/event/aif-2021-prayer-vigil/2022-10-10/
LOCATION:THIS EVENT IS ONLINE ONLY.\, United States
CATEGORIES:Meetings,Worship
ATTACH;FMTTYPE=image/jpeg:https://utruthcenter.org/wp-content/uploads/2021/08/AIF2021_PrayerVigil-CalArt.jpg
END:VEVENT
BEGIN:VEVENT
DTSTART;TZID=America/New_York:20221009T100000
DTEND;TZID=America/New_York:20221009T123000
DTSTAMP:20260421T211315
CREATED:20220817T131440Z
LAST-MODIFIED:20220822T011739Z
UID:10000703-1665309600-1665318600@utruthcenter.org
SUMMARY:Search for Meaning
DESCRIPTION:THEME: Adventure in Faith 2022: Living a Life of Abundance\n\nLESSON TITLE: \nSearch for Meaning\n\nUNFOLDMENT:  \nSocial\n\nTEACHER: \n \nRev. Tawnicia Rowan\n\nRESPONSIVE READING: \nDaily Inspiration Pg. 59 \n\nSCRIPTURE: \nJoshua 4:1-7 \n\nAIF BOOK: EMBRACE ABUNDANCE \n \nCHAPTER: Purpose\, Pg 117-122\n \n\nColor: Orange\nPower: Zeal\nDisciple: Simon\nWomen of the Chalice: Ruth\nPhysical Location: Medulla\nMinistry: Stewardship \n\n 
URL:https://utruthcenter.org/event/search-for-meaning/
LOCATION:UTC\, 21310 NW 37th Avenue\, Miami Gardens\, FL\, 33056
CATEGORIES:Events,Worship
ATTACH;FMTTYPE=image/jpeg:https://utruthcenter.org/wp-content/uploads/2022/08/AIF2022-SOCIAL-UTC_CalArt.jpg
GEO:25.9696213;-80.2633696
X-APPLE-STRUCTURED-LOCATION;VALUE=URI;X-ADDRESS=UTC 21310 NW 37th Avenue Miami Gardens FL 33056;X-APPLE-RADIUS=500;X-TITLE=21310 NW 37th Avenue:geo:-80.2633696,25.9696213
END:VEVENT
BEGIN:VEVENT
DTSTART;TZID=America/New_York:20221009T100000
DTEND;TZID=America/New_York:20221009T110000
DTSTAMP:20260421T211315
CREATED:20210822T184058Z
LAST-MODIFIED:20210822T184518Z
UID:10000559-1665309600-1665313200@utruthcenter.org
SUMMARY:AIF 2021 Prayer Vigil
DESCRIPTION:Saturday\, September 4th\, 2021\n9:00 AM or 10:00 AM\nvia conference call\n(712)451-0011 – Access Code: 457533#\n \n\n 
URL:https://utruthcenter.org/event/aif-2021-prayer-vigil/2022-10-09/
LOCATION:THIS EVENT IS ONLINE ONLY.\, United States
CATEGORIES:Meetings,Worship
ATTACH;FMTTYPE=image/jpeg:https://utruthcenter.org/wp-content/uploads/2021/08/AIF2021_PrayerVigil-CalArt.jpg
END:VEVENT
BEGIN:VEVENT
DTSTART;TZID=America/New_York:20221008T100000
DTEND;TZID=America/New_York:20221008T110000
DTSTAMP:20260421T211315
CREATED:20210822T184058Z
LAST-MODIFIED:20210822T184518Z
UID:10000558-1665223200-1665226800@utruthcenter.org
SUMMARY:AIF 2021 Prayer Vigil
DESCRIPTION:Saturday\, September 4th\, 2021\n9:00 AM or 10:00 AM\nvia conference call\n(712)451-0011 – Access Code: 457533#\n \n\n 
URL:https://utruthcenter.org/event/aif-2021-prayer-vigil/2022-10-08/
LOCATION:THIS EVENT IS ONLINE ONLY.\, United States
CATEGORIES:Meetings,Worship
ATTACH;FMTTYPE=image/jpeg:https://utruthcenter.org/wp-content/uploads/2021/08/AIF2021_PrayerVigil-CalArt.jpg
END:VEVENT
BEGIN:VEVENT
DTSTART;TZID=America/New_York:20221007T100000
DTEND;TZID=America/New_York:20221007T110000
DTSTAMP:20260421T211315
CREATED:20210822T184058Z
LAST-MODIFIED:20210822T184518Z
UID:10000557-1665136800-1665140400@utruthcenter.org
SUMMARY:AIF 2021 Prayer Vigil
DESCRIPTION:Saturday\, September 4th\, 2021\n9:00 AM or 10:00 AM\nvia conference call\n(712)451-0011 – Access Code: 457533#\n \n\n 
URL:https://utruthcenter.org/event/aif-2021-prayer-vigil/2022-10-07/
LOCATION:THIS EVENT IS ONLINE ONLY.\, United States
CATEGORIES:Meetings,Worship
ATTACH;FMTTYPE=image/jpeg:https://utruthcenter.org/wp-content/uploads/2021/08/AIF2021_PrayerVigil-CalArt.jpg
END:VEVENT
BEGIN:VEVENT
DTSTART;TZID=America/New_York:20221006T100000
DTEND;TZID=America/New_York:20221006T110000
DTSTAMP:20260421T211315
CREATED:20210822T184058Z
LAST-MODIFIED:20210822T184518Z
UID:10000556-1665050400-1665054000@utruthcenter.org
SUMMARY:AIF 2021 Prayer Vigil
DESCRIPTION:Saturday\, September 4th\, 2021\n9:00 AM or 10:00 AM\nvia conference call\n(712)451-0011 – Access Code: 457533#\n \n\n 
URL:https://utruthcenter.org/event/aif-2021-prayer-vigil/2022-10-06/
LOCATION:THIS EVENT IS ONLINE ONLY.\, United States
CATEGORIES:Meetings,Worship
ATTACH;FMTTYPE=image/jpeg:https://utruthcenter.org/wp-content/uploads/2021/08/AIF2021_PrayerVigil-CalArt.jpg
END:VEVENT
BEGIN:VEVENT
DTSTART;TZID=America/New_York:20221005T100000
DTEND;TZID=America/New_York:20221005T110000
DTSTAMP:20260421T211315
CREATED:20210822T184058Z
LAST-MODIFIED:20210822T184518Z
UID:10000555-1664964000-1664967600@utruthcenter.org
SUMMARY:AIF 2021 Prayer Vigil
DESCRIPTION:Saturday\, September 4th\, 2021\n9:00 AM or 10:00 AM\nvia conference call\n(712)451-0011 – Access Code: 457533#\n \n\n 
URL:https://utruthcenter.org/event/aif-2021-prayer-vigil/2022-10-05/
LOCATION:THIS EVENT IS ONLINE ONLY.\, United States
CATEGORIES:Meetings,Worship
ATTACH;FMTTYPE=image/jpeg:https://utruthcenter.org/wp-content/uploads/2021/08/AIF2021_PrayerVigil-CalArt.jpg
END:VEVENT
BEGIN:VEVENT
DTSTART;TZID=America/New_York:20221004T100000
DTEND;TZID=America/New_York:20221004T110000
DTSTAMP:20260421T211315
CREATED:20210822T184058Z
LAST-MODIFIED:20210822T184518Z
UID:10000554-1664877600-1664881200@utruthcenter.org
SUMMARY:AIF 2021 Prayer Vigil
DESCRIPTION:Saturday\, September 4th\, 2021\n9:00 AM or 10:00 AM\nvia conference call\n(712)451-0011 – Access Code: 457533#\n \n\n 
URL:https://utruthcenter.org/event/aif-2021-prayer-vigil/2022-10-04/
LOCATION:THIS EVENT IS ONLINE ONLY.\, United States
CATEGORIES:Meetings,Worship
ATTACH;FMTTYPE=image/jpeg:https://utruthcenter.org/wp-content/uploads/2021/08/AIF2021_PrayerVigil-CalArt.jpg
END:VEVENT
BEGIN:VEVENT
DTSTART;TZID=America/New_York:20221003T100000
DTEND;TZID=America/New_York:20221003T110000
DTSTAMP:20260421T211315
CREATED:20210822T184058Z
LAST-MODIFIED:20210822T184518Z
UID:10000553-1664791200-1664794800@utruthcenter.org
SUMMARY:AIF 2021 Prayer Vigil
DESCRIPTION:Saturday\, September 4th\, 2021\n9:00 AM or 10:00 AM\nvia conference call\n(712)451-0011 – Access Code: 457533#\n \n\n 
URL:https://utruthcenter.org/event/aif-2021-prayer-vigil/2022-10-03/
LOCATION:THIS EVENT IS ONLINE ONLY.\, United States
CATEGORIES:Meetings,Worship
ATTACH;FMTTYPE=image/jpeg:https://utruthcenter.org/wp-content/uploads/2021/08/AIF2021_PrayerVigil-CalArt.jpg
END:VEVENT
BEGIN:VEVENT
DTSTART;TZID=America/New_York:20221002T100000
DTEND;TZID=America/New_York:20221002T123000
DTSTAMP:20260421T211315
CREATED:20220817T131008Z
LAST-MODIFIED:20220822T011657Z
UID:10000702-1664704800-1664713800@utruthcenter.org
SUMMARY:Be What You Want
DESCRIPTION:THEME: Adventure in Faith 2022: Living a Life of Abundance\n\nLESSON TITLE: \nBe What You Want\n\nUNFOLDMENT:  \nRelational\n\nTEACHER: \n \nRev. Charles M. Taylor\n\nRESPONSIVE READING: \nDaily Inspiration Pg. 67 \n\nSCRIPTURE: \nMatthew 7:12 \n\nAIF BOOK: EMBRACE ABUNDANCE \n \nCHAPTER: Relationships \n\nColor: Orange\nPower: Zeal\nDisciple: Simon\nWomen of the Chalice: Ruth\nPhysical Location: Medulla\nMinistry: Stewardship \n\n 
URL:https://utruthcenter.org/event/be-what-you-want/
LOCATION:UTC\, 21310 NW 37th Avenue\, Miami Gardens\, FL\, 33056
CATEGORIES:Events,Worship
ATTACH;FMTTYPE=image/jpeg:https://utruthcenter.org/wp-content/uploads/2022/08/AIF2022-RELATIONAL-UTC_CalArt.jpg
GEO:25.9696213;-80.2633696
X-APPLE-STRUCTURED-LOCATION;VALUE=URI;X-ADDRESS=UTC 21310 NW 37th Avenue Miami Gardens FL 33056;X-APPLE-RADIUS=500;X-TITLE=21310 NW 37th Avenue:geo:-80.2633696,25.9696213
END:VEVENT
BEGIN:VEVENT
DTSTART;TZID=America/New_York:20221002T100000
DTEND;TZID=America/New_York:20221002T110000
DTSTAMP:20260421T211315
CREATED:20210822T184058Z
LAST-MODIFIED:20210822T184518Z
UID:10000552-1664704800-1664708400@utruthcenter.org
SUMMARY:AIF 2021 Prayer Vigil
DESCRIPTION:Saturday\, September 4th\, 2021\n9:00 AM or 10:00 AM\nvia conference call\n(712)451-0011 – Access Code: 457533#\n \n\n 
URL:https://utruthcenter.org/event/aif-2021-prayer-vigil/2022-10-02/
LOCATION:THIS EVENT IS ONLINE ONLY.\, United States
CATEGORIES:Meetings,Worship
ATTACH;FMTTYPE=image/jpeg:https://utruthcenter.org/wp-content/uploads/2021/08/AIF2021_PrayerVigil-CalArt.jpg
END:VEVENT
BEGIN:VEVENT
DTSTART;TZID=America/New_York:20221001T100000
DTEND;TZID=America/New_York:20221001T110000
DTSTAMP:20260421T211315
CREATED:20210822T184058Z
LAST-MODIFIED:20210822T184518Z
UID:10000551-1664618400-1664622000@utruthcenter.org
SUMMARY:AIF 2021 Prayer Vigil
DESCRIPTION:Saturday\, September 4th\, 2021\n9:00 AM or 10:00 AM\nvia conference call\n(712)451-0011 – Access Code: 457533#\n \n\n 
URL:https://utruthcenter.org/event/aif-2021-prayer-vigil/2022-10-01/
LOCATION:THIS EVENT IS ONLINE ONLY.\, United States
CATEGORIES:Meetings,Worship
ATTACH;FMTTYPE=image/jpeg:https://utruthcenter.org/wp-content/uploads/2021/08/AIF2021_PrayerVigil-CalArt.jpg
END:VEVENT
BEGIN:VEVENT
DTSTART;TZID=America/New_York:20220930T100000
DTEND;TZID=America/New_York:20220930T110000
DTSTAMP:20260421T211315
CREATED:20210822T184058Z
LAST-MODIFIED:20210822T184518Z
UID:10000550-1664532000-1664535600@utruthcenter.org
SUMMARY:AIF 2021 Prayer Vigil
DESCRIPTION:Saturday\, September 4th\, 2021\n9:00 AM or 10:00 AM\nvia conference call\n(712)451-0011 – Access Code: 457533#\n \n\n 
URL:https://utruthcenter.org/event/aif-2021-prayer-vigil/2022-09-30/
LOCATION:THIS EVENT IS ONLINE ONLY.\, United States
CATEGORIES:Meetings,Worship
ATTACH;FMTTYPE=image/jpeg:https://utruthcenter.org/wp-content/uploads/2021/08/AIF2021_PrayerVigil-CalArt.jpg
END:VEVENT
BEGIN:VEVENT
DTSTART;TZID=America/New_York:20220929T100000
DTEND;TZID=America/New_York:20220929T110000
DTSTAMP:20260421T211315
CREATED:20210822T184058Z
LAST-MODIFIED:20210822T184518Z
UID:10000549-1664445600-1664449200@utruthcenter.org
SUMMARY:AIF 2021 Prayer Vigil
DESCRIPTION:Saturday\, September 4th\, 2021\n9:00 AM or 10:00 AM\nvia conference call\n(712)451-0011 – Access Code: 457533#\n \n\n 
URL:https://utruthcenter.org/event/aif-2021-prayer-vigil/2022-09-29/
LOCATION:THIS EVENT IS ONLINE ONLY.\, United States
CATEGORIES:Meetings,Worship
ATTACH;FMTTYPE=image/jpeg:https://utruthcenter.org/wp-content/uploads/2021/08/AIF2021_PrayerVigil-CalArt.jpg
END:VEVENT
BEGIN:VEVENT
DTSTART;TZID=America/New_York:20220928T190000
DTEND;TZID=America/New_York:20220928T203000
DTSTAMP:20260421T211315
CREATED:20220822T032420Z
LAST-MODIFIED:20220822T033055Z
UID:10000709-1664391600-1664397000@utruthcenter.org
SUMMARY:MIND/BODY 3
DESCRIPTION:Change your ways\, change your life. Begin your journey of transforming your life by aligning your “Body Energy System.” \nPrerequisite: None\nText: None.\nDays & Times: Selected Wednesdays\, 7:00 pm -8:30 pm for 3 weeks.\nTeacher: Dr. G. Hutson.\nCredits: 0
URL:https://utruthcenter.org/event/mind-body-3/
CATEGORIES:Classes
ATTACH;FMTTYPE=image/jpeg:https://utruthcenter.org/wp-content/uploads/2022/08/MIND_BODY-BES_class-SEPT28.jpg
END:VEVENT
BEGIN:VEVENT
DTSTART;TZID=America/New_York:20220928T100000
DTEND;TZID=America/New_York:20220928T110000
DTSTAMP:20260421T211315
CREATED:20210822T184058Z
LAST-MODIFIED:20210822T184518Z
UID:10000548-1664359200-1664362800@utruthcenter.org
SUMMARY:AIF 2021 Prayer Vigil
DESCRIPTION:Saturday\, September 4th\, 2021\n9:00 AM or 10:00 AM\nvia conference call\n(712)451-0011 – Access Code: 457533#\n \n\n 
URL:https://utruthcenter.org/event/aif-2021-prayer-vigil/2022-09-28/
LOCATION:THIS EVENT IS ONLINE ONLY.\, United States
CATEGORIES:Meetings,Worship
ATTACH;FMTTYPE=image/jpeg:https://utruthcenter.org/wp-content/uploads/2021/08/AIF2021_PrayerVigil-CalArt.jpg
END:VEVENT
BEGIN:VEVENT
DTSTART;TZID=America/New_York:20220927T100000
DTEND;TZID=America/New_York:20220927T110000
DTSTAMP:20260421T211315
CREATED:20210822T184058Z
LAST-MODIFIED:20210822T184518Z
UID:10000547-1664272800-1664276400@utruthcenter.org
SUMMARY:AIF 2021 Prayer Vigil
DESCRIPTION:Saturday\, September 4th\, 2021\n9:00 AM or 10:00 AM\nvia conference call\n(712)451-0011 – Access Code: 457533#\n \n\n 
URL:https://utruthcenter.org/event/aif-2021-prayer-vigil/2022-09-27/
LOCATION:THIS EVENT IS ONLINE ONLY.\, United States
CATEGORIES:Meetings,Worship
ATTACH;FMTTYPE=image/jpeg:https://utruthcenter.org/wp-content/uploads/2021/08/AIF2021_PrayerVigil-CalArt.jpg
END:VEVENT
BEGIN:VEVENT
DTSTART;TZID=America/New_York:20220926T100000
DTEND;TZID=America/New_York:20220926T110000
DTSTAMP:20260421T211315
CREATED:20210822T184058Z
LAST-MODIFIED:20210822T184518Z
UID:10000546-1664186400-1664190000@utruthcenter.org
SUMMARY:AIF 2021 Prayer Vigil
DESCRIPTION:Saturday\, September 4th\, 2021\n9:00 AM or 10:00 AM\nvia conference call\n(712)451-0011 – Access Code: 457533#\n \n\n 
URL:https://utruthcenter.org/event/aif-2021-prayer-vigil/2022-09-26/
LOCATION:THIS EVENT IS ONLINE ONLY.\, United States
CATEGORIES:Meetings,Worship
ATTACH;FMTTYPE=image/jpeg:https://utruthcenter.org/wp-content/uploads/2021/08/AIF2021_PrayerVigil-CalArt.jpg
END:VEVENT
BEGIN:VEVENT
DTSTART;TZID=America/New_York:20220925T100000
DTEND;TZID=America/New_York:20220925T123000
DTSTAMP:20260421T211315
CREATED:20220817T125950Z
LAST-MODIFIED:20220822T011614Z
UID:10000701-1664100000-1664109000@utruthcenter.org
SUMMARY:Take Care of Yourself
DESCRIPTION:THEME: Adventure in Faith 2022: Living a Life of Abundance\n\nLESSON TITLE: \nTake Care of Yourself\n\nUNFOLDMENT:  \nPhysical\n\nTEACHER: \n \nShakira Taylor\n\nRESPONSIVE READING: \nDaily Inspiration Pg. 25 \n\nSCRIPTURE: \n1 Corinthians 6:19 \n\nAIF BOOK: EMBRACE ABUNDANCE \n \nCHAPTER: Health \n\nColor: Olive Green\nPower: Order\nDisciple: James son of Alpheus\nWomen of the Chalice: Mary wife of Alpheus\nPhysical Location: Navel\nMinistry: Adult Education \n\n 
URL:https://utruthcenter.org/event/take-care-of-yourself/
LOCATION:UTC\, 21310 NW 37th Avenue\, Miami Gardens\, FL\, 33056
CATEGORIES:Events,Worship
ATTACH;FMTTYPE=image/jpeg:https://utruthcenter.org/wp-content/uploads/2022/08/AIF2022-PHYSICAL-UTC_CalArt.jpg
GEO:25.9696213;-80.2633696
X-APPLE-STRUCTURED-LOCATION;VALUE=URI;X-ADDRESS=UTC 21310 NW 37th Avenue Miami Gardens FL 33056;X-APPLE-RADIUS=500;X-TITLE=21310 NW 37th Avenue:geo:-80.2633696,25.9696213
END:VEVENT
END:VCALENDAR