BEGIN:VCALENDAR
VERSION:2.0
PRODID:-//Universal Truth Center - ECPv6.15.17//NONSGML v1.0//EN
CALSCALE:GREGORIAN
METHOD:PUBLISH
X-WR-CALNAME:Universal Truth Center
X-ORIGINAL-URL:https://utruthcenter.org
X-WR-CALDESC:Events for Universal Truth Center
REFRESH-INTERVAL;VALUE=DURATION:PT1H
X-Robots-Tag:noindex
X-PUBLISHED-TTL:PT1H
BEGIN:VTIMEZONE
TZID:America/New_York
BEGIN:DAYLIGHT
TZOFFSETFROM:-0500
TZOFFSETTO:-0400
TZNAME:EDT
DTSTART:20250309T070000
END:DAYLIGHT
BEGIN:STANDARD
TZOFFSETFROM:-0400
TZOFFSETTO:-0500
TZNAME:EST
DTSTART:20251102T060000
END:STANDARD
BEGIN:DAYLIGHT
TZOFFSETFROM:-0500
TZOFFSETTO:-0400
TZNAME:EDT
DTSTART:20260308T070000
END:DAYLIGHT
BEGIN:STANDARD
TZOFFSETFROM:-0400
TZOFFSETTO:-0500
TZNAME:EST
DTSTART:20261101T060000
END:STANDARD
BEGIN:DAYLIGHT
TZOFFSETFROM:-0500
TZOFFSETTO:-0400
TZNAME:EDT
DTSTART:20270314T070000
END:DAYLIGHT
BEGIN:STANDARD
TZOFFSETFROM:-0400
TZOFFSETTO:-0500
TZNAME:EST
DTSTART:20271107T060000
END:STANDARD
END:VTIMEZONE
BEGIN:VEVENT
DTSTART;VALUE=DATE:20260405
DTEND;VALUE=DATE:20260406
DTSTAMP:20260419T085443
CREATED:20260221T185237Z
LAST-MODIFIED:20260221T185237Z
UID:10001353-1775347200-1775433599@utruthcenter.org
SUMMARY:Happy Easter from UTC in 2026!
DESCRIPTION:At UTC\, Jesus the Christ represents what’s known as Christ Consciousness—a beautiful state of divine connection\, unconditional love\, and awakened awareness. Easter reminds us that this isn’t something reserved for a few—it’s something we all have within us\, just waiting to be awakened. \nJOIN US!
URL:https://utruthcenter.org/event/happy-easter-from-utc-in-2026/
LOCATION:UTC\, 21310 NW 37th Avenue\, Miami Gardens\, FL\, 33056
CATEGORIES:Celebration,Worship
ATTACH;FMTTYPE=image/jpeg:https://utruthcenter.org/wp-content/uploads/2025/04/HAPPYEASTER-2025-UTC-CalArt.jpg
GEO:25.9696213;-80.2633696
X-APPLE-STRUCTURED-LOCATION;VALUE=URI;X-ADDRESS=UTC 21310 NW 37th Avenue Miami Gardens FL 33056;X-APPLE-RADIUS=500;X-TITLE=21310 NW 37th Avenue:geo:-80.2633696,25.9696213
END:VEVENT
BEGIN:VEVENT
DTSTART;TZID=America/New_York:20260405T100000
DTEND;TZID=America/New_York:20260405T123000
DTSTAMP:20260419T085443
CREATED:20260221T184633Z
LAST-MODIFIED:20260225T181531Z
UID:10001351-1775383200-1775392200@utruthcenter.org
SUMMARY:Restoring Harmony
DESCRIPTION:THEME: She Speaks: The Divine Feminine in Action\n\nLESSON TITLE:\nRestoring Harmony\n\nTEACHER: \n \nRev. Tawnicia Rowan\n\nRESPONSIVE READING: page 73 \n\nSCRIPTURE: \nEsther 4:14 \n\nColor: Yellow\nPower: Wisdom\nDisciple: James Son of Zebedee\nWomen of the Chalice: Salome\nPhysical Location: Pit of Stomach\nMinistry: Congregational Care
URL:https://utruthcenter.org/event/restoring-harmony/
LOCATION:UTC\, 21310 NW 37th Avenue\, Miami Gardens\, FL\, 33056
CATEGORIES:Events,Worship
ATTACH;FMTTYPE=image/jpeg:https://utruthcenter.org/wp-content/uploads/2026/02/FEB-APR-2026-UTC-CalArt.jpg
GEO:25.9696213;-80.2633696
X-APPLE-STRUCTURED-LOCATION;VALUE=URI;X-ADDRESS=UTC 21310 NW 37th Avenue Miami Gardens FL 33056;X-APPLE-RADIUS=500;X-TITLE=21310 NW 37th Avenue:geo:-80.2633696,25.9696213
END:VEVENT
END:VCALENDAR