BEGIN:VCALENDAR
VERSION:2.0
PRODID:-//Universal Truth Center - ECPv6.15.17//NONSGML v1.0//EN
CALSCALE:GREGORIAN
METHOD:PUBLISH
X-ORIGINAL-URL:https://utruthcenter.org
X-WR-CALDESC:Events for Universal Truth Center
REFRESH-INTERVAL;VALUE=DURATION:PT1H
X-Robots-Tag:noindex
X-PUBLISHED-TTL:PT1H
BEGIN:VTIMEZONE
TZID:America/New_York
BEGIN:DAYLIGHT
TZOFFSETFROM:-0500
TZOFFSETTO:-0400
TZNAME:EDT
DTSTART:20240310T070000
END:DAYLIGHT
BEGIN:STANDARD
TZOFFSETFROM:-0400
TZOFFSETTO:-0500
TZNAME:EST
DTSTART:20241103T060000
END:STANDARD
BEGIN:DAYLIGHT
TZOFFSETFROM:-0500
TZOFFSETTO:-0400
TZNAME:EDT
DTSTART:20250309T070000
END:DAYLIGHT
BEGIN:STANDARD
TZOFFSETFROM:-0400
TZOFFSETTO:-0500
TZNAME:EST
DTSTART:20251102T060000
END:STANDARD
BEGIN:DAYLIGHT
TZOFFSETFROM:-0500
TZOFFSETTO:-0400
TZNAME:EDT
DTSTART:20260308T070000
END:DAYLIGHT
BEGIN:STANDARD
TZOFFSETFROM:-0400
TZOFFSETTO:-0500
TZNAME:EST
DTSTART:20261101T060000
END:STANDARD
END:VTIMEZONE
BEGIN:VEVENT
DTSTART;TZID=America/New_York:20251109T100000
DTEND;TZID=America/New_York:20251109T123000
DTSTAMP:20260419T173509
CREATED:20251025T011638Z
LAST-MODIFIED:20251025T011638Z
UID:10001268-1762682400-1762691400@utruthcenter.org
SUMMARY:ANNIVERSARY/ GRADUATION SUNDAY
DESCRIPTION: Join us for UTC Anniversary/Graduation Sunday as we celebrate the achievements of our graduates and bless them on their next steps!\nWhether they are finishing high school\, college\, or advanced degrees\, this special service honors their hard work\, faith\, and dedication. Let’s come together as a church family to pray over their future\, and encourage and celebrate them. Bring your friends and family to this joyful moment filled with worship\, inspiration\, and community. Don’t miss this opportunity to uplift and empower the next generation! \n\nLESSON TITLE:\nWe Are Grateful for UTC & UFBL\n\nTEACHER: \n \nRev. Sheila McKeithen\n\nRESPONSIVE READING: page 35 \n\nSCRIPTURE: \n1 Chronicles 16:34 \n\nColor: Russet\nPower: Renunciation\nDisciple: Thaddeus\nWomen of the Chalice: Bathsheba\nPhysical Location: Eliminative Organs\nMinistry: Outreach
URL:https://utruthcenter.org/event/anniversary-graduation-sunday-3/
LOCATION:UTC\, 21310 NW 37th Avenue\, Miami Gardens\, FL\, 33056
CATEGORIES:Events,Worship
ATTACH;FMTTYPE=image/png:https://utruthcenter.org/wp-content/uploads/2021/10/UTC_graduation-CalArt.png
GEO:25.9696213;-80.2633696
X-APPLE-STRUCTURED-LOCATION;VALUE=URI;X-ADDRESS=UTC 21310 NW 37th Avenue Miami Gardens FL 33056;X-APPLE-RADIUS=500;X-TITLE=21310 NW 37th Avenue:geo:-80.2633696,25.9696213
END:VEVENT
END:VCALENDAR