BEGIN:VCALENDAR
VERSION:2.0
PRODID:-//Universal Truth Center - ECPv6.15.17//NONSGML v1.0//EN
CALSCALE:GREGORIAN
METHOD:PUBLISH
X-WR-CALNAME:Universal Truth Center
X-ORIGINAL-URL:https://utruthcenter.org
X-WR-CALDESC:Events for Universal Truth Center
REFRESH-INTERVAL;VALUE=DURATION:PT1H
X-Robots-Tag:noindex
X-PUBLISHED-TTL:PT1H
BEGIN:VTIMEZONE
TZID:America/New_York
BEGIN:DAYLIGHT
TZOFFSETFROM:-0500
TZOFFSETTO:-0400
TZNAME:EDT
DTSTART:20240310T070000
END:DAYLIGHT
BEGIN:STANDARD
TZOFFSETFROM:-0400
TZOFFSETTO:-0500
TZNAME:EST
DTSTART:20241103T060000
END:STANDARD
BEGIN:DAYLIGHT
TZOFFSETFROM:-0500
TZOFFSETTO:-0400
TZNAME:EDT
DTSTART:20250309T070000
END:DAYLIGHT
BEGIN:STANDARD
TZOFFSETFROM:-0400
TZOFFSETTO:-0500
TZNAME:EST
DTSTART:20251102T060000
END:STANDARD
BEGIN:DAYLIGHT
TZOFFSETFROM:-0500
TZOFFSETTO:-0400
TZNAME:EDT
DTSTART:20260308T070000
END:DAYLIGHT
BEGIN:STANDARD
TZOFFSETFROM:-0400
TZOFFSETTO:-0500
TZNAME:EST
DTSTART:20261101T060000
END:STANDARD
END:VTIMEZONE
BEGIN:VEVENT
DTSTART;TZID=America/New_York:20250608T100000
DTEND;TZID=America/New_York:20250608T123000
DTSTAMP:20260420T015814
CREATED:20250527T195427Z
LAST-MODIFIED:20250527T195427Z
UID:10001240-1749376800-1749385800@utruthcenter.org
SUMMARY:UFBL-It’s Our Time
DESCRIPTION:UFBL FOUNDER’S DAY\nTHEME: Imagine a World that Works for Everyone\n\nLESSON TITLE:\nUFBL – It’s Our Time\n\nTEACHER: \n \nRev. Tawnicia Rowan\n\nRESPONSIVE READING: \n  \n\nSCRIPTURE: \nEcclesiastes 3:1\n \n\nColor: Light Blue\nPower: Imagination\nDisciple: Bartholomew\nWomen of the Chalice: Anna\nPhysical Location: Between the Eyes\nMinistry: Youth
URL:https://utruthcenter.org/event/ufbl-its-our-time/
LOCATION:UTC\, 21310 NW 37th Avenue\, Miami Gardens\, FL\, 33056
CATEGORIES:Events,Worship
ATTACH;FMTTYPE=image/jpeg:https://utruthcenter.org/wp-content/uploads/2025/05/JUNE-2025-UTC-CalArt.jpg
GEO:25.9696213;-80.2633696
X-APPLE-STRUCTURED-LOCATION;VALUE=URI;X-ADDRESS=UTC 21310 NW 37th Avenue Miami Gardens FL 33056;X-APPLE-RADIUS=500;X-TITLE=21310 NW 37th Avenue:geo:-80.2633696,25.9696213
END:VEVENT
END:VCALENDAR