BEGIN:VCALENDAR
VERSION:2.0
PRODID:-//Universal Truth Center - ECPv6.15.17//NONSGML v1.0//EN
CALSCALE:GREGORIAN
METHOD:PUBLISH
X-WR-CALNAME:Universal Truth Center
X-ORIGINAL-URL:https://utruthcenter.org
X-WR-CALDESC:Events for Universal Truth Center
REFRESH-INTERVAL;VALUE=DURATION:PT1H
X-Robots-Tag:noindex
X-PUBLISHED-TTL:PT1H
BEGIN:VTIMEZONE
TZID:America/New_York
BEGIN:DAYLIGHT
TZOFFSETFROM:-0500
TZOFFSETTO:-0400
TZNAME:EDT
DTSTART:20240310T070000
END:DAYLIGHT
BEGIN:STANDARD
TZOFFSETFROM:-0400
TZOFFSETTO:-0500
TZNAME:EST
DTSTART:20241103T060000
END:STANDARD
BEGIN:DAYLIGHT
TZOFFSETFROM:-0500
TZOFFSETTO:-0400
TZNAME:EDT
DTSTART:20250309T070000
END:DAYLIGHT
BEGIN:STANDARD
TZOFFSETFROM:-0400
TZOFFSETTO:-0500
TZNAME:EST
DTSTART:20251102T060000
END:STANDARD
BEGIN:DAYLIGHT
TZOFFSETFROM:-0500
TZOFFSETTO:-0400
TZNAME:EDT
DTSTART:20260308T070000
END:DAYLIGHT
BEGIN:STANDARD
TZOFFSETFROM:-0400
TZOFFSETTO:-0500
TZNAME:EST
DTSTART:20261101T060000
END:STANDARD
END:VTIMEZONE
BEGIN:VEVENT
DTSTART;TZID=America/New_York:20251005T100000
DTEND;TZID=America/New_York:20251005T123000
DTSTAMP:20260419T172442
CREATED:20250901T174405Z
LAST-MODIFIED:20250901T174600Z
UID:10001263-1759658400-1759667400@utruthcenter.org
SUMMARY:Loving Service
DESCRIPTION:THEME: AIF 2025: Recover Your Soul: Live Your Best Life\n\nLESSON TITLE:\nLoving Service\n(Social Unfoldment)\n\nTEACHER: \n \nRev. Charles M. Taylor\n\nTEXT: Soul Recovery by Ester Nicholson \n Key 12 \n \n\nRESPONSIVE READING: TBA \n\nSCRIPTURE: \nMatthew 20:24-28 \n\nColor: Orange\nPower: Zeal\nDisciple: Simon\nWomen of the Chalice: Ruth\nPhysical Location: Medula\nMinistry: Stewardship
URL:https://utruthcenter.org/event/loving-service/
LOCATION:UTC\, 21310 NW 37th Avenue\, Miami Gardens\, FL\, 33056
CATEGORIES:Events,Worship
ATTACH;FMTTYPE=image/jpeg:https://utruthcenter.org/wp-content/uploads/2025/08/AIF-2025-SOCIAL-CalArt.jpg
GEO:25.9696213;-80.2633696
X-APPLE-STRUCTURED-LOCATION;VALUE=URI;X-ADDRESS=UTC 21310 NW 37th Avenue Miami Gardens FL 33056;X-APPLE-RADIUS=500;X-TITLE=21310 NW 37th Avenue:geo:-80.2633696,25.9696213
END:VEVENT
BEGIN:VEVENT
DTSTART;TZID=America/New_York:20251007T180000
DTEND;TZID=America/New_York:20251007T190000
DTSTAMP:20260419T172442
CREATED:20241229T144456Z
LAST-MODIFIED:20241229T144457Z
UID:10001204-1759860000-1759863600@utruthcenter.org
SUMMARY:UTC Tuesday Night Prayer Meeting
DESCRIPTION:Join us for a TUESDAY NIGHT PRAYER MEETING!\nEvery Tuesday from 6:00pm to 7:00pm \nThe dial-in number is: 267-930-4000 \nThe pin is: 533 150 819 \nBE THERE! \n 
URL:https://utruthcenter.org/event/utc-tuesday-night-prayer-meeting-3-2-2/2025-10-07/
LOCATION:THIS IS AN ONLINE ONLY WORSHIP EXPERIENCE.\, THIS IS AN ONLINE ONLY WORSHIP EXPERIENCE.\, FL\, 33056\, United States
CATEGORIES:Worship
ATTACH;FMTTYPE=image/jpeg:https://utruthcenter.org/wp-content/uploads/2022/12/UTC-TuesPrayerMTG-2023-CalArt.jpg
END:VEVENT
BEGIN:VEVENT
DTSTART;TZID=America/New_York:20251012T100000
DTEND;TZID=America/New_York:20251012T123000
DTSTAMP:20260419T172442
CREATED:20250901T175000Z
LAST-MODIFIED:20250901T175000Z
UID:10001264-1760263200-1760272200@utruthcenter.org
SUMMARY:Never Give Up
DESCRIPTION:THEME: AIF 2025: Recover Your Soul: Live Your Best Life\n\nLESSON TITLE:\nNever Give Up\n(Vocational Unfoldment)\n\nTEACHER: \n \nRev. Mitchell Walthour\n\nTEXT: Soul Recovery by Ester Nicholson \n Keys 6\, 7 \n \n\nRESPONSIVE READING: TBA \n\nSCRIPTURE: \nMatthew 25:14-30 \n\nColor: Orange\nPower: Zeal\nDisciple: Simon\nWomen of the Chalice: Ruth\nPhysical Location: Medula\nMinistry: Stewardship
URL:https://utruthcenter.org/event/never-give-up/
LOCATION:UTC\, 21310 NW 37th Avenue\, Miami Gardens\, FL\, 33056
CATEGORIES:Events,Worship
ATTACH;FMTTYPE=image/jpeg:https://utruthcenter.org/wp-content/uploads/2025/08/AIF-2025-VOCATIONAL-CalArt.jpg
GEO:25.9696213;-80.2633696
X-APPLE-STRUCTURED-LOCATION;VALUE=URI;X-ADDRESS=UTC 21310 NW 37th Avenue Miami Gardens FL 33056;X-APPLE-RADIUS=500;X-TITLE=21310 NW 37th Avenue:geo:-80.2633696,25.9696213
END:VEVENT
BEGIN:VEVENT
DTSTART;TZID=America/New_York:20251014T180000
DTEND;TZID=America/New_York:20251014T190000
DTSTAMP:20260419T172442
CREATED:20241229T144456Z
LAST-MODIFIED:20241229T144457Z
UID:10001205-1760464800-1760468400@utruthcenter.org
SUMMARY:UTC Tuesday Night Prayer Meeting
DESCRIPTION:Join us for a TUESDAY NIGHT PRAYER MEETING!\nEvery Tuesday from 6:00pm to 7:00pm \nThe dial-in number is: 267-930-4000 \nThe pin is: 533 150 819 \nBE THERE! \n 
URL:https://utruthcenter.org/event/utc-tuesday-night-prayer-meeting-3-2-2/2025-10-14/
LOCATION:THIS IS AN ONLINE ONLY WORSHIP EXPERIENCE.\, THIS IS AN ONLINE ONLY WORSHIP EXPERIENCE.\, FL\, 33056\, United States
CATEGORIES:Worship
ATTACH;FMTTYPE=image/jpeg:https://utruthcenter.org/wp-content/uploads/2022/12/UTC-TuesPrayerMTG-2023-CalArt.jpg
END:VEVENT
BEGIN:VEVENT
DTSTART;TZID=America/New_York:20251019T100000
DTEND;TZID=America/New_York:20251019T123000
DTSTAMP:20260419T172442
CREATED:20250901T175317Z
LAST-MODIFIED:20250901T175317Z
UID:10001265-1760868000-1760877000@utruthcenter.org
SUMMARY:Conscious Contact
DESCRIPTION:THEME: AIF 2025: Recover Your Soul: Live Your Best Life\n\nLESSON TITLE:\nConscious Contact\n(Financial Unfoldment)\n\nTEACHER: \n \nMyra Terrelonge\n\nTEXT: Soul Recovery by Ester Nicholson \n Key 11 \n \n\nRESPONSIVE READING: TBA \n\nSCRIPTURE: \nPsalm 23:1-3 \n\nColor: Orange\nPower: Zeal\nDisciple: Simon\nWomen of the Chalice: Ruth\nPhysical Location: Medula\nMinistry: Stewardship
URL:https://utruthcenter.org/event/conscious-contact/
LOCATION:UTC\, 21310 NW 37th Avenue\, Miami Gardens\, FL\, 33056
CATEGORIES:Events,Worship
ATTACH;FMTTYPE=image/jpeg:https://utruthcenter.org/wp-content/uploads/2025/08/AIF-2025-FINANCIAL-CalArt.jpg
GEO:25.9696213;-80.2633696
X-APPLE-STRUCTURED-LOCATION;VALUE=URI;X-ADDRESS=UTC 21310 NW 37th Avenue Miami Gardens FL 33056;X-APPLE-RADIUS=500;X-TITLE=21310 NW 37th Avenue:geo:-80.2633696,25.9696213
END:VEVENT
BEGIN:VEVENT
DTSTART;TZID=America/New_York:20251021T180000
DTEND;TZID=America/New_York:20251021T190000
DTSTAMP:20260419T172442
CREATED:20241229T144456Z
LAST-MODIFIED:20241229T144457Z
UID:10001206-1761069600-1761073200@utruthcenter.org
SUMMARY:UTC Tuesday Night Prayer Meeting
DESCRIPTION:Join us for a TUESDAY NIGHT PRAYER MEETING!\nEvery Tuesday from 6:00pm to 7:00pm \nThe dial-in number is: 267-930-4000 \nThe pin is: 533 150 819 \nBE THERE! \n 
URL:https://utruthcenter.org/event/utc-tuesday-night-prayer-meeting-3-2-2/2025-10-21/
LOCATION:THIS IS AN ONLINE ONLY WORSHIP EXPERIENCE.\, THIS IS AN ONLINE ONLY WORSHIP EXPERIENCE.\, FL\, 33056\, United States
CATEGORIES:Worship
ATTACH;FMTTYPE=image/jpeg:https://utruthcenter.org/wp-content/uploads/2022/12/UTC-TuesPrayerMTG-2023-CalArt.jpg
END:VEVENT
BEGIN:VEVENT
DTSTART;TZID=America/New_York:20251026T100000
DTEND;TZID=America/New_York:20251026T123000
DTSTAMP:20260419T172442
CREATED:20250901T181032Z
LAST-MODIFIED:20250901T181032Z
UID:10001266-1761472800-1761481800@utruthcenter.org
SUMMARY:Spiritual Maintenance
DESCRIPTION:THEME: AIF 2025: Recover Your Soul: Live Your Best Life\n\nLESSON TITLE:\nSpiritual Maintenance\nTithing Sunday\n\nTEACHER: \n \nRev. Tawnicia Rowan\n\nTEXT: Soul Recovery by Ester Nicholson \n Key 10 & Conclusion \n \n\nRESPONSIVE READING: TBA \n\nSCRIPTURE: \nLuke 6:38 \n\nColor: Orange\nPower: Zeal\nDisciple: Simon\nWomen of the Chalice: Ruth\nPhysical Location: Medula\nMinistry: Stewardship
URL:https://utruthcenter.org/event/spiritual-maintenance/
LOCATION:UTC\, 21310 NW 37th Avenue\, Miami Gardens\, FL\, 33056
CATEGORIES:Events,Worship
ATTACH;FMTTYPE=image/jpeg:https://utruthcenter.org/wp-content/uploads/2024/08/Tithing_Sunday-CalArt.jpg
GEO:25.9696213;-80.2633696
X-APPLE-STRUCTURED-LOCATION;VALUE=URI;X-ADDRESS=UTC 21310 NW 37th Avenue Miami Gardens FL 33056;X-APPLE-RADIUS=500;X-TITLE=21310 NW 37th Avenue:geo:-80.2633696,25.9696213
END:VEVENT
BEGIN:VEVENT
DTSTART;TZID=America/New_York:20251028T180000
DTEND;TZID=America/New_York:20251028T190000
DTSTAMP:20260419T172442
CREATED:20241229T144456Z
LAST-MODIFIED:20241229T144457Z
UID:10001207-1761674400-1761678000@utruthcenter.org
SUMMARY:UTC Tuesday Night Prayer Meeting
DESCRIPTION:Join us for a TUESDAY NIGHT PRAYER MEETING!\nEvery Tuesday from 6:00pm to 7:00pm \nThe dial-in number is: 267-930-4000 \nThe pin is: 533 150 819 \nBE THERE! \n 
URL:https://utruthcenter.org/event/utc-tuesday-night-prayer-meeting-3-2-2/2025-10-28/
LOCATION:THIS IS AN ONLINE ONLY WORSHIP EXPERIENCE.\, THIS IS AN ONLINE ONLY WORSHIP EXPERIENCE.\, FL\, 33056\, United States
CATEGORIES:Worship
ATTACH;FMTTYPE=image/jpeg:https://utruthcenter.org/wp-content/uploads/2022/12/UTC-TuesPrayerMTG-2023-CalArt.jpg
END:VEVENT
END:VCALENDAR