BEGIN:VCALENDAR
VERSION:2.0
PRODID:-//Universal Truth Center - ECPv6.15.17//NONSGML v1.0//EN
CALSCALE:GREGORIAN
METHOD:PUBLISH
X-WR-CALNAME:Universal Truth Center
X-ORIGINAL-URL:https://utruthcenter.org
X-WR-CALDESC:Events for Universal Truth Center
REFRESH-INTERVAL;VALUE=DURATION:PT1H
X-Robots-Tag:noindex
X-PUBLISHED-TTL:PT1H
BEGIN:VTIMEZONE
TZID:America/New_York
BEGIN:DAYLIGHT
TZOFFSETFROM:-0500
TZOFFSETTO:-0400
TZNAME:EDT
DTSTART:20240310T070000
END:DAYLIGHT
BEGIN:STANDARD
TZOFFSETFROM:-0400
TZOFFSETTO:-0500
TZNAME:EST
DTSTART:20241103T060000
END:STANDARD
BEGIN:DAYLIGHT
TZOFFSETFROM:-0500
TZOFFSETTO:-0400
TZNAME:EDT
DTSTART:20250309T070000
END:DAYLIGHT
BEGIN:STANDARD
TZOFFSETFROM:-0400
TZOFFSETTO:-0500
TZNAME:EST
DTSTART:20251102T060000
END:STANDARD
BEGIN:DAYLIGHT
TZOFFSETFROM:-0500
TZOFFSETTO:-0400
TZNAME:EDT
DTSTART:20260308T070000
END:DAYLIGHT
BEGIN:STANDARD
TZOFFSETFROM:-0400
TZOFFSETTO:-0500
TZNAME:EST
DTSTART:20261101T060000
END:STANDARD
END:VTIMEZONE
BEGIN:VEVENT
DTSTART;TZID=America/New_York:20250803T100000
DTEND;TZID=America/New_York:20250803T123000
DTSTAMP:20260419T204758
CREATED:20250715T005902Z
LAST-MODIFIED:20250715T005902Z
UID:10001253-1754215200-1754224200@utruthcenter.org
SUMMARY:God Does Not Fulfill Needs
DESCRIPTION:THEME: Come Alive: Living a Prosperous Life\n\nLESSON TITLE:\nGod Does Not Fulfill Needs\n\nTEACHER: \n \nRev. Shakira Taylor\n\nTEXT: Even Mystics Have Bills to Pay by: Jim Rosemergy \nIntroduction: Section 1\, Chapter 1 \n \n\nRESPONSIVE READING: TBA \n\nSCRIPTURE: \nMatthew 6:33 \n\nColor: Grey\nPower: Will\nDisciple: Matthew\nWomen of the Chalice: Martha\nPhysical Location: Center of Brain\nMinistry: Media
URL:https://utruthcenter.org/event/god-does-not-fulfill-needs/
LOCATION:UTC\, 21310 NW 37th Avenue\, Miami Gardens\, FL\, 33056
CATEGORIES:Events,Worship
ATTACH;FMTTYPE=image/jpeg:https://utruthcenter.org/wp-content/uploads/2025/07/AUG-2025-UTC-CalArt.jpg
GEO:25.9696213;-80.2633696
X-APPLE-STRUCTURED-LOCATION;VALUE=URI;X-ADDRESS=UTC 21310 NW 37th Avenue Miami Gardens FL 33056;X-APPLE-RADIUS=500;X-TITLE=21310 NW 37th Avenue:geo:-80.2633696,25.9696213
END:VEVENT
BEGIN:VEVENT
DTSTART;TZID=America/New_York:20250805T180000
DTEND;TZID=America/New_York:20250805T190000
DTSTAMP:20260419T204758
CREATED:20241229T144456Z
LAST-MODIFIED:20241229T144457Z
UID:10001195-1754416800-1754420400@utruthcenter.org
SUMMARY:UTC Tuesday Night Prayer Meeting
DESCRIPTION:Join us for a TUESDAY NIGHT PRAYER MEETING!\nEvery Tuesday from 6:00pm to 7:00pm \nThe dial-in number is: 267-930-4000 \nThe pin is: 533 150 819 \nBE THERE! \n 
URL:https://utruthcenter.org/event/utc-tuesday-night-prayer-meeting-3-2-2/2025-08-05/
LOCATION:THIS IS AN ONLINE ONLY WORSHIP EXPERIENCE.\, THIS IS AN ONLINE ONLY WORSHIP EXPERIENCE.\, FL\, 33056\, United States
CATEGORIES:Worship
ATTACH;FMTTYPE=image/jpeg:https://utruthcenter.org/wp-content/uploads/2022/12/UTC-TuesPrayerMTG-2023-CalArt.jpg
END:VEVENT
BEGIN:VEVENT
DTSTART;TZID=America/New_York:20250810T100000
DTEND;TZID=America/New_York:20250810T123000
DTSTAMP:20260419T204758
CREATED:20250715T010202Z
LAST-MODIFIED:20250715T010202Z
UID:10001254-1754820000-1754829000@utruthcenter.org
SUMMARY:Knowing What to Ask For
DESCRIPTION:THEME: Come Alive: Living a Prosperous Life\n\nLESSON TITLE:\nKnowing What to Ask For\n\nTEACHER: \n \nRev. Tawnicia Rowan\n\nTEXT: Even Mystics Have Bills to Pay by: Jim Rosemergy \nChapters 2&3 \n \n\nRESPONSIVE READING: TBA \n\nSCRIPTURE: \nMatthew 7:7 and Matthew 10:11-14 \n\nColor: Grey\nPower: Will\nDisciple: Matthew\nWomen of the Chalice: Martha\nPhysical Location: Center of Brain\nMinistry: Media
URL:https://utruthcenter.org/event/knowing-what-to-ask-for/
LOCATION:UTC\, 21310 NW 37th Avenue\, Miami Gardens\, FL\, 33056
CATEGORIES:Events,Worship
ATTACH;FMTTYPE=image/jpeg:https://utruthcenter.org/wp-content/uploads/2025/07/AUG-2025-UTC-CalArt.jpg
GEO:25.9696213;-80.2633696
X-APPLE-STRUCTURED-LOCATION;VALUE=URI;X-ADDRESS=UTC 21310 NW 37th Avenue Miami Gardens FL 33056;X-APPLE-RADIUS=500;X-TITLE=21310 NW 37th Avenue:geo:-80.2633696,25.9696213
END:VEVENT
BEGIN:VEVENT
DTSTART;TZID=America/New_York:20250812T180000
DTEND;TZID=America/New_York:20250812T190000
DTSTAMP:20260419T204758
CREATED:20241229T144456Z
LAST-MODIFIED:20241229T144457Z
UID:10001196-1755021600-1755025200@utruthcenter.org
SUMMARY:UTC Tuesday Night Prayer Meeting
DESCRIPTION:Join us for a TUESDAY NIGHT PRAYER MEETING!\nEvery Tuesday from 6:00pm to 7:00pm \nThe dial-in number is: 267-930-4000 \nThe pin is: 533 150 819 \nBE THERE! \n 
URL:https://utruthcenter.org/event/utc-tuesday-night-prayer-meeting-3-2-2/2025-08-12/
LOCATION:THIS IS AN ONLINE ONLY WORSHIP EXPERIENCE.\, THIS IS AN ONLINE ONLY WORSHIP EXPERIENCE.\, FL\, 33056\, United States
CATEGORIES:Worship
ATTACH;FMTTYPE=image/jpeg:https://utruthcenter.org/wp-content/uploads/2022/12/UTC-TuesPrayerMTG-2023-CalArt.jpg
END:VEVENT
BEGIN:VEVENT
DTSTART;TZID=America/New_York:20250817T100000
DTEND;TZID=America/New_York:20250817T123000
DTSTAMP:20260419T204758
CREATED:20250715T010537Z
LAST-MODIFIED:20250715T010537Z
UID:10001255-1755424800-1755433800@utruthcenter.org
SUMMARY:Are You Willing to Prosper?
DESCRIPTION:THEME: Come Alive: Living a Prosperous Life\n\nLESSON TITLE:\nAre You Willing to Prosper?\n\nTEACHER: \n \nRev. Mitchell Walthour\n\nTEXT: Even Mystics Have Bills to Pay by Jim Rosemergy \nChapter 4 \n \n\nRESPONSIVE READING: TBA \n\nSCRIPTURE: \n2 Kings 4:1-7 \n\nColor: Grey\nPower: Will\nDisciple: Matthew\nWomen of the Chalice: Martha\nPhysical Location: Center of Brain\nMinistry: Media
URL:https://utruthcenter.org/event/are-you-willing-to-prosper/
LOCATION:UTC\, 21310 NW 37th Avenue\, Miami Gardens\, FL\, 33056
CATEGORIES:Events,Worship
ATTACH;FMTTYPE=image/jpeg:https://utruthcenter.org/wp-content/uploads/2025/07/AUG-2025-UTC-CalArt.jpg
GEO:25.9696213;-80.2633696
X-APPLE-STRUCTURED-LOCATION;VALUE=URI;X-ADDRESS=UTC 21310 NW 37th Avenue Miami Gardens FL 33056;X-APPLE-RADIUS=500;X-TITLE=21310 NW 37th Avenue:geo:-80.2633696,25.9696213
END:VEVENT
BEGIN:VEVENT
DTSTART;TZID=America/New_York:20250819T180000
DTEND;TZID=America/New_York:20250819T190000
DTSTAMP:20260419T204758
CREATED:20241229T144456Z
LAST-MODIFIED:20241229T144457Z
UID:10001197-1755626400-1755630000@utruthcenter.org
SUMMARY:UTC Tuesday Night Prayer Meeting
DESCRIPTION:Join us for a TUESDAY NIGHT PRAYER MEETING!\nEvery Tuesday from 6:00pm to 7:00pm \nThe dial-in number is: 267-930-4000 \nThe pin is: 533 150 819 \nBE THERE! \n 
URL:https://utruthcenter.org/event/utc-tuesday-night-prayer-meeting-3-2-2/2025-08-19/
LOCATION:THIS IS AN ONLINE ONLY WORSHIP EXPERIENCE.\, THIS IS AN ONLINE ONLY WORSHIP EXPERIENCE.\, FL\, 33056\, United States
CATEGORIES:Worship
ATTACH;FMTTYPE=image/jpeg:https://utruthcenter.org/wp-content/uploads/2022/12/UTC-TuesPrayerMTG-2023-CalArt.jpg
END:VEVENT
BEGIN:VEVENT
DTSTART;TZID=America/New_York:20250824T100000
DTEND;TZID=America/New_York:20250824T123000
DTSTAMP:20260419T204758
CREATED:20250715T042122Z
LAST-MODIFIED:20250715T042122Z
UID:10001256-1756029600-1756038600@utruthcenter.org
SUMMARY:Thanksliving Your Way to Thanksgiving
DESCRIPTION:THEME: Come Alive: Living a Prosperous Life\n\nLESSON TITLE:\nThanksliving Your Way to Thanksgiving\n\nTEACHER: \n \nRev. Michelle Washington\n\nTEXT: Even Mystics Have Bills to Pay by Jim Rosemergy \nChapters 5&6 \n \n\nRESPONSIVE READING: TBA \n\nSCRIPTURE: \nPsalm 23:1 and Malachi 3:10 \n\nColor: Grey\nPower: Will\nDisciple: Matthew\nWomen of the Chalice: Martha\nPhysical Location: Center of Brain\nMinistry: Media
URL:https://utruthcenter.org/event/thanksliving-your-way-to-thanksgiving/
LOCATION:UTC\, 21310 NW 37th Avenue\, Miami Gardens\, FL\, 33056
CATEGORIES:Events,Worship
ATTACH;FMTTYPE=image/jpeg:https://utruthcenter.org/wp-content/uploads/2025/07/AUG-2025-UTC-CalArt.jpg
GEO:25.9696213;-80.2633696
X-APPLE-STRUCTURED-LOCATION;VALUE=URI;X-ADDRESS=UTC 21310 NW 37th Avenue Miami Gardens FL 33056;X-APPLE-RADIUS=500;X-TITLE=21310 NW 37th Avenue:geo:-80.2633696,25.9696213
END:VEVENT
BEGIN:VEVENT
DTSTART;TZID=America/New_York:20250826T180000
DTEND;TZID=America/New_York:20250826T190000
DTSTAMP:20260419T204758
CREATED:20241229T144456Z
LAST-MODIFIED:20241229T144457Z
UID:10001198-1756231200-1756234800@utruthcenter.org
SUMMARY:UTC Tuesday Night Prayer Meeting
DESCRIPTION:Join us for a TUESDAY NIGHT PRAYER MEETING!\nEvery Tuesday from 6:00pm to 7:00pm \nThe dial-in number is: 267-930-4000 \nThe pin is: 533 150 819 \nBE THERE! \n 
URL:https://utruthcenter.org/event/utc-tuesday-night-prayer-meeting-3-2-2/2025-08-26/
LOCATION:THIS IS AN ONLINE ONLY WORSHIP EXPERIENCE.\, THIS IS AN ONLINE ONLY WORSHIP EXPERIENCE.\, FL\, 33056\, United States
CATEGORIES:Worship
ATTACH;FMTTYPE=image/jpeg:https://utruthcenter.org/wp-content/uploads/2022/12/UTC-TuesPrayerMTG-2023-CalArt.jpg
END:VEVENT
BEGIN:VEVENT
DTSTART;TZID=America/New_York:20250831T100000
DTEND;TZID=America/New_York:20250831T123000
DTSTAMP:20260419T204758
CREATED:20250828T145054Z
LAST-MODIFIED:20250828T145054Z
UID:10001258-1756634400-1756643400@utruthcenter.org
SUMMARY:Soul Living: Your Path to Your Best Life
DESCRIPTION:THEME: AIF 2025: Recover Your Soul: Live Your Best Life\n\nLESSON TITLE:\nSoul Living: Your Path to Your Best Life\n\nTEACHER: \n \nRev. Charles M. Taylor\n\nTEXT: Soul Recovery by Ester Nicholson \n Preface\, Forward\, Introduction\, Soul Recovery Through Metaphysics  \n \n\nRESPONSIVE READING: TBA \n\nSCRIPTURE: \nLuke 9:62 \n\nColor: Grey\nPower: Will\nDisciple: Matthew\nWomen of the Chalice: Martha\nPhysical Location: Center of Brain\nMinistry: Media
URL:https://utruthcenter.org/event/soul-living-your-path-to-your-best-life/
LOCATION:UTC\, 21310 NW 37th Avenue\, Miami Gardens\, FL\, 33056
CATEGORIES:Events,Worship
ATTACH;FMTTYPE=image/jpeg:https://utruthcenter.org/wp-content/uploads/2025/08/AIF-2025-UTC-CalArt.jpg
GEO:25.9696213;-80.2633696
X-APPLE-STRUCTURED-LOCATION;VALUE=URI;X-ADDRESS=UTC 21310 NW 37th Avenue Miami Gardens FL 33056;X-APPLE-RADIUS=500;X-TITLE=21310 NW 37th Avenue:geo:-80.2633696,25.9696213
END:VEVENT
END:VCALENDAR